Workbook

Sheet Suvestinė
B1: 2023
B2: Rodiklis | C2: Reikšmė
B3: Premjerų skaičius | C3: 272
B4: Lietuviškų filmų premjerų skaičius | C4: 33
B5: Bendras filmų skaičius | C5: 402
B6: Bendros pajamos | C6: 21473832
B7: Bendras žiūrovų skaičius | C7: 3449356
B9: Filmų dalis rinkoje, %
B10: Kategorija | C10: Pajamos | D10: Žiūrovų skaičius | E10: Pajamos % | F10: Žiūrovų skaičius % | G10: Filmų skaičius
B11: Lietuva | C11: 3282258.2 | D11: 513442 | E11: 15.285 | F11: 14.885 | G11: 47
B12: Europa | C12: 2349874 | D12: 462981 | E12: 10.943 | F12: 13.422 | G12: 185
B13: JAV | C13: 14660001 | D13: 2270255 | E13: 68.269 | F13: 65.817 | G13: 139
B14: Kita | C14: 1181698.4 | D14: 202678 | E14: 5.503 | F14: 5.876 | G14: 31
B15: Total | C15: =SUBTOTAL(109,Table1[Pajamos]) -> 21473832 | D15: =SUBTOTAL(109,Table1[Žiūrovų skaičius]) -> 3449356 | E15: =SUBTOTAL(109,Table1[Pajamos %]) -> 100 | F15: =SUBTOTAL(109,Table1[Žiūrovų skaičius %]) -> 100 | G15: =SUBTOTAL(109,Table1[Filmų skaičius]) -> 402
B46: Pasiskirstymas pagal platintojus
A47: Eil. nr | B47: Platintojas | C47: Pajamos | D47: Žiūrovų skaičius | E47: Filmų skaičius | F47: Pajamos % | G47: Žiūrovų skaičius %
A48: =IF(B48<>"",ROWS($B$48:B48),"") -> 1 | B48: Dukine Film Distribution / Universal Pictures International | C48: 4360589 | D48: 715768 | E48: 19 | F48: =_xlfn.PERCENTOF(Table18[[#This Row],[Pajamos]],Table18[[#Totals],[Pajamos]]) -> 0.20306525 | G48: =_xlfn.PERCENTOF(Table18[[#This Row],[Žiūrovų skaičius]],Table18[[#Totals],[Žiūrovų skaičius]]) -> 0.20750772
A49: =IF(B49<>"",ROWS($B$48:B49),"") -> 2 | B49: Theatrical Film Distribution / WDSMPI | C49: 3350459.9 | D49: 506427 | E49: 18 | F49: =_xlfn.PERCENTOF(Table18[[#This Row],[Pajamos]],Table18[[#Totals],[Pajamos]]) -> 0.15602524 | G49: =_xlfn.PERCENTOF(Table18[[#This Row],[Žiūrovų skaičius]],Table18[[#Totals],[Žiūrovų skaičius]]) -> 0.14681784
A50: =IF(B50<>"",ROWS($B$48:B50),"") -> 3 | B50: ACME Film / WB | C50: 2866658.6 | D50: 453094 | E50: 18 | F50: =_xlfn.PERCENTOF(Table18[[#This Row],[Pajamos]],Table18[[#Totals],[Pajamos]]) -> 0.13349544 | G50: =_xlfn.PERCENTOF(Table18[[#This Row],[Žiūrovų skaičius]],Table18[[#Totals],[Žiūrovų skaičius]]) -> 0.13135611
A51: =IF(B51<>"",ROWS($B$48:B51),"") -> 4 | B51: ACME Film | C51: 2363469.7 | D51: 385108 | E51: 44 | F51: =_xlfn.PERCENTOF(Table18[[#This Row],[Pajamos]],Table18[[#Totals],[Pajamos]]) -> 0.11006278 | G51: =_xlfn.PERCENTOF(Table18[[#This Row],[Žiūrovų skaičius]],Table18[[#Totals],[Žiūrovų skaičius]]) -> 0.11164635
A52: =IF(B52<>"",ROWS($B$48:B52),"") -> 5 | B52: ACME Film / SONY | C52: 1910678.2 | D52: 288287 | E52: 18 | F52: =_xlfn.PERCENTOF(Table18[[#This Row],[Pajamos]],Table18[[#Totals],[Pajamos]]) -> 0.088977047 | G52: =_xlfn.PERCENTOF(Table18[[#This Row],[Žiūrovų skaičius]],Table18[[#Totals],[Žiūrovų skaičius]]) -> 0.08357705
A53: =IF(B53<>"",ROWS($B$48:B53),"") -> 6 | B53: Dukine Film Distribution / Paramount Pictures | C53: 1284431.2 | D53: 206407 | E53: 11 | F53: =_xlfn.PERCENTOF(Table18[[#This Row],[Pajamos]],Table18[[#Totals],[Pajamos]]) -> 0.059813786 | G53: =_xlfn.PERCENTOF(Table18[[#This Row],[Žiūrovų skaičius]],Table18[[#Totals],[Žiūrovų skaičius]]) -> 0.059839286
A54: =IF(B54<>"",ROWS($B$48:B54),"") -> 7 | B54: Stambus planas | C54: 1010087.5 | D54: 150491 | E54: 2 | F54: =_xlfn.PERCENTOF(Table18[[#This Row],[Pajamos]],Table18[[#Totals],[Pajamos]]) -> 0.047038063 | G54: =_xlfn.PERCENTOF(Table18[[#This Row],[Žiūrovų skaičius]],Table18[[#Totals],[Žiūrovų skaičius]]) -> 0.043628724
A55: =IF(B55<>"",ROWS($B$48:B55),"") -> 8 | B55: Garsų pasaulio įrašai | C55: 595021 | D55: 108192 | E55: 25 | F55: =_xlfn.PERCENTOF(Table18[[#This Row],[Pajamos]],Table18[[#Totals],[Pajamos]]) -> 0.02770912 | G55: =_xlfn.PERCENTOF(Table18[[#This Row],[Žiūrovų skaičius]],Table18[[#Totals],[Žiūrovų skaičius]]) -> 0.031365855
A56: =IF(B56<>"",ROWS($B$48:B56),"") -> 9 | B56: Adastra Cinema | C56: 584766.07 | D56: 111981 | E56: 15 | F56: =_xlfn.PERCENTOF(Table18[[#This Row],[Pajamos]],Table18[[#Totals],[Pajamos]]) -> 0.027231566 | G56: =_xlfn.PERCENTOF(Table18[[#This Row],[Žiūrovų skaičius]],Table18[[#Totals],[Žiūrovų skaičius]]) -> 0.032464321
A57: =IF(B57<>"",ROWS($B$48:B57),"") -> 10 | B57: Europos kinas | C57: 575878.72 | D57: 92125 | E57: 50 | F57: =_xlfn.PERCENTOF(Table18[[#This Row],[Pajamos]],Table18[[#Totals],[Pajamos]]) -> 0.026817697 | G57: =_xlfn.PERCENTOF(Table18[[#This Row],[Žiūrovų skaičius]],Table18[[#Totals],[Žiūrovų skaičius]]) -> 0.026707884
A58: =IF(B58<>"",ROWS($B$48:B58),"") -> 11 | B58: Vabalo filmai | C58: 380954 | D58: 50342 | E58: 1 | F58: =_xlfn.PERCENTOF(Table18[[#This Row],[Pajamos]],Table18[[#Totals],[Pajamos]]) -> 0.017740383 | G58: =_xlfn.PERCENTOF(Table18[[#This Row],[Žiūrovų skaičius]],Table18[[#Totals],[Žiūrovų skaičius]]) -> 0.014594608
A59: =IF(B59<>"",ROWS($B$48:B59),"") -> 12 | B59: Theatrical Film Distribution | C59: 312683.61 | D59: 50269 | E59: 19 | F59: =_xlfn.PERCENTOF(Table18[[#This Row],[Pajamos]],Table18[[#Totals],[Pajamos]]) -> 0.014561146 | G59: =_xlfn.PERCENTOF(Table18[[#This Row],[Žiūrovų skaičius]],Table18[[#Totals],[Žiūrovų skaičius]]) -> 0.014573445
... A94: =IF(B94<>"",ROWS($B$48:B94),"") -> 47 | B94: Studio Nominum | C94: 129 | D94: 29 | E94: 1 | F94: =_xlfn.PERCENTOF(Table18[[#This Row],[Pajamos]],Table18[[#Totals],[Pajamos]]) -> 6.0073116e-06 | G94: =_xlfn.PERCENTOF(Table18[[#This Row],[Žiūrovų skaičius]],Table18[[#Totals],[Žiūrovų skaičius]]) -> 8.4073665e-06
A95: Total | C95: =SUBTOTAL(109,Table18[Pajamos]) -> 21473832 | D95: =SUBTOTAL(109,Table18[Žiūrovų skaičius]) -> 3449356 | E95: =SUBTOTAL(109,Table18[Filmų skaičius]) -> 402 | F95: =SUBTOTAL(109,Table18[Pajamos %]) -> 1 | G95: =SUBTOTAL(109,Table18[Žiūrovų skaičius %]) -> 1
A98: LT TOP
A99: Eil. Nr. | B99: Filmo pavadinimas | C99: Pajamos | D99: Žiūrovų skaičius | E99: Premjeros data | F99: Platintojas
A100: 1 | B100: ReEmigrantai | C100: 770657.85 | D100: 116667 | E100: 44925 | F100: Stambus planas
A101: 2 | B101: Milijonieriaus palikimas | C101: 380954 | D101: 50342 | E101: 45289 | F101: Vabalo filmai
A102: 3 | B102: Poetas | C102: 284208.19 | D102: 48145 | E102: 44974 | F102: ACME Film
A103: 4 | B103: Vyrų svajonės | C103: 252219.08 | D103: 38279 | E103: 44960 | F103: Dublis LT
A104: 5 | B104: Kakė Makė: mano filmas | C104: 249578.61 | D104: 49794 | E104: 45037 | F104: Nj world
A105: 6 | B105: Paradas | C105: 243406.33 | D105: 38122 | E105: 44988 | F105: Po mokyklos
A106: 7 | B106: Aš gyvas | C106: 239429.62 | D106: 33824 | E106: 45198 | F106: Stambus planas
A107: 8 | B107: Tu man nieko neprimeni | C107: 205284.34 | D107: 31716 | E107: 45191 | F107: Europos kinas
A108: 9 | B108: Šeima | C108: 201237 | D108: 30078 | E108: 45233 | F108: All screens
A109: 10 | B109: Laikinai Jūsų | C109: 82742 | D109: 12560 | E109: 45254 | F109: Singing fish

Sheet Platintojų pasiskirstymas
A1: Platintojas | B1: Filmo pavadinimas | C1: Pajamos | D1: Žiūrovų skaičius | E1: Pajamos % | F1: Žiūrovų skaičius % | G1: Premjeros data
A2: Dukine Film Distribution / Universal Pictures International | B2: Openheimeris (Oppenheimer) | C2: 1097581.1 | D2: 154454 | E2: =_xlfn.PERCENTOF(C2,_2023[[#Totals],[Pajamos]]) -> 0.051112494 | F2: =_xlfn.PERCENTOF(D2,_2023[[#Totals],[Žiūrovų skaičius]]) -> 0.044777634 | G2: 45128
B3: Batuotas katinas Pūkis: paskutinis noras (Puss in Boots: The Last Wish) | C3: 736040.11 | D3: 135716 | E3: =_xlfn.PERCENTOF(C3,_2023[[#Totals],[Pajamos]]) -> 0.034276142 | F3: =_xlfn.PERCENTOF(D3,_2023[[#Totals],[Žiūrovų skaičius]]) -> 0.039345315 | G3: 44916
B4: Broliai Super Mario. Filmas (Super Mario Bros.) | C4: 589367.38 | D4: 108584 | E4: =_xlfn.PERCENTOF(C4,_2023[[#Totals],[Pajamos]]) -> 0.027445841 | F4: =_xlfn.PERCENTOF(D4,_2023[[#Totals],[Žiūrovų skaičius]]) -> 0.031479499 | G4: 45023
B5: Troliai 3 (Trolls Band Together) | C5: 496382.79 | D5: 90012 | E5: =_xlfn.PERCENTOF(C5,_2023[[#Totals],[Pajamos]]) -> 0.023115706 | F5: =_xlfn.PERCENTOF(D5,_2023[[#Totals],[Žiūrovų skaičius]]) -> 0.026095306 | G5: 45212
B6: Penkios naktys pas Fredį (Five Nights at Freddy's) | C6: 418075.41 | D6: 62974 | E6: =_xlfn.PERCENTOF(C6,_2023[[#Totals],[Pajamos]]) -> 0.019469064 | F6: =_xlfn.PERCENTOF(D6,_2023[[#Totals],[Žiūrovų skaičius]]) -> 0.018256741 | G6: 45226
B7: Greiti ir įsiutę 10 (Fast & Furious 10) | C7: 345634.42 | D7: 48283 | E7: =_xlfn.PERCENTOF(C7,_2023[[#Totals],[Pajamos]]) -> 0.01609561 | F7: =_xlfn.PERCENTOF(D7,_2023[[#Totals],[Žiūrovų skaičius]]) -> 0.013997685 | G7: 45065
B8: Didžioji ančių kelionė (Migration) | C8: 229679.16 | D8: 40360 | E8: =_xlfn.PERCENTOF(C8,_2023[[#Totals],[Pajamos]]) -> 0.01069577 | F8: =_xlfn.PERCENTOF(D8,_2023[[#Totals],[Žiūrovų skaičius]]) -> 0.011700735 | G8: 45282
B9: Egzorcistas: tikintysis (Exorcist: The Believer) | C9: 130466.86 | D9: 19202 | E9: =_xlfn.PERCENTOF(C9,_2023[[#Totals],[Pajamos]]) -> 0.0060756207 | F9: =_xlfn.PERCENTOF(D9,_2023[[#Totals],[Žiūrovų skaičius]]) -> 0.0055668362 | G9: 45205
B10: Jūrų pabaisa. Rubė Gilman (Ruby Gillman, Teenage Kraken) | C10: 95159.04 | D10: 20407 | E10: =_xlfn.PERCENTOF(C10,_2023[[#Totals],[Pajamos]]) -> 0.0044313954 | F10: =_xlfn.PERCENTOF(D10,_2023[[#Totals],[Žiūrovų skaičius]]) -> 0.0059161768 | G10: 45107
B11: M3gan (M3gan) | C11: 70291.85 | D11: 11174 | E11: =_xlfn.PERCENTOF(C11,_2023[[#Totals],[Pajamos]]) -> 0.0032733724 | F11: =_xlfn.PERCENTOF(D11,_2023[[#Totals],[Žiūrovų skaičius]]) -> 0.0032394453 | G11: 44939
B12: Asteroidų miestas (Asteroid City) | C12: 59174.18 | D12: 9605 | E12: =_xlfn.PERCENTOF(C12,_2023[[#Totals],[Pajamos]]) -> 0.0027556414 | F12: =_xlfn.PERCENTOF(D12,_2023[[#Totals],[Žiūrovų skaičius]]) -> 0.0027845778 | G12: 45086
B13: Kokaino lokys (Cocaine Bear) | C13: 38417.17 | D13: 5285 | E13: =_xlfn.PERCENTOF(C13,_2023[[#Totals],[Pajamos]]) -> 0.0017890226 | F13: =_xlfn.PERCENTOF(D13,_2023[[#Totals],[Žiūrovų skaičius]]) -> 0.0015321701 | G13: 44981
B14: Beldimas į trobelę (Knock at The Cabin) | C14: 18521.71 | D14: 2785 | E14: =_xlfn.PERCENTOF(C14,_2023[[#Totals],[Pajamos]]) -> 0.00086252467 | F14: =_xlfn.PERCENTOF(D14,_2023[[#Totals],[Žiūrovų skaičius]]) -> 0.00080739709 | G14: 44960
... B20: Bilietas į rojų (Ticket To Paradise) | C20: 397.5 | D20: 60 | E20: =_xlfn.PERCENTOF(C20,_2023[[#Totals],[Pajamos]]) -> 1.8510902e-05 | F20: =_xlfn.PERCENTOF(D20,_2023[[#Totals],[Žiūrovų skaičius]]) -> 1.7394551e-05 | G20: 44820
A21: Dukine Film Distribution / Universal Pictures International Total | B21: =COUNTA(B2:B20) -> 19 | C21: 4360589 | D21: 715768 | E21: =_xlfn.PERCENTOF(C21,_2023[[#Totals],[Pajamos]]) -> 0.20306525 | F21: =_xlfn.PERCENTOF(D21,_2023[[#Totals],[Žiūrovų skaičius]]) -> 0.20750772
A22: Theatrical Film Distribution / WDSMPI | B22: Įsikūnijimas. Vandens kelias (Avatar: The Way of Water) | C22: 1483460.1 | D22: 192417 | E22: =_xlfn.PERCENTOF(C22,_2023[[#Totals],[Pajamos]]) -> 0.069082225 | F22: =_xlfn.PERCENTOF(D22,_2023[[#Totals],[Žiūrovų skaičius]]) -> 0.055783456 | G22: 44911
B23: Stichijos (Elemental) | C23: 522025.99 | D23: 102722 | E23: =_xlfn.PERCENTOF(C23,_2023[[#Totals],[Pajamos]]) -> 0.024309866 | F23: =_xlfn.PERCENTOF(D23,_2023[[#Totals],[Žiūrovų skaičius]]) -> 0.029780052 | G23: 45093
B24: Galaktikos sergėtojai. III dalis (Guardians of the Galaxy Vol. 3) | C24: 289863.83 | D24: 41258 | E24: =_xlfn.PERCENTOF(C24,_2023[[#Totals],[Pajamos]]) -> 0.013498468 | F24: =_xlfn.PERCENTOF(D24,_2023[[#Totals],[Žiūrovų skaičius]]) -> 0.011961073 | G24: 45051
B25: Noras (Wish) | C25: 218791.98 | D25: 41732 | E25: =_xlfn.PERCENTOF(C25,_2023[[#Totals],[Pajamos]]) -> 0.010188772 | F25: =_xlfn.PERCENTOF(D25,_2023[[#Totals],[Žiūrovų skaičius]]) -> 0.01209849 | G25: 45254
B26: Skruzdėliukas ir Vapsva. Kvantomanija (Ant-Man and the Wasp: Quantumania) | C26: 138551.31 | D26: 18918 | E26: =_xlfn.PERCENTOF(C26,_2023[[#Totals],[Pajamos]]) -> 0.0064520999 | F26: =_xlfn.PERCENTOF(D26,_2023[[#Totals],[Žiūrovų skaičius]]) -> 0.005484502 | G26: 44974
B27: Kūrėjas (The Creator) | C27: 131393.69 | D27: 19394 | E27: =_xlfn.PERCENTOF(C27,_2023[[#Totals],[Pajamos]]) -> 0.0061187817 | F27: =_xlfn.PERCENTOF(D27,_2023[[#Totals],[Žiūrovų skaičius]]) -> 0.0056224988 | G27: 45205
B28: Indiana Džounsas ir lemties artefaktas (Indiana Jones and the Dial of Destiny) | C28: 114182.14 | D28: 16885 | E28: =_xlfn.PERCENTOF(C28,_2023[[#Totals],[Pajamos]]) -> 0.0053172689 | F28: =_xlfn.PERCENTOF(D28,_2023[[#Totals],[Žiūrovų skaičius]]) -> 0.0048951167 | G28: 45107
B29: Undinėlė ( Little Mermaid) | C29: 93122.97 | D29: 17744 | E29: =_xlfn.PERCENTOF(C29,_2023[[#Totals],[Pajamos]]) -> 0.004336579 | F29: =_xlfn.PERCENTOF(D29,_2023[[#Totals],[Žiūrovų skaičius]]) -> 0.0051441486 | G29: 45072
B30: Kapitonė Marvel 2 (The Marvels) | C30: 92628.68 | D30: 12404 | E30: =_xlfn.PERCENTOF(C30,_2023[[#Totals],[Pajamos]]) -> 0.0043135608 | F30: =_xlfn.PERCENTOF(D30,_2023[[#Totals],[Žiūrovų skaičius]]) -> 0.0035960336 | G30: 45240
B31: Baubas (The Boogeyman) | C31: 78705.79 | D31: 12669 | E31: =_xlfn.PERCENTOF(C31,_2023[[#Totals],[Pajamos]]) -> 0.0036651954 | F31: =_xlfn.PERCENTOF(D31,_2023[[#Totals],[Žiūrovų skaičius]]) -> 0.0036728595 | G31: 45079
B32: Venecijos šmėklos ( A Haunting in Venice) | C32: 75765.48 | D32: 11511 | E32: =_xlfn.PERCENTOF(C32,_2023[[#Totals],[Pajamos]]) -> 0.0035282701 | F32: =_xlfn.PERCENTOF(D32,_2023[[#Totals],[Žiūrovų skaičius]]) -> 0.0033371447 | G32: 45184
B33: Salos vaiduokliai (The Banshees of Inisherin) | C33: 35674.9 | D33: 5736 | E33: =_xlfn.PERCENTOF(C33,_2023[[#Totals],[Pajamos]]) -> 0.0016613197 | F33: =_xlfn.PERCENTOF(D33,_2023[[#Totals],[Žiūrovų skaičius]]) -> 0.0016629191 | G33: 44960
B34: Dvaras, kuriame vaidenasi (Haunted Mansion) | C34: 27072.32 | D34: 4469 | E34: =_xlfn.PERCENTOF(C34,_2023[[#Totals],[Pajamos]]) -> 0.0012607121 | F34: =_xlfn.PERCENTOF(D34,_2023[[#Totals],[Žiūrovų skaičius]]) -> 0.0012956042 | G34: 45135
... B39: Raudonoji panda (Turning Red) | C39: 461 | D39: 202 | E39: =_xlfn.PERCENTOF(C39,_2023[[#Totals],[Pajamos]]) -> 2.1467989e-05 | F39: =_xlfn.PERCENTOF(D39,_2023[[#Totals],[Žiūrovų skaičius]]) -> 5.8561656e-05 | G39: 44631
A40: Theatrical Film Distribution / WDSMPI Total | B40: =COUNTA(B22:B39) -> 18 | C40: 3350459.9 | D40: 506427 | E40: =_xlfn.PERCENTOF(C40,_2023[[#Totals],[Pajamos]]) -> 0.15602524 | F40: =_xlfn.PERCENTOF(D40,_2023[[#Totals],[Žiūrovų skaičius]]) -> 0.14681784
A41: ACME Film / WB | B41: Barbė (Barbie) | C41: 1161203 | D41: 176697 | E41: =_xlfn.PERCENTOF(C41,_2023[[#Totals],[Pajamos]]) -> 0.054075257 | F41: =_xlfn.PERCENTOF(D41,_2023[[#Totals],[Žiūrovų skaičius]]) -> 0.051226084 | G41: 45128
B42: Vonka (Wonka) | C42: 332098.06 | D42: 57223 | E42: =_xlfn.PERCENTOF(C42,_2023[[#Totals],[Pajamos]]) -> 0.015465244 | F42: =_xlfn.PERCENTOF(D42,_2023[[#Totals],[Žiūrovų skaičius]]) -> 0.016589474 | G42: 45275
B43: Mumijos (Mummies) | C43: 326395.36 | D43: 64796 | E43: =_xlfn.PERCENTOF(C43,_2023[[#Totals],[Pajamos]]) -> 0.015199679 | F43: =_xlfn.PERCENTOF(D43,_2023[[#Totals],[Žiūrovų skaičius]]) -> 0.018784956 | G43: 44960
B44: Vienuolė 2 (The Nun II) | C44: 227673.31 | D44: 31366 | E44: =_xlfn.PERCENTOF(C44,_2023[[#Totals],[Pajamos]]) -> 0.010602361 | F44: =_xlfn.PERCENTOF(D44,_2023[[#Totals],[Žiūrovų skaičius]]) -> 0.0090932916 | G44: 45177
B45: Megalodonas 2: bedugnė (Meg 2: The Trench) | C45: 177418.62 | D45: 28583 | E45: =_xlfn.PERCENTOF(C45,_2023[[#Totals],[Pajamos]]) -> 0.0082620847 | F45: =_xlfn.PERCENTOF(D45,_2023[[#Totals],[Žiūrovų skaičius]]) -> 0.0082864743 | G45: 45142
B46: Magiškasis Maikas: Paskutinis šokis (Magic Mike's Last Dance) | C46: 146640.38 | D46: 19191 | E46: =_xlfn.PERCENTOF(C46,_2023[[#Totals],[Pajamos]]) -> 0.0068287942 | F46: =_xlfn.PERCENTOF(D46,_2023[[#Totals],[Žiūrovų skaičius]]) -> 0.0055636472 | G46: 44967
B47: Akvamenas 2: Prarasta karalystė (Aquaman and The Lost Kingdom) | C47: 128488.92 | D47: 17968 | E47: =_xlfn.PERCENTOF(C47,_2023[[#Totals],[Pajamos]]) -> 0.0059835114 | F47: =_xlfn.PERCENTOF(D47,_2023[[#Totals],[Žiūrovų skaičius]]) -> 0.0052090883 | G47: 45282
B48: Krydas III: Legenda tęsiasi (Creed 3) | C48: 84847.89 | D48: 12395 | E48: =_xlfn.PERCENTOF(C48,_2023[[#Totals],[Pajamos]]) -> 0.0039512226 | F48: =_xlfn.PERCENTOF(D48,_2023[[#Totals],[Žiūrovų skaičius]]) -> 0.0035934244 | G48: 44988
B49: Piktieji numirėliai prisikelia (Evil Dead Rise) | C49: 74288.55 | D49: 10671 | E49: =_xlfn.PERCENTOF(C49,_2023[[#Totals],[Pajamos]]) -> 0.003459492 | F49: =_xlfn.PERCENTOF(D49,_2023[[#Totals],[Žiūrovų skaičius]]) -> 0.003093621 | G49: 45037
B50: Blyksnis (Flash) | C50: 62178.95 | D50: 9868 | E50: =_xlfn.PERCENTOF(C50,_2023[[#Totals],[Pajamos]]) -> 0.0028955684 | F50: =_xlfn.PERCENTOF(D50,_2023[[#Totals],[Žiūrovų skaičius]]) -> 0.0028608239 | G50: 45093
B51: AIR (AIR) | C51: 54029.73 | D51: 8687 | E51: =_xlfn.PERCENTOF(C51,_2023[[#Totals],[Pajamos]]) -> 0.002516073 | F51: =_xlfn.PERCENTOF(D51,_2023[[#Totals],[Žiūrovų skaičius]]) -> 0.0025184411 | G51: 45030
B52: Shazam! Dievų įniršis (Shazam! Fury of the Gods) | C52: 46034.58 | D52: 7393 | E52: =_xlfn.PERCENTOF(C52,_2023[[#Totals],[Pajamos]]) -> 0.0021437524 | F52: =_xlfn.PERCENTOF(D52,_2023[[#Totals],[Žiūrovų skaičius]]) -> 0.0021432986 | G52: 45002
B53: Mėlynas vabalas (Blue Beetle) | C53: 39251.16 | D53: 6649 | E53: =_xlfn.PERCENTOF(C53,_2023[[#Totals],[Pajamos]]) -> 0.0018278601 | F53: =_xlfn.PERCENTOF(D53,_2023[[#Totals],[Žiūrovų skaičius]]) -> 0.0019276062 | G53: 45156
... B58: Kaulai ir visa kita (Bones and All) | C58: 177.4 | D58: 26 | E58: =_xlfn.PERCENTOF(C58,_2023[[#Totals],[Pajamos]]) -> 8.2612176e-06 | F58: =_xlfn.PERCENTOF(D58,_2023[[#Totals],[Žiūrovų skaičius]]) -> 7.5376389e-06 | G58: 44890
A59: ACME Film / WB Total | B59: =COUNTA(B41:B58) -> 18 | C59: 2866658.6 | D59: 453094 | E59: =_xlfn.PERCENTOF(C59,_2023[[#Totals],[Pajamos]]) -> 0.13349544 | F59: =_xlfn.PERCENTOF(D59,_2023[[#Totals],[Žiūrovų skaičius]]) -> 0.13135611
A60: ACME Film | B60: Bado žaidynės: Sakmė apie strazdą ir gyvatę (Hunger Games: The Ballad of Songbirds and Snakes) | C60: 323771.3 | D60: 45335 | E60: =_xlfn.PERCENTOF(C60,_2023[[#Totals],[Pajamos]]) -> 0.015077481 | F60: =_xlfn.PERCENTOF(D60,_2023[[#Totals],[Žiūrovų skaičius]]) -> 0.013143033 | G60: 45247
B61: Džonas Vikas 4 (John Wick Chapter Four) | C61: 322801 | D61: 44288 | E61: =_xlfn.PERCENTOF(C61,_2023[[#Totals],[Pajamos]]) -> 0.015032296 | F61: =_xlfn.PERCENTOF(D61,_2023[[#Totals],[Žiūrovų skaičius]]) -> 0.012839498 | G61: 45009
B62: Poetas (Poetas) | C62: 284208.19 | D62: 48145 | E62: =_xlfn.PERCENTOF(C62,_2023[[#Totals],[Pajamos]]) -> 0.013235094 | F62: =_xlfn.PERCENTOF(D62,_2023[[#Totals],[Žiūrovų skaičius]]) -> 0.013957678 | G62: 44974
B63: Mavka Forest Song (Mavka Forest Song) | C63: 206511.96 | D63: 41948 | E63: =_xlfn.PERCENTOF(C63,_2023[[#Totals],[Pajamos]]) -> 0.0096169123 | F63: =_xlfn.PERCENTOF(D63,_2023[[#Totals],[Žiūrovų skaičius]]) -> 0.012161111 | G63: 45121
B64: Stebuklingoji boružėlė ir juodasis katinas (Ladybug & Cat Noir: The Awakening) | C64: 153616.33 | D64: 29676 | E64: =_xlfn.PERCENTOF(C64,_2023[[#Totals],[Pajamos]]) -> 0.0071536524 | F64: =_xlfn.PERCENTOF(D64,_2023[[#Totals],[Žiūrovų skaičius]]) -> 0.0086033451 | G64: 45184
B65: Pjūklas X (Saw X) | C65: 132325.18 | D65: 19342 | E65: =_xlfn.PERCENTOF(C65,_2023[[#Totals],[Pajamos]]) -> 0.0061621596 | F65: =_xlfn.PERCENTOF(D65,_2023[[#Totals],[Žiūrovų skaičius]]) -> 0.0056074235 | G65: 45198
B66: Operacija Fortūna: Apgaulės menas (Operation Fortune: Ruse de Guer) | C66: 103502.55 | D66: 15486 | E66: =_xlfn.PERCENTOF(C66,_2023[[#Totals],[Pajamos]]) -> 0.0048199385 | F66: =_xlfn.PERCENTOF(D66,_2023[[#Totals],[Žiūrovų skaičius]]) -> 0.0044895337 | G66: 44953
B67: Sprogstančios vestuvės (Shotgun Wedding) | C67: 73652.03 | D67: 11634 | E67: =_xlfn.PERCENTOF(C67,_2023[[#Totals],[Pajamos]]) -> 0.0034298503 | F67: =_xlfn.PERCENTOF(D67,_2023[[#Totals],[Žiūrovų skaičius]]) -> 0.0033728035 | G67: 44939
B68: Paslaptinga požemių karalystė (The Secret Kingdom) | C68: 68748.63 | D68: 12949 | E68: =_xlfn.PERCENTOF(C68,_2023[[#Totals],[Pajamos]]) -> 0.0032015073 | F68: =_xlfn.PERCENTOF(D68,_2023[[#Totals],[Žiūrovų skaičius]]) -> 0.0037540341 | G68: 45198
B69: Asteriksas ir Obeliksas: Drakonų imperija (Asterix and Obelix: The Middle Kingdom) | C69: 64658.54 | D69: 11773 | E69: =_xlfn.PERCENTOF(C69,_2023[[#Totals],[Pajamos]]) -> 0.0030110387 | F69: =_xlfn.PERCENTOF(D69,_2023[[#Totals],[Žiūrovų skaičius]]) -> 0.0034131009 | G69: 45002
B70: Pelkių karaliaus dukra (Marsh King's Daughter) | C70: 51702.26 | D70: 7437 | E70: =_xlfn.PERCENTOF(C70,_2023[[#Totals],[Pajamos]]) -> 0.0024076867 | F70: =_xlfn.PERCENTOF(D70,_2023[[#Totals],[Žiūrovų skaičius]]) -> 0.0021560546 | G70: 45240
B71: Gurmaniška aistra (Pot au Feu de Dodin Bouffant) | C71: 49520.02 | D71: 7738 | E71: =_xlfn.PERCENTOF(C71,_2023[[#Totals],[Pajamos]]) -> 0.0023060635 | F71: =_xlfn.PERCENTOF(D71,_2023[[#Totals],[Žiūrovų skaičius]]) -> 0.0022433173 | G71: 45254
B72: Tvirtas užnugaris (The Covenant) | C72: 47928.22 | D72: 6685 | E72: =_xlfn.PERCENTOF(C72,_2023[[#Totals],[Pajamos]]) -> 0.002231936 | F72: =_xlfn.PERCENTOF(D72,_2023[[#Totals],[Žiūrovų skaičius]]) -> 0.0019380429 | G72: 45044
... B103: Tarp pilkų debesų (Ashes in the Snow) | C103: 142 | D103: 44 | E103: =_xlfn.PERCENTOF(C103,_2023[[#Totals],[Pajamos]]) -> 6.6126995e-06 | F103: =_xlfn.PERCENTOF(D103,_2023[[#Totals],[Žiūrovų skaičius]]) -> 1.2756004e-05 | G103: 43385
A104: ACME Film Total | B104: =COUNTA(B60:B103) -> 44 | C104: 2363469.7 | D104: 385108 | E104: =_xlfn.PERCENTOF(C104,_2023[[#Totals],[Pajamos]]) -> 0.11006278 | F104: =_xlfn.PERCENTOF(D104,_2023[[#Totals],[Žiūrovų skaičius]]) -> 0.11164635
A105: ACME Film / SONY | B105: Napoleonas (Napoleon) | C105: 441023.21 | D105: 60120 | E105: =_xlfn.PERCENTOF(C105,_2023[[#Totals],[Pajamos]]) -> 0.020537704 | F105: =_xlfn.PERCENTOF(D105,_2023[[#Totals],[Žiūrovų skaičius]]) -> 0.01742934 | G105: 45261
B106: Žmogus-voras: Aplink multivisatą (Spiderman Across the Spiderverse) | C106: 326412.05 | D106: 55147 | E106: =_xlfn.PERCENTOF(C106,_2023[[#Totals],[Pajamos]]) -> 0.015200456 | F106: =_xlfn.PERCENTOF(D106,_2023[[#Totals],[Žiūrovų skaičius]]) -> 0.015987622 | G106: 45079
B107: Gran Turismo (Gran Turismo) | C107: 238939.58 | D107: 38032 | E107: =_xlfn.PERCENTOF(C107,_2023[[#Totals],[Pajamos]]) -> 0.011127012 | F107: =_xlfn.PERCENTOF(D107,_2023[[#Totals],[Žiūrovų skaičius]]) -> 0.011025826 | G107: 45149
B108: Tūnąs tamsoje: Raudonos durys (Insidious: The Red Door) | C108: 211777.12 | D108: 29856 | E108: =_xlfn.PERCENTOF(C108,_2023[[#Totals],[Pajamos]]) -> 0.0098621019 | F108: =_xlfn.PERCENTOF(D108,_2023[[#Totals],[Žiūrovų skaičius]]) -> 0.0086555287 | G108: 45114
B109: Popiežiaus egzorcistas (Pope's Exorcist) | C109: 136718.25 | D109: 19740 | E109: =_xlfn.PERCENTOF(C109,_2023[[#Totals],[Pajamos]]) -> 0.0063667374 | F109: =_xlfn.PERCENTOF(D109,_2023[[#Totals],[Žiūrovų skaičius]]) -> 0.0057228074 | G109: 45023
B110: Nieko asmeniško ( No Hard Feelings) | C110: 120814 | D110: 17464 | E110: =_xlfn.PERCENTOF(C110,_2023[[#Totals],[Pajamos]]) -> 0.0056261034 | F110: =_xlfn.PERCENTOF(D110,_2023[[#Totals],[Žiūrovų skaičius]]) -> 0.0050629741 | G110: 45100
B111: Aš noriu šokti. Whitney Houston filmas (I wanna dance with somebody) | C111: 84386.08 | D111: 13367 | E111: =_xlfn.PERCENTOF(C111,_2023[[#Totals],[Pajamos]]) -> 0.0039297169 | F111: =_xlfn.PERCENTOF(D111,_2023[[#Totals],[Žiūrovų skaičius]]) -> 0.0038752161 | G111: 44916
B112: Gyveno kartą Oto (Man Called Otto) | C112: 80545.62 | D112: 12667 | E112: =_xlfn.PERCENTOF(C112,_2023[[#Totals],[Pajamos]]) -> 0.0037508731 | F112: =_xlfn.PERCENTOF(D112,_2023[[#Totals],[Žiūrovų skaičius]]) -> 0.0036722797 | G112: 44932
B113: Ekvalaizeris 3: Paskutinė kova (Equalizer 3) | C113: 72413.48 | D113: 10399 | E113: =_xlfn.PERCENTOF(C113,_2023[[#Totals],[Pajamos]]) -> 0.0033721731 | F113: =_xlfn.PERCENTOF(D113,_2023[[#Totals],[Žiūrovų skaičius]]) -> 0.0030147657 | G113: 45170
B114: Pradingusi (Missing) | C114: 48868.7 | D114: 7934 | E114: =_xlfn.PERCENTOF(C114,_2023[[#Totals],[Pajamos]]) -> 0.0022757326 | F114: =_xlfn.PERCENTOF(D114,_2023[[#Totals],[Žiūrovų skaičius]]) -> 0.0023001395 | G114: 44981
B115: Suzume (Suzume) | C115: 35768.74 | D115: 5616 | E115: =_xlfn.PERCENTOF(C115,_2023[[#Totals],[Pajamos]]) -> 0.0016656897 | F115: =_xlfn.PERCENTOF(D115,_2023[[#Totals],[Žiūrovų skaičius]]) -> 0.00162813 | G115: 45030
B116: Padėkos diena (Thanksgiving) | C116: 33855.83 | D116: 4780 | E116: =_xlfn.PERCENTOF(C116,_2023[[#Totals],[Pajamos]]) -> 0.0015766087 | F116: =_xlfn.PERCENTOF(D116,_2023[[#Totals],[Žiūrovų skaičius]]) -> 0.0013857659 | G116: 45268
B117: 65: Išnykimo riba (65) | C117: 33405.53 | D117: 5110 | E117: =_xlfn.PERCENTOF(C117,_2023[[#Totals],[Pajamos]]) -> 0.001555639 | F117: =_xlfn.PERCENTOF(D117,_2023[[#Totals],[Žiūrovų skaičius]]) -> 0.001481436 | G117: 45016
... B122: Ten, kur gieda vėžiai (Where the Crawdads Sing) | C122: 662.6 | D122: 157 | E122: =_xlfn.PERCENTOF(C122,_2023[[#Totals],[Pajamos]]) -> 3.085616e-05 | F122: =_xlfn.PERCENTOF(D122,_2023[[#Totals],[Žiūrovų skaičius]]) -> 4.5515743e-05 | G122: 44792
A123: ACME Film / SONY Total | B123: =COUNTA(B105:B122) -> 18 | C123: 1910678.2 | D123: 288287 | E123: =_xlfn.PERCENTOF(C123,_2023[[#Totals],[Pajamos]]) -> 0.088977047 | F123: =_xlfn.PERCENTOF(D123,_2023[[#Totals],[Žiūrovų skaičius]]) -> 0.08357705
A124: Dukine Film Distribution / Paramount Pictures | B124: Šunyčiai patruliai 2. Galingas filmas ( PAW Patrol: The Mighty Movie) | C124: 309954.16 | D124: 59850 | E124: =_xlfn.PERCENTOF(C124,_2023[[#Totals],[Pajamos]]) -> 0.01443404 | F124: =_xlfn.PERCENTOF(D124,_2023[[#Totals],[Žiūrovų skaičius]]) -> 0.017351065 | G124: 45226
B125: Gėlių mėnulio žudikai ( Killers of the Flower Moon) | C125: 238066.52 | D125: 32982 | E125: =_xlfn.PERCENTOF(C125,_2023[[#Totals],[Pajamos]]) -> 0.011086355 | F125: =_xlfn.PERCENTOF(D125,_2023[[#Totals],[Žiūrovų skaičius]]) -> 0.0095617849 | G125: 45219
B126: Neįmanoma misija: Mirtinas atpildas. Pirma dalis (Mission: Impossible - Dead Reckoning Part One) | C126: 196168.97 | D126: 28657 | E126: =_xlfn.PERCENTOF(C126,_2023[[#Totals],[Pajamos]]) -> 0.0091352568 | F126: =_xlfn.PERCENTOF(D126,_2023[[#Totals],[Žiūrovų skaičius]]) -> 0.0083079276 | G126: 45121
B127: Transformeriai. Žvėrių atgimimas (Transformers: Rise of the Beasts) | C127: 172019.87 | D127: 26532 | E127: =_xlfn.PERCENTOF(C127,_2023[[#Totals],[Pajamos]]) -> 0.0080106741 | F127: =_xlfn.PERCENTOF(D127,_2023[[#Totals],[Žiūrovų skaičius]]) -> 0.0076918706 | G127: 45086
B128: Klyksmas 6 (Scream 6) | C128: 119881.64 | D128: 16876 | E128: =_xlfn.PERCENTOF(C128,_2023[[#Totals],[Pajamos]]) -> 0.005582685 | F128: =_xlfn.PERCENTOF(D128,_2023[[#Totals],[Žiūrovų skaičius]]) -> 0.0048925075 | G128: 44995
B129: Babilonas (Babylon) | C129: 99529.04 | D129: 15010 | E129: =_xlfn.PERCENTOF(C129,_2023[[#Totals],[Pajamos]]) -> 0.0046348989 | F129: =_xlfn.PERCENTOF(D129,_2023[[#Totals],[Žiūrovų skaičius]]) -> 0.0043515369 | G129: 44946
B130: Vėžliukai nindzės: mutantų siautėjimas (Teenage Mutant Ninja Turtles: Mutant Mayhem) | C130: 76883.77 | D130: 15191 | E130: =_xlfn.PERCENTOF(C130,_2023[[#Totals],[Pajamos]]) -> 0.003580347 | F130: =_xlfn.PERCENTOF(D130,_2023[[#Totals],[Žiūrovų skaičius]]) -> 0.0044040105 | G130: 45142
B131: Požemiai ir drakonai. Garbė tarp vagių (Dungeons & Dragons: Honor Among Thieves) | C131: 68203.48 | D131: 10276 | E131: =_xlfn.PERCENTOF(C131,_2023[[#Totals],[Pajamos]]) -> 0.0031761206 | F131: =_xlfn.PERCENTOF(D131,_2023[[#Totals],[Žiūrovų skaičius]]) -> 0.0029791068 | G131: 45016
B132: Dičkis šuo Klifordas (Clifford The Big Red Dog) | C132: 2180.6 | D132: 530 | E132: =_xlfn.PERCENTOF(C132,_2023[[#Totals],[Pajamos]]) -> 0.00010154685 | F132: =_xlfn.PERCENTOF(D132,_2023[[#Totals],[Žiūrovų skaičius]]) -> 0.00015365187 | G132: 44568
B133: Ežiukas Sonic 2 (Sonic The Hedgehog 2) | C133: 1062.4 | D133: 434 | E133: =_xlfn.PERCENTOF(C133,_2023[[#Totals],[Pajamos]]) -> 4.9474169e-05 | F133: =_xlfn.PERCENTOF(D133,_2023[[#Totals],[Žiūrovų skaičius]]) -> 0.00012582059 | G133: 44652
B134: Asas Maverikas (Top Gun Maverick) | C134: 480.76 | D134: 69 | E134: =_xlfn.PERCENTOF(C134,_2023[[#Totals],[Pajamos]]) -> 2.2388179e-05 | F134: =_xlfn.PERCENTOF(D134,_2023[[#Totals],[Žiūrovų skaičius]]) -> 2.0003734e-05 | G134: 44708
A135: Dukine Film Distribution / Paramount Pictures Total | B135: =COUNTA(B124:B134) -> 11 | C135: 1284431.2 | D135: 206407 | E135: =_xlfn.PERCENTOF(C135,_2023[[#Totals],[Pajamos]]) -> 0.059813786 | F135: =_xlfn.PERCENTOF(D135,_2023[[#Totals],[Žiūrovų skaičius]]) -> 0.059839286
A136: Stambus planas | B136: ReEmigrantai (ReEmigrantai) | C136: 770657.85 | D136: 116667 | E136: =_xlfn.PERCENTOF(C136,_2023[[#Totals],[Pajamos]]) -> 0.035888231 | F136: =_xlfn.PERCENTOF(D136,_2023[[#Totals],[Žiūrovų skaičius]]) -> 0.033822835 | G136: 44925
B137: Aš gyvas (Aš gyvas) | C137: 239429.62 | D137: 33824 | E137: =_xlfn.PERCENTOF(C137,_2023[[#Totals],[Pajamos]]) -> 0.011149832 | F137: =_xlfn.PERCENTOF(D137,_2023[[#Totals],[Žiūrovų skaičius]]) -> 0.0098058884 | G137: 45198
A138: Stambus planas Total | B138: =COUNTA(B136:B137) -> 2 | C138: 1010087.5 | D138: 150491 | E138: =_xlfn.PERCENTOF(C138,_2023[[#Totals],[Pajamos]]) -> 0.047038063 | F138: =_xlfn.PERCENTOF(D138,_2023[[#Totals],[Žiūrovų skaičius]]) -> 0.043628724
A139: Garsų pasaulio įrašai | B139: After. Amžinai (After Everything) (After. Amžinai (After Everything)) | C139: 84938 | D139: 12507 | E139: =_xlfn.PERCENTOF(C139,_2023[[#Totals],[Pajamos]]) -> 0.0039554188 | F139: =_xlfn.PERCENTOF(D139,_2023[[#Totals],[Žiūrovų skaičius]]) -> 0.0036258942 | G139: 45184
B140: Kiškių mokykla. Misija „Kiaušiniai“ (Rabbit Academy. Mission Eggpossible) | C140: 68340 | D140: 14088 | E140: =_xlfn.PERCENTOF(C140,_2023[[#Totals],[Pajamos]]) -> 0.0031824781 | F140: =_xlfn.PERCENTOF(D140,_2023[[#Totals],[Žiūrovų skaičius]]) -> 0.0040842407 | G140: 44939
B141: Kalbėk su manimi (Talk to Me) | C141: 68064 | D141: 10613 | E141: =_xlfn.PERCENTOF(C141,_2023[[#Totals],[Pajamos]]) -> 0.0031696252 | F141: =_xlfn.PERCENTOF(D141,_2023[[#Totals],[Žiūrovų skaičius]]) -> 0.0030768062 | G141: 45163
B142: Mafia Mamma (Mafia Mamma) | C142: 53174 | D142: 8050 | E142: =_xlfn.PERCENTOF(C142,_2023[[#Totals],[Pajamos]]) -> 0.0024762231 | F142: =_xlfn.PERCENTOF(D142,_2023[[#Totals],[Žiūrovų skaičius]]) -> 0.002333769 | G142: 45030
B143: Ričis didysis 2 (Richard the Stork and the Mystery of the Great Jewel) | C143: 50434 | D143: 10953 | E143: =_xlfn.PERCENTOF(C143,_2023[[#Totals],[Pajamos]]) -> 0.002348626 | F143: =_xlfn.PERCENTOF(D143,_2023[[#Totals],[Žiūrovų skaičius]]) -> 0.0031753753 | G143: 45128
B144: Lesė. Naujas nuotykis (Lassie – Ein neues Abenteuer) | C144: 41679 | D144: 8594 | E144: =_xlfn.PERCENTOF(C144,_2023[[#Totals],[Pajamos]]) -> 0.0019409205 | F144: =_xlfn.PERCENTOF(D144,_2023[[#Totals],[Žiūrovų skaičius]]) -> 0.0024914796 | G144: 45170
B145: Makliai (Die Mucklas...und wie sie zu Pettersson und Findus kamen) (Makliai (Die Mucklas...und wie sie zu Pettersson und Findus kamen)) | C145: 37029 | D145: 7527 | E145: =_xlfn.PERCENTOF(C145,_2023[[#Totals],[Pajamos]]) -> 0.0017243778 | F145: =_xlfn.PERCENTOF(D145,_2023[[#Totals],[Žiūrovų skaičius]]) -> 0.0021821465 | G145: 45191
B146: Kentervilio pilies vaiduoklis (The Canterville Ghost) | C146: 33936 | D146: 6844 | E146: =_xlfn.PERCENTOF(C146,_2023[[#Totals],[Pajamos]]) -> 0.0015803421 | F146: =_xlfn.PERCENTOF(D146,_2023[[#Totals],[Žiūrovų skaičius]]) -> 0.0019841385 | G146: 45268
B147: Trys vagišiai ir liūtas (When the Robbers Came to Cardamom Town) | C147: 26765 | D147: 5701 | E147: =_xlfn.PERCENTOF(C147,_2023[[#Totals],[Pajamos]]) -> 0.0012464007 | F147: =_xlfn.PERCENTOF(D147,_2023[[#Totals],[Žiūrovų skaičius]]) -> 0.0016527723 | G147: 44988
...

Sheet 2023
A1: 2023
A2: Lietuvos kino teatruose rodytų filmų TOP
A5: Eil. Nr. | B5: Filmo pavadinimas | C5: Filmo pavadinimas originalo kalba | D5: Kilmės šalis | E5: Pajamos | F5: Žiūrovų skaičius | G5: Kopijų skaičius | H5: Premjeros data | I5: Platintojas
A6: =IF(B6<>"",ROWS($B$6:B6),"") -> 1 | B6: Įsikūnijimas. Vandens kelias | C6: Avatar: The Way of Water | D6: US | E6: 1483460.1 | F6: 192417 | G6: 31 | H6: 44911 | I6: Theatrical Film Distribution / WDSMPI
A7: =IF(B7<>"",ROWS($B$6:B7),"") -> 2 | B7: Barbė | C7: Barbie | D7: US, UK | E7: 1161203 | F7: 176697 | G7: 19 | H7: 45128 | I7: ACME Film / WB
A8: =IF(B8<>"",ROWS($B$6:B8),"") -> 3 | B8: Openheimeris | C8: Oppenheimer | D8: US, UK | E8: 1097581.1 | F8: 154454 | G8: 18 | H8: 45128 | I8: Dukine Film Distribution / Universal Pictures
A9: =IF(B9<>"",ROWS($B$6:B9),"") -> 4 | B9: ReEmigrantai | C9: ReEmigrantai | D9: LT | E9: 770657.85 | F9: 116667 | G9: 15 | H9: 44925 | I9: Stambus planas
A10: =IF(B10<>"",ROWS($B$6:B10),"") -> 5 | B10: Batuotas katinas Pūkis: paskutinis noras | C10: Puss in Boots: The Last Wish | D10: US, JP | E10: 736040.11 | F10: 135716 | G10: 28 | H10: 44916 | I10: Dukine Film Distribution / Universal Pictures
A11: =IF(B11<>"",ROWS($B$6:B11),"") -> 6 | B11: Broliai Super Mario. Filmas | C11: Super Mario Bros. | D11: JP, US | E11: 589367.38 | F11: 108584 | G11: 34 | H11: 45023 | I11: Dukine Film Distribution / Universal Pictures
A12: =IF(B12<>"",ROWS($B$6:B12),"") -> 7 | B12: Stichijos | C12: Elemental | D12: US | E12: 522025.99 | F12: 102722 | G12: 29 | H12: 45093 | I12: Theatrical Film Distribution / WDSMPI
A13: =IF(B13<>"",ROWS($B$6:B13),"") -> 8 | B13: Troliai 3 | C13: Trolls Band Together | D13: US | E13: 496382.79 | F13: 90012 | G13: 33 | H13: 45212 | I13: Dukine Film Distribution / Universal Pictures
A14: =IF(B14<>"",ROWS($B$6:B14),"") -> 9 | B14: Napoleonas | C14: Napoleon | D14: US, UK | E14: 441023.21 | F14: 60120 | G14: 21 | H14: 45261 | I14: ACME Film / SONY
A15: =IF(B15<>"",ROWS($B$6:B15),"") -> 10 | B15: Penkios naktys pas Fredį | C15: Five Nights at Freddy's | D15: US | E15: 418075.41 | F15: 62974 | G15: 16 | H15: 45226 | I15: Dukine Film Distribution / Universal Pictures
A16: =IF(B16<>"",ROWS($B$6:B16),"") -> 11 | B16: Milijonieriaus palikimas | C16: Milijonieriaus palikimas | D16: LT | E16: 380954 | F16: 50342 | G16: 24 | H16: 45289 | I16: Vabalo filmai
A17: =IF(B17<>"",ROWS($B$6:B17),"") -> 12 | B17: Greiti ir įsiutę 10 | C17: Fast & Furious 10 | D17: US | E17: 345634.42 | F17: 48283 | G17: 29 | H17: 45065 | I17: Dukine Film Distribution / Universal Pictures
... A110: =IF(B110<>"",ROWS($B$6:B110),"") -> 105 | B110: Aš ir Jis. Tikra katastrofa | C110: Beautiful disaster | D110: US | E110: 33742.62 | F110: 5143 | G110: 17 | H110: 45023 | I110: Adastra Cinema
A111: =IF(B111<>"",ROWS($B$6:B111),"") -> 106 | B111: 65: Išnykimo riba | C111: 65 | D111: US | E111: 33405.53 | F111: 5110 | G111: 13 | H111: 45016 | I111: ACME Film / SONY
A112: =IF(B112<>"",ROWS($B$6:B112),"") -> 107 | B112: Tiesiog sėkmė | C112: Coup de chance | D112: US | E112: 32326.9 | F112: 5048 | G112: 14 | H112: 45198 | I112: Adastra Cinema
A113: =IF(B113<>"",ROWS($B$6:B113),"") -> 108 | B113: Svajoklis Budis 3 | C113: Rock Dog 3 | D113: US | E113: 30808.97 | F113: 6617 | G113: 19 | H113: 45058 | I113: ACME Film
A114: =IF(B114<>"",ROWS($B$6:B114),"") -> 109 | B114: Bilietas | C114: Bilietas | D114: LT | E114: 30662.95 | F114: 4663 | G114: 12 | H114: 45219 | I114: Pilietinė medija
A115: =IF(B115<>"",ROWS($B$6:B115),"") -> 110 | B115: Ar vesi mane? | C115: Maybe I Do | D115: US | E115: 30282.72 | F115: 4435 | G115: 16 | H115: 44995 | I115: ACME Film
A116: =IF(B116<>"",ROWS($B$6:B116),"") -> 111 | B116: Kvaili pinigai | C116: Dumb Money | D116: US | E116: 29674.14 | F116: 4369 | G116: 17 | H116: 45212 | I116: ACME Film
A117: =IF(B117<>"",ROWS($B$6:B117),"") -> 112 | B117: Kalėdos Batsiuvių gatvėje | C117: Christmas on Cobbler Street | D117: NO | E117: 28893.99 | F117: 6255 | G117: 16 | H117: 45261 | I117: Unlimited Media OÜ
A118: =IF(B118<>"",ROWS($B$6:B118),"") -> 113 | B118: Fabelmanai | C118: The Fabelmans | D118: US | E118: 28863.14 | F118: 4908 | G118: 18 | H118: 44953 | I118: ACME Film
A119: =IF(B119<>"",ROWS($B$6:B119),"") -> 114 | B119: Begalybė | C119: L’immensita | D119: IT, FR | E119: 28282.74 | F119: 4541 | G119: 19 | H119: 45012 | I119: Europos kinas
A120: =IF(B120<>"",ROWS($B$6:B120),"") -> 115 | B120: Gražuolė ir Sebastianas. Naujoji karta | C120: Belle & Sebastien – Next Generation | D120: FR | E120: 27377 | F120: 6644 | G120: 18 | H120: 45051 | I120: Best Film
A121: =IF(B121<>"",ROWS($B$6:B121),"") -> 116 | B121: Dvaras, kuriame vaidenasi | C121: Haunted Mansion | D121: US | E121: 27072.32 | F121: 4469 | G121: 13 | H121: 45135 | I121: Theatrical Film Distribution / WDSMPI
A122: =IF(B122<>"",ROWS($B$6:B122),"") -> 117 | B122: Trys vagišiai ir liūtas | C122: When the Robbers Came to Cardamom Town | D122: NO | E122: 26765 | F122: 5701 | G122: 18 | H122: 44988 | I122: Garsų pasaulio įrašai
A123: =IF(B123<>"",ROWS($B$6:B123),"") -> 118 | B123: Broliai lokiai: Dingęs lobis (Boonie Bears: Guardian Code) | C123: Broliai lokiai: Dingęs lobis (Boonie Bears: Guardian Code) | D123: CN | E123: 26317.69 | F123: 5051 | G123: 16 | H123: 45233 | I123: Unlimited Media OÜ
... A250: =IF(B250<>"",ROWS($B$6:B250),"") -> 245 | B250: Dovbušas | C250: Dovbush | D250: UA | E250: 2506 | F250: 405 | G250: 8 | H250: 45184 | I250: Film Jam
A251: =IF(B251<>"",ROWS($B$6:B251),"") -> 246 | B251: Žydrasis kaftanas | C251: Le bleu du caftan | D251: ES | E251: 2446.56 | F251: 462 | G251: – | H251: 45051 | I251: A-One Films
A252: =IF(B252<>"",ROWS($B$6:B252),"") -> 247 | B252: Apačiai: Paryžiaus gauja | C252: Apache: Gang of Paris | D252: FR | E252: 2407.62 | F252: 392 | G252: 12 | H252: 45016 | I252: Theatrical Film Distribution
A253: =IF(B253<>"",ROWS($B$6:B253),"") -> 248 | B253: Falkonai | C253: Víti í Vestmannaeyjum | D253: IS | E253: 2367 | F253: 554 | G253: 1 | H253: 43574 | I253: KC Garsas
A254: =IF(B254<>"",ROWS($B$6:B254),"") -> 249 | B254: Jokūbas, Mimi ir kalbantys šunys | C254: Jekabs, Mimmi un runajosie suni | D254: LV, PL | E254: 2327 | F254: 657 | G254: 1 | H254: 44114 | I254: Skalvijos kino centras
A255: =IF(B255<>"",ROWS($B$6:B255),"") -> 250 | B255: Mano mama gorila | C255: Apstjärnan | D255: SE, DK, FI | E255: 2312 | F255: 658 | G255: 1 | H255: 44493 | I255: Skalvijos kino centras
A256: =IF(B256<>"",ROWS($B$6:B256),"") -> 251 | B256: Laiškas Ukrainai | C256: Laiškas Ukrainai | D256: LT | E256: 2305.38 | F256: 409 | G256: 14 | H256: 45163 | I256: Taip toliau
A257: =IF(B257<>"",ROWS($B$6:B257),"") -> 252 | B257: Disko berniukas | C257: Disco Boy | D257: FR | E257: 2302.1 | F257: 437 | G257: 9 | H257: 45156 | I257: Europos kinas
A258: =IF(B258<>"",ROWS($B$6:B258),"") -> 253 | B258: Superkomikė | C258: Comedy Queen | D258: SE | E258: 2281 | F258: 541 | G258: 2 | H258: 45225 | I258: Kino aljansas
A259: =IF(B259<>"",ROWS($B$6:B259),"") -> 254 | B259: De humani corporis fabrica | C259: De humani corporis fabrica | D259: FR | E259: 2190 | F259: 298 | G259: 4 | H259: 44974 | I259: Kino aljansas
A260: =IF(B260<>"",ROWS($B$6:B260),"") -> 255 | B260: Dičkis šuo Klifordas | C260: Clifford The Big Red Dog | D260: US | E260: 2180.6 | F260: 530 | G260: 3 | H260: 44568 | I260: Dukine Film Distribution / Paramount Pictures
A261: =IF(B261<>"",ROWS($B$6:B261),"") -> 256 | B261: Dvyliktosios naktis | C261: La nuit du 12 | D261: FR | E261: 2150.5 | F261: 648 | G261: 5 | H261: 45037 | I261: A-One Films
A262: =IF(B262<>"",ROWS($B$6:B262),"") -> 257 | B262: Menas žudyti | C262: Mindcage | D262: US | E262: 2149.54 | F262: 323 | G262: 5 | H262: 44918 | I262: ACME Film
A263: =IF(B263<>"",ROWS($B$6:B263),"") -> 258 | B263: Liepsnojanti širdis | C263: Fireheart | D263: FR, CA | E263: 2107.56 | F263: 926 | G263: 2 | H263: 44603 | I263: ACME Film
... A286: =IF(B286<>"",ROWS($B$6:B286),"") -> 281 | B286: Nepaprasta vasara su Tesa | C286: Mijn bijzonder rare week met Tess | D286: NL, DE | E286: 1476.5 | F286: 430 | G286: 1 | H286: 43896 | I286: KC Garsas
A287: =IF(B287<>"",ROWS($B$6:B287),"") -> 282 | B287: Kosminiai draugai | C287: Headspace | D287: ZA | E287: 1400 | F287: 250 | G287: 1 | H287: Preview | I287: ACME Film
A288: =IF(B288<>"",ROWS($B$6:B288),"") -> 283 | B288: Aš niekada neverkiu | C288: Jak Najdalej Stad | D288: PL, IE | E288: 1389 | F288: 339 | G288: 1 | H288: 44431 | I288: Skalvijos kino centras
A289: =IF(B289<>"",ROWS($B$6:B289),"") -> 284 | B289: Su meile ir įsiūčiu | C289: Both Sides of the Blade (Fire!) | D289: FR | E289: 1383.45 | F289: 257 | G289: 10 | H289: 45012 | I289: Europos kinas
A290: =IF(B290<>"",ROWS($B$6:B290),"") -> 285 | B290: Sparta | C290: Sparta | D290: AT | E290: 1375.2 | F290: 272 | G290: 2 | H290: 44988 | I290: A-One Films
A291: =IF(B291<>"",ROWS($B$6:B291),"") -> 286 | B291: Prakeikta žemė | C291: Vanskabte land | D291: IS, DK, FR, SE | E291: 1356 | F291: 251 | G291: 3 | H291: 44896 | I291: Kino aljansas
A292: =IF(B292<>"",ROWS($B$6:B292),"") -> 287 | B292: Įsimylėję gyvenimą | C292: Une vie démente | D292: BE | E292: 1330 | F292: 380 | G292: 1 | H292: 44757 | I292: A-One Films
A293: =IF(B293<>"",ROWS($B$6:B293),"") -> 288 | B293: Ekskursantė | C293: The Excursionist | D293: LT | E293: 1328.9901 | F293: 447 | G293: 2 | H293: 41544 | I293: Cinemark
A294: =IF(B294<>"",ROWS($B$6:B294),"") -> 289 | B294: Suteik man sparnus | C294: Donne moi des Ailes | D294: FR | E294: 1256.1 | F294: 347 | G294: 1 | H294: 44007 | I294: Europos kinas
A295: =IF(B295<>"",ROWS($B$6:B295),"") -> 290 | B295: Peteris fon Kantas | C295: Peter von Kant | D295: FR | E295: 1242.5 | F295: 355 | G295: 1 | H295: 44890 | I295: A-One Films
A296: =IF(B296<>"",ROWS($B$6:B296),"") -> 291 | B296: Murena | C296: Murina | D296: HR | E296: 1225 | F296: 350 | G296: 1 | H296: 44696 | I296: A-One Films
A297: =IF(B297<>"",ROWS($B$6:B297),"") -> 292 | B297: Mano mažasis karalius | C297: King | D297: FR, BE | E297: 1201 | F297: 491 | G297: 2 | H297: 44645 | I297: ACME Film
A298: =IF(B298<>"",ROWS($B$6:B298),"") -> 293 | B298: Sudegink mano laiškus | C298: Bränn alla mina brev | D298: SE | E298: 1193.8 | F298: 222 | G298: 7 | H298: 45052 | I298: Estinfilm
A299: =IF(B299<>"",ROWS($B$6:B299),"") -> 294 | B299: Įsimylėjęs Orfėjas | C299: Orfhea in love | D299: DE | E299: 1187.7 | F299: 180 | G299: 1 | H299: 45099 | I299: KC Garsas
... A321: =IF(B321<>"",ROWS($B$6:B321),"") -> 316 | B321: Pūga prie Mėmelio. Klaipėdos atvadavimo saga | C321: Pūga prie Mėmelio. Klaipėdos atvadavimo saga | D321: LT | E321: 844.65 | F321: 150 | G321: 2 | H321: 44883 | I321: Pilietinė medija
A322: =IF(B322<>"",ROWS($B$6:B322),"") -> 317 | B322: Priscilla | C322: Priscilla | D322: US, IT | E322: 830.4 | F322: 112 | G322: 1 | H322: Preview | I322: Europos kinas
A323: =IF(B323<>"",ROWS($B$6:B323),"") -> 318 | B323: Karštos vasaros naktys | C323: Hot Summer Nights | D323: US | E323: 817 | F323: 121 | G323: 2 | H323: 43308 | I323: A-One Films
A324: =IF(B324<>"",ROWS($B$6:B324),"") -> 319 | B324: UFO | C324: UFO Sweden | D324: DK | E324: 797.27 | F324: 126 | G324: 4 | H324: 45044 | I324: Estinfilm
A325: =IF(B325<>"",ROWS($B$6:B325),"") -> 320 | B325: Nostalgija | C325: Nostalgia | D325: IT | E325: 795.45 | F325: 144 | G325: 5 | H325: 44974 | I325: Estinfilm
A326: =IF(B326<>"",ROWS($B$6:B326),"") -> 321 | B326: Tiesiog super! | C326: Helt super | D326: NO | E326: 794.2 | F326: 180 | G326: 4 | H326: 45289 | I326: Estinfilm
A327: =IF(B327<>"",ROWS($B$6:B327),"") -> 322 | B327: Sword Art Online: Progressive - Aria Of A Starless Night | C327: Sword Art Online: Progressive - Aria Of A Starless Night | D327: JP | E327: 791.42 | F327: 99 | G327: 3 | H327: 44981 | I327: Piece of Magic
A328: =IF(B328<>"",ROWS($B$6:B328),"") -> 323 | B328: Sumautas Bornholmas | C328: Fucking Bornholm | D328: PL | E328: 770 | F328: 144 | G328: 1 | H328: 44971 | I328: KC Garsas
A329: =IF(B329<>"",ROWS($B$6:B329),"") -> 324 | B329: Eisiu, kiek reikės | C329: Strahinja Banović | D329: RS, FR, LU, BG, LT | E329: 750.3 | F329: 145 | G329: 11 | H329: 45059 | I329: Artbox
A330: =IF(B330<>"",ROWS($B$6:B330),"") -> 325 | B330: Fantazijos tik suaugusiems | C330: Fantasies | D330: FR | E330: 750 | F330: 103 | G330: 2 | H330: 44603 | I330: Garsų pasaulio įrašai
A331: =IF(B331<>"",ROWS($B$6:B331),"") -> 326 | B331: Kaip „Titanikas“ mane išgelbėjo | C331: How the Titanic Became My Lifeboat | D331: IS | E331: 725 | F331: 145 | G331: 2 | H331: 44512 | I331: Theatrical Film Distribution
A332: =IF(B332<>"",ROWS($B$6:B332),"") -> 327 | B332: Nepamiršk kvėpuoti | C332: Ne pozabi dihati | D332: SI | E332: 694 | F332: 198 | G332: 1 | H332: 43992 | I332: KC Garsas
A333: =IF(B333<>"",ROWS($B$6:B333),"") -> 328 | B333: Ten, kur gieda vėžiai | C333: Where the Crawdads Sing | D333: US | E333: 662.6 | F333: 157 | G333: 1 | H333: 44792 | I333: ACME Film / SONY
A334: =IF(B334<>"",ROWS($B$6:B334),"") -> 329 | B334: žeme, stop | C334: stop-zemlia | D334: UA | E334: 661 | F334: 209 | G334: 1 | H334: 44707 | I334: Skalvijos kino centras
... A407: =IF(B407<>"",ROWS($B$6:B407),"") -> 402 | B407: Adamant | C407: On the Adamant | D407: FR | E407: 4.8 | F407: 1 | G407: 1 | H407: 45093 | I407: Europos kinas
B408: =SUBTOTAL(103,_2023[Filmo pavadinimas]) -> 402 | E408: =SUBTOTAL(109,_2023[Pajamos]) -> 21473832 | F408: =SUBTOTAL(109,_2023[Žiūrovų skaičius]) -> 3449356
D410: Mėnuo | E410: Pajamos | F410: Žiūrovų skaičius
D411: Sausis | E411: =Sausis[[#Totals],[Pajamos]] -> 3157794.3 | F411: =Sausis[[#Totals],[Žiūrovų skaičius]] -> 484460
D412: Vasaris | E412: =Table3_Vasaris[[#Totals],[Pajamos]] -> 1946085.3 | F412: =Table3_Vasaris[[#Totals],[Žiūrovų skaičius]] -> 305912
D413: Kovas | E413: =Table3_Vasaris5[[#Totals],[Pajamos]] -> 1437613.6 | F413: =Table3_Vasaris5[[#Totals],[Žiūrovų skaičius]] -> 232476.5
D414: Balandis | E414: =Table3_Balandis[[#Totals],[Pajamos]] -> 1513876 | F414: =Table3_Balandis[[#Totals],[Žiūrovų skaičius]] -> 258387.5
D415: Gegužė | E415: =Table3_Gegužė[[#Totals],[Pajamos]] -> 970009.39 | F415: =Table3_Gegužė[[#Totals],[Žiūrovų skaičius]] -> 155677
D416: Birželis | E416: =Table3_Birželis[[#Totals],[Pajamos]] -> 1240752.9 | F416: =Table3_Birželis[[#Totals],[Žiūrovų skaičius]] -> 219300
D417: Liepa | E417: =Table3_Liepa[[#Totals],[Pajamos]] -> 2301483.1 | F417: =Table3_Liepa[[#Totals],[Žiūrovų skaičius]] -> 365972
D418: Rugpjūtis | E418: =Table3_Rugpjūtis[[#Totals],[Pajamos]] -> 1893036 | F418: =Table3_Rugpjūtis[[#Totals],[Žiūrovų skaičius]] -> 310592
D419: Rugsėjis | E419: =Table3_Rugsėjis[[#Totals],[Pajamos]] -> 1287881.5 | F419: =Table3_Rugsėjis[[#Totals],[Žiūrovų skaičius]] -> 204061
D420: Spalis | E420: =Table3_Spalis[[#Totals],[Pajamos]] -> 1908190.1 | F420: =Table3_Spalis[[#Totals],[Žiūrovų skaičius]] -> 311420
D421: Lapkritis | E421: =Table3_Lapkritis[[#Totals],[Pajamos]] -> 1671321.3 | F421: =Table3_Lapkritis[[#Totals],[Žiūrovų skaičius]] -> 265366
D422: Gruodis | E422: =Table3_Gruodis[[#Totals],[Pajamos]] -> 2145788.6 | F422: =Table3_Gruodis[[#Totals],[Žiūrovų skaičius]] -> 335732
D423: Iš viso | E423: =SUM(E411:E422) -> 21473832 | F423: =SUM(F411:F422) -> 3449356

Sheet Sausis
A1: ='2023'!A1 -> 2023
A2: ='2023'!A2 -> Lietuvos kino teatruose rodytų filmų TOP
A3: Sausis
A5: Eil. Nr. | B5: Filmo pavadinimas | C5: Filmo pavadinimas originalo kalba | D5: Kilmės šalis | E5: Pajamos | F5: Žiūrovų skaičius | G5: Kopijų skaičius | H5: Premjeros data | I5: Platintojas
A6: =IF(B6<>"",ROWS($B$6:B6),"") -> 1 | B6: Įsikūnijimas. Vandens kelias | C6: Avatar: The Way of Water | D6: US | E6: 1181797.2 | F6: 154396 | G6: 31 | H6: 44911 | I6: Theatrical Film Distribution / WDSMPI
A7: =IF(B7<>"",ROWS($B$6:B7),"") -> 2 | B7: ReEmigrantai | C7: ReEmigrantai | D7: LT | E7: 684509.09 | F7: 104083 | G7: 15 | H7: 44925 | I7: Stambus planas
A8: =IF(B8<>"",ROWS($B$6:B8),"") -> 3 | B8: Batuotas katinas Pūkis: paskutinis noras | C8: Puss in Boots: The Last Wish | D8: US, JP | E8: 505436.33 | F8: 92782 | G8: 28 | H8: 44916 | I8: Dukine Film Distribution / Universal Pictures
A9: =IF(B9<>"",ROWS($B$6:B9),"") -> 4 | B9: Miauricijus Puikusis | C9: Amazing Maurice | D9: UK, DE, US | E9: 110464.09 | F9: 22316 | G9: 25 | H9: 44925 | I9: Adastra Cinema
A10: =IF(B10<>"",ROWS($B$6:B10),"") -> 5 | B10: Aš noriu šokti. Whitney Houston filmas | C10: I wanna dance with somebody | D10: US | E10: 78751.19 | F10: 12364 | G10: 16 | H10: 44916 | I10: ACME Film / SONY
A11: =IF(B11<>"",ROWS($B$6:B11),"") -> 6 | B11: Gyveno kartą Oto | C11: Man Called Otto | D11: US | E11: 74880.96 | F11: 11708 | G11: 16 | H11: 44932 | I11: ACME Film / SONY
A12: =IF(B12<>"",ROWS($B$6:B12),"") -> 7 | B12: Sprogstančios vestuvės | C12: Shotgun Wedding | D12: US | E12: 72460.17 | F12: 11414 | G12: 14 | H12: 44939 | I12: ACME Film
A13: =IF(B13<>"",ROWS($B$6:B13),"") -> 8 | B13: M3gan | C13: M3gan | D13: US | E13: 69925.45 | F13: 11120 | G13: 13 | H13: 44939 | I13: Dukine Film Distribution / Universal Pictures
A14: =IF(B14<>"",ROWS($B$6:B14),"") -> 9 | B14: Babilonas | C14: Babylon | D14: US | E14: 66510.94 | F14: 9967 | G14: 19 | H14: 44946 | I14: Dukine Film Distribution / Paramount Pictures
A15: =IF(B15<>"",ROWS($B$6:B15),"") -> 10 | B15: Kiškių mokykla. Misija „Kiaušiniai“ | C15: Rabbit Academy. Mission Eggpossible | D15: DE | E15: 49636 | F15: 10272 | G15: 17 | H15: 44939 | I15: Garsų pasaulio įrašai
A16: =IF(B16<>"",ROWS($B$6:B16),"") -> 11 | B16: Tu mano deimantas | C16: Tu mano deimantas | D16: LT | E16: 49428.95 | F16: 7651 | G16: 23 | H16: 44946 | I16: Maobori production
A17: =IF(B17<>"",ROWS($B$6:B17),"") -> 12 | B17: Maskaradas | C17: Mascarade | D17: FR | E17: 35891.31 | F17: 5801 | G17: 17 | H17: 44932 | I17: Adastra Cinema
... A62: =IF(B62<>"",ROWS($B$6:B62),"") -> 57 | B62: Garsioji meškinų invazija į Siciliją | C62: La Fameuse Invasion des ours en Sicile | D62: FR, IT | E62: 38 | F62: 12 | G62: 1 | H62: 44008 | I62: Europos kinas
E63: =SUBTOTAL(109,Sausis[Pajamos]) -> 3157794.3 | F63: =SUBTOTAL(109,Sausis[Žiūrovų skaičius]) -> 484460

Sheet Vasaris
A1: ='2023'!A1 -> 2023
A2: ='2023'!A2 -> Lietuvos kino teatruose rodytų filmų TOP
A3: Vasaris
A5: Eil. Nr. | B5: Filmo pavadinimas | C5: Filmo pavadinimas originalo kalba | D5: Kilmės šalis | E5: Pajamos | F5: Žiūrovų skaičius | G5: Kopijų skaičius | H5: Premjeros data | I5: Platintojas
A6: =IF(B6<>"",ROWS($B$6:B6),"") -> 1 | B6: Įsikūnijimas. Vandens kelias | C6: Avatar: The Way of Water | D6: US | E6: 252817.88 | F6: 31349 | G6: 26 | H6: 44911 | I6: Theatrical Film Distribution / WDSMPI
A7: =IF(B7<>"",ROWS($B$6:B7),"") -> 2 | B7: Vyrų svajonės | C7: Vyrų svajonės | D7: LT | E7: 231708.2 | F7: 34157 | G7: 14 | H7: 44960 | I7: Dublis LT
A8: =IF(B8<>"",ROWS($B$6:B8),"") -> 3 | B8: Mumijos | C8: Mummies | D8: ES | E8: 230862.84 | F8: 46090 | G8: 19 | H8: 44960 | I8: ACME Film / WB
A9: =IF(B9<>"",ROWS($B$6:B9),"") -> 4 | B9: Batuotas katinas Pūkis: paskutinis noras | C9: Puss in Boots: The Last Wish | D9: US, JP | E9: 158501.51 | F9: 29205 | G9: 26 | H9: 44916 | I9: Dukine Film Distribution / Universal Pictures
A10: =IF(B10<>"",ROWS($B$6:B10),"") -> 5 | B10: Poetas | C10: Poetas | D10: LT | E10: 148501.49 | F10: 23937 | G10: 22 | H10: 44974 | I10: ACME Film
A11: =IF(B11<>"",ROWS($B$6:B11),"") -> 6 | B11: Magiškasis Maikas: Paskutinis šokis | C11: Magic Mike's Last Dance | D11: US | E11: 138423.26 | F11: 18015 | G11: 14 | H11: 44967 | I11: ACME Film / WB
A12: =IF(B12<>"",ROWS($B$6:B12),"") -> 7 | B12: Skruzdėliukas ir Vapsva. Kvantomanija | C12: Ant-Man and the Wasp: Quantumania | D12: US | E12: 114865.27 | F12: 15252 | G12: 25 | H12: 44974 | I12: Theatrical Film Distribution / WDSMPI
A13: =IF(B13<>"",ROWS($B$6:B13),"") -> 8 | B13: Rose Namajunas: Aš esu čempionė | C13: Thug Rose | D13: US | E13: 105242.12 | F13: 15715 | G13: 22 | H13: 44967 | I13: Europos kinas
A14: =IF(B14<>"",ROWS($B$6:B14),"") -> 9 | B14: ReEmigrantai | C14: ReEmigrantai | D14: LT | E14: 74271.71 | F14: 10876 | G14: 13 | H14: 44925 | I14: Stambus planas
A15: =IF(B15<>"",ROWS($B$6:B15),"") -> 10 | B15: Operacija Fortūna: Apgaulės menas | C15: Operation Fortune: Ruse de Guer | D15: US, CH, UK, TR | E15: 60997.66 | F15: 9085 | G15: 17 | H15: 44953 | I15: ACME Film
A16: =IF(B16<>"",ROWS($B$6:B16),"") -> 11 | B16: Avarinis nusileidimas | C16: Plane | D16: US, UK | E16: 43064.88 | F16: 6343 | G16: 10 | H16: 44967 | I16: ACME Film
A17: =IF(B17<>"",ROWS($B$6:B17),"") -> 12 | B17: Babilonas | C17: Babylon | D17: US | E17: 28631.6 | F17: 4254 | G17: 11 | H17: 44946 | I17: Dukine Film Distribution / Paramount
... A85: =IF(B85<>"",ROWS($B$6:B85),"") -> 80 | B85: Garsioji meškinų invazija į Siciliją | C85: La Fameuse Invasion des ours en Sicile | D85: FR, IT | E85: 6 | F85: 2 | G85: 1 | H85: 44008 | I85: Europos kinas
E86: =SUBTOTAL(109,Table3_Vasaris[Pajamos]) -> 1946085.3 | F86: =SUBTOTAL(109,Table3_Vasaris[Žiūrovų skaičius]) -> 305912

Sheet Kovas
A1: ='2023'!A1 -> 2023
A2: ='2023'!A2 -> Lietuvos kino teatruose rodytų filmų TOP
A3: Kovas
A5: Eil. Nr. | B5: Filmo pavadinimas | C5: Filmo pavadinimas originalo kalba | D5: Kilmės šalis | E5: Pajamos | F5: Žiūrovų skaičius | G5: Kopijų skaičius | H5: Premjeros data | I5: Platintojas
A6: =IF(B6<>"",ROWS($B$6:B6),"") -> 1 | B6: Paradas | C6: Paradas | D6: LT | E6: 210825.62 | F6: 33203 | G6: 19 | H6: 44988 | I6: Po mokyklos
A7: =IF(B7<>"",ROWS($B$6:B7),"") -> 2 | B7: Džonas Vikas 4 | C7: John Wick Chapter Four | D7: US | E7: 160068.54 | F7: 22758 | G7: 17 | H7: 45009 | I7: ACME Film
A8: =IF(B8<>"",ROWS($B$6:B8),"") -> 3 | B8: Poetas | C8: Poetas | D8: LT | E8: 120488.21 | F8: 21175 | G8: 20 | H8: 44974 | I8: ACME Film
A9: =IF(B9<>"",ROWS($B$6:B9),"") -> 4 | B9: Klyksmas 6 | C9: Scream 6 | D9: US | E9: 107702.86 | F9: 15158 | G9: 18 | H9: 44995 | I9: Dukine Film Distribution / Paramount Pictures
A10: =IF(B10<>"",ROWS($B$6:B10),"") -> 5 | B10: Banginis | C10: The Whale | D10: US | E10: 95028.44 | F10: 14958 | G10: 21 | H10: 44981 | I10: Theatrical Film Distribution
A11: =IF(B11<>"",ROWS($B$6:B11),"") -> 6 | B11: Krydas III: Legenda tęsiasi | C11: Creed 3 | D11: US | E11: 82689.1 | F11: 12098 | G11: 14 | H11: 44988 | I11: ACME Film / WB
A12: =IF(B12<>"",ROWS($B$6:B12),"") -> 7 | B12: Mumijos | C12: Mummies | D12: ES | E12: 71250 | F12: 13826 | G12: 12 | H12: 44960 | I12: ACME Film / WB
A13: =IF(B13<>"",ROWS($B$6:B13),"") -> 8 | B13: Batuotas katinas Pūkis: paskutinis noras | C13: Puss in Boots: The Last Wish | D13: US, JP | E13: 52007.69 | F13: 9463 | G13: 12 | H13: 44916 | I13: Dukine Film Distribution / Universal Pictures
A14: =IF(B14<>"",ROWS($B$6:B14),"") -> 9 | B14: Asteriksas ir Obeliksas: Drakonų imperija | C14: Asterix and Obelix: The Middle Kingdom | D14: FR | E14: 46820.72 | F14: 8384 | G14: 16 | H14: 45002 | I14: ACME Film
A15: =IF(B15<>"",ROWS($B$6:B15),"") -> 10 | B15: Įsikūnijimas. Vandens kelias | C15: Avatar: The Way of Water | D15: US | E15: 45073.94 | F15: 6107 | G15: 11 | H15: 44911 | I15: Theatrical Film Distribution / WDSMPI
A16: =IF(B16<>"",ROWS($B$6:B16),"") -> 11 | B16: Detektyvas Sanis | C16: Inspector Sun and the curse of the black widow | D16: ES | E16: 44597.71 | F16: 9281 | G16: 18 | H16: 44981 | I16: Adastra Cinema
A17: =IF(B17<>"",ROWS($B$6:B17),"") -> 12 | B17: Shazam! Dievų įniršis | C17: Shazam! Fury of the Gods | D17: US | E17: 42165.47 | F17: 6743 | G17: 15 | H17: 45002 | I17: ACME Film / WB
... A36: =IF(B36<>"",ROWS($B$6:B36),"") -> 31 | B36: Miauricijus Puikusis | C36: Amazing Maurice | D36: UK, DE, US | E36: 5406.18 | F36: 1116 | G36: 4 | H36: 44925 | I36: Adastra Cinema
A37: =IF(B37<>"",ROWS($B$6:B37),"") -> 32 | B37: 65: Išnykimo riba | C37: 65 | D37: US | E37: 5392.83 | F37: 841 | G37: 13 | H37: 45016 | I37: ACME Film / SONY
A38: =IF(B38<>"",ROWS($B$6:B38),"") -> 33 | B38: Apverstas bokštas | C38: Tagurpidi torn | D38: LV, EE | E38: 4532 | F38: 1124 | G38: – | H38: 44807 | I38: Skalvijos kino centras
A39: =IF(B39<>"",ROWS($B$6:B39),"") -> 34 | B39: Po saulės | C39: After sun | D39: US, UK | E39: 4493.33 | F39: 840 | G39: – | H39: 45012 | I39: Europos kinas
A40: =IF(B40<>"",ROWS($B$6:B40),"") -> 35 | B40: Babilonas | C40: Babylon | D40: US | E40: 4386.5 | F40: 789 | G40: 4 | H40: 44946 | I40: Dukine Film Distribution / Paramount
A41: =IF(B41<>"",ROWS($B$6:B41),"") -> 36 | B41: Metas išeiti | C41: Decision to Leave | D41: KR | E41: 4332.9 | F41: 891 | G41: 1 | H41: 45012 | I41: Europos kinas
A42: =IF(B42<>"",ROWS($B$6:B42),"") -> 37 | B42: Riminis | C42: Rimini | D42: AT | E42: 3648.6 | F42: 829 | G42: 5 | H42: 44988 | I42: A-One Films
A43: =IF(B43<>"",ROWS($B$6:B43),"") -> 38 | B43: Paskutinis šokis | C43: Last Dance | D43: BE, CH | E43: 3560.03 | F43: 790 | G43: – | H43: 45012 | I43: Europos kinas
A44: =IF(B44<>"",ROWS($B$6:B44),"") -> 39 | B44: Broliai lokiai: atgal į žemę | C44: Boonie Bears: Back to Earth | D44: DE | E44: 3317.47 | F44: 692 | G44: 13 | H44: 45016 | I44: Unlimited Media OÜ
A45: =IF(B45<>"",ROWS($B$6:B45),"") -> 40 | B45: Drugelio Širdis | C45: Drugelio Širdis | D45: LT | E45: 1904 | F45: 545 | G45: 1 | H45: 44659 | I45: ACME Film
A46: =IF(B46<>"",ROWS($B$6:B46),"") -> 41 | B46: Deivo bankas | C46: Bank of Dave | D46: UK | E46: 1827.07 | F46: 297 | G46: 9 | H46: 44995 | I46: Adastra Cinema
A47: =IF(B47<>"",ROWS($B$6:B47),"") -> 42 | B47: Kiara | C47: A Chiara | D47: FR, IT | E47: 1799.2 | F47: 369 | G47: 3 | H47: 44981 | I47: Best Film
A48: =IF(B48<>"",ROWS($B$6:B48),"") -> 43 | B48: Maskaradas | C48: Mascarade | D48: FR | E48: 1634.7 | F48: 283 | G48: 1 | H48: 44932 | I48: Adastra Cinema
A49: =IF(B49<>"",ROWS($B$6:B49),"") -> 44 | B49: Aš noriu šokti. Whitney Houston filmas | C49: I wanna dance with somebody | D49: US | E49: 1589 | F49: 321 | G49: 2 | H49: 44916 | I49: ACME Film / SONY
A50: =IF(B50<>"",ROWS($B$6:B50),"") -> 45 | B50: Bloga nuo savęs | C50: Syk Pike | D50: NO, SE | E50: 1543.3 | F50: 255 | G50: 3 | H50: 44939 | I50: Estinfilm
A51: =IF(B51<>"",ROWS($B$6:B51),"") -> 46 | B51: Sparta | C51: Sparta | D51: AT | E51: 1375.2 | F51: 272 | G51: 2 | H51: 44988 | I51: A-One Films
A52: =IF(B52<>"",ROWS($B$6:B52),"") -> 47 | B52: Ekskursantė | C52: The Excursionist | D52: LT | E52: 1183.9901 | F52: 418 | G52: 2 | H52: 41544 | I52: Cinemark
A53: =IF(B53<>"",ROWS($B$6:B53),"") -> 48 | B53: Labiau nei bet kada | C53: Plus que jamais | D53: FR | E53: 1063.3 | F53: 188 | G53: 4 | H53: 44967 | I53: Best Film
A54: =IF(B54<>"",ROWS($B$6:B54),"") -> 49 | B54: Kuo čia dėta meilė? | C54: Whats Love Got To Do With It | D54: UK | E54: 968.55 | F54: 206 | G54: 2 | H54: 44974 | I54: ACME Film
A55: =IF(B55<>"",ROWS($B$6:B55),"") -> 50 | B55: Net ir pelės keliauja į dangų | C55: I mysi patrí do nebe | D55: CZ, FR, PL, SK | E55: 945 | F55: 212 | G55: 1 | H55: 44716 | I55: Skalvijos kino centras
A56: =IF(B56<>"",ROWS($B$6:B56),"") -> 51 | B56: Meile mano | C56: Love Life | D56: JP, FR | E56: 932.76 | F56: 188 | G56: – | H56: 45012 | I56: Europos kinas
A57: =IF(B57<>"",ROWS($B$6:B57),"") -> 52 | B57: Žaltvykslė | C57: Fogo-Fátuo | D57: PT | E57: 903 | F57: 173 | G57: 2 | H57: 44981 | I57: A-One Films
A58: =IF(B58<>"",ROWS($B$6:B58),"") -> 53 | B58: Gražus sūnus | C58: Beautiful Boy | D58: US | E58: 796 | F58: 148 | G58: 1 | H58: 43560 | I58: Europos kinas
A59: =IF(B59<>"",ROWS($B$6:B59),"") -> 54 | B59: Apačiai: Paryžiaus gauja | C59: Apache: Gang of Paris | D59: FR | E59: 784.18 | F59: 121 | G59: 12 | H59: 45016 | I59: Theatrical Film Distribution
A60: =IF(B60<>"",ROWS($B$6:B60),"") -> 55 | B60: Kiškių mokykla. Misija „Kiaušiniai“ | C60: Rabbit Academy. Mission Eggpossible | D60: DE | E60: 689 | F60: 146 | G60: 4 | H60: 44939 | I60: Garsų pasaulio įrašai
A61: =IF(B61<>"",ROWS($B$6:B61),"") -> 56 | B61: žeme, stop | C61: stop-zemlia | D61: UA | E61: 661 | F61: 209 | G61: 1 | H61: 44707 | I61: Skalvijos kino centras
A62: =IF(B62<>"",ROWS($B$6:B62),"") -> 57 | B62: Piktųjų karta | C62: Piktųjų karta | D62: LT | E62: 615.5 | F62: 91 | G62: 1 | H62: 44848 | I62: Kino kultas
A63: =IF(B63<>"",ROWS($B$6:B63),"") -> 58 | B63: Fabelmanai | C63: The Fabelmans | D63: US | E63: 604.5 | F63: 109 | G63: 1 | H63: 44953 | I63: ACME Film
A64: =IF(B64<>"",ROWS($B$6:B64),"") -> 59 | B64: Elvis | C64: Elvis | D64: US | E64: 505.5 | F64: 93 | G64: 1 | H64: 44734 | I64: ACME Film / WB
A65: =IF(B65<>"",ROWS($B$6:B65),"") -> 60 | B65: Asas Maverikas | C65: Top Gun Maverick | D65: US | E65: 480.76 | F65: 69 | G65: 2 | H65: 44708 | I65: Dukine Film Distribution / Paramount Pictures
A66: =IF(B66<>"",ROWS($B$6:B66),"") -> 61 | B66: Arčiau debesų | C66: Cloudboy | D66: BG, SE, NL, NO | E66: 476 | F66: 107 | G66: 1 | H66: 42988 | I66: Skalvijos kino centras
A67: =IF(B67<>"",ROWS($B$6:B67),"") -> 62 | B67: Tarp žvaigždžių | C67: Interstellar | D67: US | E67: 475 | F67: 92 | G67: 1 | H67: 41950 | I67: ACME Film / WB
A68: =IF(B68<>"",ROWS($B$6:B68),"") -> 63 | B68: Pavasaris ateis | C68: Moja Vesna | D68: SI, AU | E68: 464 | F68: 116 | G68: 1 | H68: 44805 | I68: Skalvijos kino centras
A69: =IF(B69<>"",ROWS($B$6:B69),"") -> 64 | B69: Lokių čia nėra | C69: No Bears | D69: IR | E69: 458.5 | F69: 103 | G69: – | H69: 45012 | I69: Europos kinas
A70: =IF(B70<>"",ROWS($B$6:B70),"") -> 65 | B70: Gyveno kartą Oto | C70: Man Called Otto | D70: US | E70: 433.5 | F70: 79 | G70: 1 | H70: 44932 | I70: ACME Film / SONY
A71: =IF(B71<>"",ROWS($B$6:B71),"") -> 66 | B71: Man viskas gerai | C71: Man viskas gerai | D71: LT | E71: 402.2 | F71: 82 | G71: 2 | H71: 44953 | I71: Dansu films
A72: =IF(B72<>"",ROWS($B$6:B72),"") -> 67 | B72: Klajoklių žemė | C72: Nomadland | D72: US | E72: 390 | F72: 121 | G72: 1 | H72: 44323 | I72: Theatrical Film Distribution / WDSMPI
A73: =IF(B73<>"",ROWS($B$6:B73),"") -> 68 | B73: 700 Vilniaus metų. Kelionė laiku su prof. Alfredu Bumblausku | C73: 700 Vilniaus metų. Kelionė laiku su prof. Alfredu Bumblausku | D73: LT | E73: 366.2 | F73: 131 | G73: 3 | H73: 44911 | I73: Pilietinė medija
A74: =IF(B74<>"",ROWS($B$6:B74),"") -> 69 | B74: Lukas | C74: Luca | D74: US | E74: 360.87 | F74: 118 | G74: 1 | H74: 44400 | I74: Theatrical Film Distribution / WDSMPI
A75: =IF(B75<>"",ROWS($B$6:B75),"") -> 70 | B75: Tiek grožio, tiek skausmo | C75: All the Beauty and the Bloodshed | D75: US | E75: 352.4 | F75: 68 | G75: – | H75: 45012 | I75: Europos kinas
A76: =IF(B76<>"",ROWS($B$6:B76),"") -> 71 | B76: Su meile ir įsiūčiu | C76: Both Sides of the Blade (Fire!) | D76: FR | E76: 333.63 | F76: 80 | G76: – | H76: 45012 | I76: Europos kinas
A77: =IF(B77<>"",ROWS($B$6:B77),"") -> 72 | B77: Vieną gražų rytą | C77: Un beau matin | D77: FR, UK, DE | E77: 315.9 | F77: 62 | G77: 2 | H77: 44897 | I77: Kino aljansas
A78: =IF(B78<>"",ROWS($B$6:B78),"") -> 73 | B78: Amžinai jauni | C78: Forever Young | D78: FR | E78: 306.5 | F78: 78 | G78: – | H78: 45012 | I78: Europos kinas
A79: =IF(B79<>"",ROWS($B$6:B79),"") -> 74 | B79: Avarinis nusileidimas | C79: Plane | D79: US, UK | E79: 302.67 | F79: 43 | G79: 5 | H79: 44967 | I79: ACME Film
A80: =IF(B80<>"",ROWS($B$6:B80),"") -> 75 | B80: Žvaigždės vidurdienį | C80: Stars at Noon | D80: FR, US, PA | E80: 296.2 | F80: 66 | G80: – | H80: 45012 | I80: Europos kinas
A81: =IF(B81<>"",ROWS($B$6:B81),"") -> 76 | B81: Žvėrys | C81: The Beasts | D81: ES, FR | E81: 263.25 | F81: 52 | G81: 5 | H81: 44988 | I81: Theatrical Film Distribution
A82: =IF(B82<>"",ROWS($B$6:B82),"") -> 77 | B82: Gyvenimo virtuvė | C82: La Vida Padre | D82: ES | E82: 245.7 | F82: 46 | G82: 2 | H82: 44974 | I82: Theatrical Film Distribution
A83: =IF(B83<>"",ROWS($B$6:B83),"") -> 78 | B83: Tiktai žvėrys | C83: Seules les bêtes | D83: FR | E83: 226.8 | F83: 40 | G83: 1 | H83: 44393 | I83: A-One Films
A84: =IF(B84<>"",ROWS($B$6:B84),"") -> 79 | B84: Vesper | C84: Vesper | D84: LT | E84: 224.42 | F84: 83 | G84: 2 | H84: 44834 | I84: Europos kinas
A85: =IF(B85<>"",ROWS($B$6:B85),"") -> 80 | B85: Jaunasis vadas Vinetu | C85: Der junge Häuptling Winnetou | D85: DE | E85: 209.1 | F85: 31 | G85: 2 | H85: 44967 | I85: Estinfilm
A86: =IF(B86<>"",ROWS($B$6:B86),"") -> 81 | B86: Drive My Car | C86: Doraibu mai kâ | D86: JP | E86: 201.76 | F86: 38 | G86: 1 | H86: 44533 | I86: A-One Films
A87: =IF(B87<>"",ROWS($B$6:B87),"") -> 82 | B87: De humani corporis fabrica | C87: De humani corporis fabrica | D87: FR | E87: 197.5 | F87: 34 | G87: 1 | H87: 44974 | I87: Kino aljansas
A88: =IF(B88<>"",ROWS($B$6:B88),"") -> 83 | B88: Kur dingo Ana Frank? | C88: Where Is Anne Frank | D88: PL, BE, LU, FR, NL | E88: 189.95 | F88: 41 | G88: 2 | H88: 44694 | I88: Estinfilm
A89: =IF(B89<>"",ROWS($B$6:B89),"") -> 84 | B89: Nostalgija | C89: Nostalgia | D89: IT | E89: 188 | F89: 43 | G89: 5 | H89: 44974 | I89: Estinfilm
A90: =IF(B90<>"",ROWS($B$6:B90),"") -> 85 | B90: Meniu | C90: Menu | D90: US | E90: 177.9 | F90: 25 | G90: 1 | H90: 44883 | I90: Theatrical Film Distribution / WDSMPI
A91: =IF(B91<>"",ROWS($B$6:B91),"") -> 86 | B91: Tigro kelionė Himalajuose | C91: Tigers Nest | D91: IT | E91: 170.77 | F91: 52 | G91: 1 | H91: 44855 | I91: ACME Film
A92: =IF(B92<>"",ROWS($B$6:B92),"") -> 87 | B92: Antanas Sutkus. Scenos iš fotografo gyvenimo | C92: Antanas Sutkus. Scenos iš fotografo gyvenimo | D92: LT | E92: 169.8 | F92: 30 | G92: 2 | H92: 44951 | I92: A Propos studija
A93: =IF(B93<>"",ROWS($B$6:B93),"") -> 88 | B93: R.M.N. | C93: R.M.N. | D93: RO, FR, BE, SE | E93: 148.3 | F93: 27 | G93: – | H93: 45012 | I93: Europos kinas
A94: =IF(B94<>"",ROWS($B$6:B94),"") -> 89 | B94: Vagiliautojai | C94: Shoplifters | D94: JP | E94: 127.95 | F94: 23 | G94: 1 | H94: 43574 | I94: Europos kinas
A95: =IF(B95<>"",ROWS($B$6:B95),"") -> 90 | B95: Sent Omeras | C95: Saint Omer | D95: FR | E95: 126.3 | F95: 23 | G95: – | H95: 45012 | I95: Europos kinas
A96: =IF(B96<>"",ROWS($B$6:B96),"") -> 91 | B96: Akmens sala | C96: Enys Men | D96: UK | E96: 110.8 | F96: 19 | G96: – | H96: 45012 | I96: Europos kinas
A97: =IF(B97<>"",ROWS($B$6:B97),"") -> 92 | B97: Likimas ir fantazijos | C97: Guzen to Sozo | D97: JP | E97: 109.35 | F97: 19 | G97: 1 | H97: 44655 | I97: Europos kinas
A98: =IF(B98<>"",ROWS($B$6:B98),"") -> 93 | B98: Manasis Godard'as | C98: Le Redoubtable | D98: FR | E98: 92.5 | F98: 17 | G98: 1 | H98: 43196 | I98: Europos kinas
A99: =IF(B99<>"",ROWS($B$6:B99),"") -> 94 | B99: Salų tyla | C99: Tourment sur les îles | D99: ES, FR, DE, PT | E99: 78.5 | F99: 14 | G99: 1 | H99: 44932 | I99: Kino aljansas
A100: =IF(B100<>"",ROWS($B$6:B100),"") -> 95 | B100: Naujasis žaisliukas | C100: Le nouveau jouet | D100: FR | E100: 70 | F100: 10 | G100: 1 | H100: 44918 | I100: Estinfilm
A101: =IF(B101<>"",ROWS($B$6:B101),"") -> 96 | B101: Tu mano deimantas | C101: Tu mano deimantas | D101: LT | E101: 61.6 | F101: 8 | G101: 1 | H101: 44946 | I101: Maobori production
A102: =IF(B102<>"",ROWS($B$6:B102),"") -> 97 | B102: Drakonas ir strazdanotoji gražuolė | C102: Ryû to sobakasu no hime | D102: JP | E102: 58.15 | F102: 11 | G102: 1 | H102: 44655 | I102: Europos kinas
A103: =IF(B103<>"",ROWS($B$6:B103),"") -> 98 | B103: Aklas gluosnis, mieganti moteris | C103: Blind Willow, Sleeping Woman | D103: FR, CA, NL, LU | E103: 57.1 | F103: 14 | G103: – | H103: 45012 | I103: Europos kinas
A104: =IF(B104<>"",ROWS($B$6:B104),"") -> 99 | B104: Rūkymas sukelia kosulį | C104: Smoking Causes Coughing | D104: FR | E104: 51.7 | F104: 8 | G104: – | H104: 45012 | I104: Europos kinas
A105: =IF(B105<>"",ROWS($B$6:B105),"") -> 100 | B105: Kriu | C105: Knor | D105: NL, BE | E105: 35.82 | F105: 18 | G105: 1 | H105: 44827 | I105: Estinfilm
A106: =IF(B106<>"",ROWS($B$6:B106),"") -> 101 | B106: Tarp pilkų debesų | C106: Tarp pilkų debesų | D106: LT, US | E106: 34 | F106: 17 | G106: 1 | H106: 43385 | I106: ACME Film
A107: =IF(B107<>"",ROWS($B$6:B107),"") -> 102 | B107: Rūpintojėlis | C107: Rūpintojėlis | D107: LT | E107: 33.41 | F107: 7 | G107: 1 | H107: 44869 | I107: ACME Film
A108: =IF(B108<>"",ROWS($B$6:B108),"") -> 103 | B108: Keistas pasaulis | C108: Strange World | D108: US | E108: 20.94 | F108: 6 | G108: 1 | H108: 44890 | I108: Theatrical Film Distribution / WDSMPI
A109: =IF(B109<>"",ROWS($B$6:B109),"") -> 104 | B109: Nepaprasta Remio kelionė | C109: Rémi sans famille | D109: FR | E109: 17.91 | F109: 9 | G109: 1 | H109: 43707 | I109: Estinfilm
E110: =SUBTOTAL(109,Table3_Vasaris5[Pajamos]) -> 1437613.6 | F110: =SUBTOTAL(109,Table3_Vasaris5[Žiūrovų skaičius]) -> 232476.5

Sheet Balandis
A1: ='2023'!A1 -> 2023
A2: ='2023'!A2 -> Lietuvos kino teatruose rodytų filmų TOP
A3: Balandis
A5: Eil. Nr. | B5: Filmo pavadinimas | C5: Filmo pavadinimas originalo kalba | D5: Kilmės šalis | E5: Pajamos | F5: Žiūrovų skaičius | G5: Kopijų skaičius | H5: Premjeros data | I5: Platintojas
A6: =IF(B6<>"",ROWS($B$6:B6),"") -> 1 | B6: Broliai Super Mario. Filmas | C6: Super Mario Bros. | D6: JP, US | E6: 421870.51 | F6: 76092 | G6: 34 | H6: 45023 | I6: Dukine Film Distribution / Universal Pictures
A7: =IF(B7<>"",ROWS($B$6:B7),"") -> 2 | B7: Džonas Vikas 4 | C7: John Wick Chapter Four | D7: US | E7: 153361.61 | F7: 20204 | G7: 13 | H7: 45009 | I7: ACME Film
A8: =IF(B8<>"",ROWS($B$6:B8),"") -> 3 | B8: Kakė Makė: mano filmas | C8: Kakė Makė: mano filmas | D8: LT | E8: 145560.45 | F8: 28761 | G8: 16 | H8: 45037 | I8: Nj world
A9: =IF(B9<>"",ROWS($B$6:B9),"") -> 4 | B9: Popiežiaus egzorcistas | C9: Pope's Exorcist | D9: US | E9: 122296.46 | F9: 17659 | G9: 14 | H9: 45023 | I9: ACME Film / SONY
A10: =IF(B10<>"",ROWS($B$6:B10),"") -> 5 | B10: Požemiai ir drakonai. Garbė tarp vagių | C10: Dungeons & Dragons: Honor Among Thieves | D10: US, CA | E10: 58119.05 | F10: 8785 | G10: 15 | H10: 45016 | I10: Dukine Film Distribution / Paramount Pictures
A11: =IF(B11<>"",ROWS($B$6:B11),"") -> 6 | B11: Piktieji numirėliai prisikelia | C11: Evil Dead Rise | D11: NZ, US, IE | E11: 49960.69 | F11: 7114 | G11: 14 | H11: 45037 | I11: ACME Film/ WB
A12: =IF(B12<>"",ROWS($B$6:B12),"") -> 7 | B12: Mafia Mamma | C12: Mafia Mamma | D12: IT, UK | E12: 47437 | F12: 7132 | G12: 17 | H12: 45030 | I12: Garsų pasaulio įrašai
A13: =IF(B13<>"",ROWS($B$6:B13),"") -> 8 | B13: AIR | C13: AIR | D13: US | E13: 47269.96 | F13: 7571 | G13: 16 | H13: 45030 | I13: ACME Film / WB
A14: =IF(B14<>"",ROWS($B$6:B14),"") -> 9 | B14: Broliai lokiai: atgal į žemę | C14: Boonie Bears: Back to Earth | D14: DE | E14: 37325.81 | F14: 7597 | G14: 15 | H14: 45016 | I14: Unlimited Media OÜ
A15: =IF(B15<>"",ROWS($B$6:B15),"") -> 10 | B15: Aš ir Jis. Tikra katastrofa | C15: Beautiful disaster | D15: US | E15: 33305.56 | F15: 5079 | G15: 17 | H15: 45023 | I15: Adastra Cinema
A16: =IF(B16<>"",ROWS($B$6:B16),"") -> 11 | B16: Suzume | C16: Suzume | D16: JP | E16: 31602.52 | F16: 4940 | G16: 12 | H16: 45030 | I16: ACME Film / SONY
A17: =IF(B17<>"",ROWS($B$6:B17),"") -> 12 | B17: 65: Išnykimo riba | C17: 65 | D17: US | E17: 28012.7 | F17: 4269 | G17: 13 | H17: 45016 | I17: ACME Film / SONY
A18: =IF(B18<>"",ROWS($B$6:B18),"") -> 13 | B18: Mumijos | C18: Mummies | D18: ES | E18: 22702.6 | F18: 4460 | G18: 10 | H18: 44960 | I18: ACME Film / WB
A19: =IF(B19<>"",ROWS($B$6:B19),"") -> 14 | B19: Tvirtas užnugaris | C19: The Covenant | D19: UK, ES | E19: 21627.07 | F19: 2724 | G19: 15 | H19: 45044 | I19: ACME Film
A20: =IF(B20<>"",ROWS($B$6:B20),"") -> 15 | B20: Paradas | C20: Paradas | D20: LT | E20: 19422.61 | F20: 2896 | G20: 8 | H20: 44988 | I20: Po mokyklos
A21: =IF(B21<>"",ROWS($B$6:B21),"") -> 16 | B21: Banginis | C21: The Whale | D21: US | E21: 17859.67 | F21: 2657 | G21: 11 | H21: 44981 | I21: Theatrical Film Distribution
A22: =IF(B22<>"",ROWS($B$6:B22),"") -> 17 | B22: Asteriksas ir Obeliksas: Drakonų imperija | C22: Asterix and Obelix: The Middle Kingdom | D22: FR | E22: 17717.92 | F22: 3367 | G22: 11 | H22: 45002 | I22: ACME Film
A23: =IF(B23<>"",ROWS($B$6:B23),"") -> 18 | B23: Batuotas katinas Pūkis: paskutinis noras | C23: Puss in Boots: The Last Wish | D23: US, JP | E23: 17404.58 | F23: 3323 | G23: 8 | H23: 44916 | I23: Dukine Film Distribution / Universal Pictures
A24: =IF(B24<>"",ROWS($B$6:B24),"") -> 19 | B24: Aštuoni kalnai | C24: The Eight Mountains | D24: IT, BE, FR | E24: 15084.18 | F24: 3856 | G24: 16 | H24: 45012 | I24: Europos kinas
A25: =IF(B25<>"",ROWS($B$6:B25),"") -> 20 | B25: Erikas Akmenširdis | C25: Erik Kivisüda | D25: EE, LV, LT, LU, FI, UA | E25: 14104 | F25: 3105 | G25: 18 | H25: 45037 | I25: Garsų pasaulio įrašai
A26: =IF(B26<>"",ROWS($B$6:B26),"") -> 21 | B26: Petsi Iš Argo | C26: Argonuts | D26: FR | E26: 14078.06 | F26: 2638 | G26: 19 | H26: 45045 | I26: Adastra Cinema
A27: =IF(B27<>"",ROWS($B$6:B27),"") -> 22 | B27: Tar | C27: Tár | D27: US | E27: 12600.27 | F27: 1903 | G27: 1 | H27: Preview | I27: Dukine Film Distribution / Universal Pictures
A28: =IF(B28<>"",ROWS($B$6:B28),"") -> 23 | B28: Renfildas | C28: Renfield | D28: US | E28: 12318.18 | F28: 1867 | G28: 15 | H28: 45030 | I28: Dukine Film Distribution / Universal Pictures
A29: =IF(B29<>"",ROWS($B$6:B29),"") -> 24 | B29: Klyksmas 6 | C29: Scream 6 | D29: US | E29: 12178.78 | F29: 1718 | G29: 7 | H29: 44995 | I29: Dukine Film Distribution / Paramount Pictures
A30: =IF(B30<>"",ROWS($B$6:B30),"") -> 25 | B30: Begalybė | C30: L’immensita | D30: IT, FR | E30: 9770.85 | F30: 2560.5 | G30: 19 | H30: 45012 | I30: Europos kinas
A31: =IF(B31<>"",ROWS($B$6:B31),"") -> 26 | B31: Trys muškietininkai: D'artanjanas | C31: Three Musketeers: D'Artagnan) | D31: FR | E31: 7845.35 | F31: 1284 | G31: 16 | H31: 45030 | I31: Theatrical Film Distribution
A32: =IF(B32<>"",ROWS($B$6:B32),"") -> 27 | B32: Filip | C32: Filip | D32: PL | E32: 7708.89 | F32: 1265 | G32: 10 | H32: 45030 | I32: Travolta
A33: =IF(B33<>"",ROWS($B$6:B33),"") -> 28 | B33: Poetas | C33: Poetas | D33: LT | E33: 6778.93 | F33: 1161 | G33: 11 | H33: 44974 | I33: ACME Film
A34: =IF(B34<>"",ROWS($B$6:B34),"") -> 29 | B34: Mizantropas | C34: To Catch a Killer | D34: US | E34: 6635.22 | F34: 1091 | G34: 13 | H34: 45037 | I34: Adastra Cinema
A35: =IF(B35<>"",ROWS($B$6:B35),"") -> 30 | B35: Metas išeiti | C35: Decision to Leave | D35: KR | E35: 6448.71 | F35: 1004 | G35: 12 | H35: 45012 | I35: Europos kinas
A36: =IF(B36<>"",ROWS($B$6:B36),"") -> 31 | B36: Sugrįžimas į Seulą | C36: Retour à Séoul | D36: FR | E36: 6126.94 | F36: 1125 | G36: 11 | H36: 45023 | I36: A-One Films
A37: =IF(B37<>"",ROWS($B$6:B37),"") -> 32 | B37: Paskutinis šokis | C37: Last Dance | D37: BE, CH | E37: 5598.49 | F37: 897 | G37: 10 | H37: 45012 | I37: Europos kinas
A38: =IF(B38<>"",ROWS($B$6:B38),"") -> 33 | B38: Visos Bo baimės | C38: Beau is afraid | D38: US | E38: 5265.12 | F38: 824 | G38: 21 | H38: 45044 | I38: Adastra Cinema
A39: =IF(B39<>"",ROWS($B$6:B39),"") -> 34 | B39: Po saulės | C39: After sun | D39: US, UK | E39: 5262.82 | F39: 821 | G39: 11 | H39: 45012 | I39: Europos kinas
... A47: =IF(B47<>"",ROWS($B$6:B47),"") -> 42 | B47: Mikė Pūkuotukas: Kraujas ir medus | C47: Winnie the Pooh: Blood and Honey | D47: DE | E47: 2663.53 | F47: 393 | G47: 4 | H47: 45023 | I47: Unlimited Media OÜ
A48: =IF(B48<>"",ROWS($B$6:B48),"") -> 43 | B48: Kilnojamos durys | C48: Portable door | D48: AU | E48: 2470.14 | F48: 384 | G48: - | H48: 45044 | I48: Baltic Content Media
A49: =IF(B49<>"",ROWS($B$6:B49),"") -> 44 | B49: Juodi akiniai | C49: Dark glasses | D49: IT | E49: 2387 | F49: 503 | G49: 6 | H49: 45016 | I49: Best Film
A50: =IF(B50<>"",ROWS($B$6:B50),"") -> 45 | B50: Falkonai | C50: Víti í Vestmannaeyjum | D50: IS | E50: 2367 | F50: 554 | G50: 1 | H50: 43574 | I50: KC Garsas
A51: =IF(B51<>"",ROWS($B$6:B51),"") -> 46 | B51: Krydas III: Legenda tęsiasi | C51: Creed 3 | D51: US | E51: 2158.79 | F51: 297 | G51: 1 | H51: 44988 | I51: ACME Film / WB
A52: =IF(B52<>"",ROWS($B$6:B52),"") -> 47 | B52: Dvyliktosios naktis | C52: La nuit du 12 | D52: FR | E52: 2150.5 | F52: 648 | G52: 5 | H52: 45037 | I52: A-One Films
A53: =IF(B53<>"",ROWS($B$6:B53),"") -> 48 | B53: Žaidimų aikštelė | C53: Un monde | D53: BE | E53: 1836 | F53: 448 | G53: 1 | H53: 44707 | I53: KC Garsas
A54: =IF(B54<>"",ROWS($B$6:B54),"") -> 49 | B54: Roka keičia pasaulį | C54: Rocca verändert die welt | D54: DE | E54: 1702.5 | F54: 500 | G54: 1 | H54: 44112 | I54: KC Garsas
A55: =IF(B55<>"",ROWS($B$6:B55),"") -> 50 | B55: Apačiai: Paryžiaus gauja | C55: Apache: Gang of Paris | D55: FR | E55: 1623.44 | F55: 271 | G55: 15 | H55: 45016 | I55: Theatrical Film Distribution
A56: =IF(B56<>"",ROWS($B$6:B56),"") -> 51 | B56: Nepaprasta vasara su Tesa | C56: Mijn bijzonder rare week met Tess | D56: NL, DE | E56: 1476.5 | F56: 430 | G56: 1 | H56: 43896 | I56: KC Garsas
A57: =IF(B57<>"",ROWS($B$6:B57),"") -> 52 | B57: Jokūbas, Mimi ir kalbantys šunys | C57: Jekabs, Mimmi un runajosie suni | D57: LV, PL | E57: 1384 | F57: 426 | G57: 1 | H57: 44114 | I57: Skalvijos kino centras
A58: =IF(B58<>"",ROWS($B$6:B58),"") -> 53 | B58: Tamsta Varlius | C58: Meester Kikker | D58: NL | E58: 1172 | F58: 299 | G58: 1 | H58: 42654 | I58: Skalvijos kino centras
A59: =IF(B59<>"",ROWS($B$6:B59),"") -> 54 | B59: Homo Vilutis | C59: Homo Vilutis | D59: LT | E59: 1162 | F59: 211 | G59: 2 | H59: 45043 | I59: A Propos studija
A60: =IF(B60<>"",ROWS($B$6:B60),"") -> 55 | B60: Štai ir mes | C60: Hine Anachnu | D60: IT, IL | E60: 1107.2 | F60: 332 | G60: 8 | H60: 44606 | I60: Kino aljansas
... A112: =IF(B112<>"",ROWS($B$6:B112),"") -> 107 | B112: Man viskas gerai | C112: Man viskas gerai | D112: LT | E112: 22.2 | F112: 3 | G112: 1 | H112: 44953 | I112: Dansu films
E113: =SUBTOTAL(109,Table3_Balandis[Pajamos]) -> 1513876 | F113: =SUBTOTAL(109,Table3_Balandis[Žiūrovų skaičius]) -> 258387.5

Sheet Gegužė
A1: ='2023'!A1 -> 2023
A2: ='2023'!A2 -> Lietuvos kino teatruose rodytų filmų TOP
A3: Gegužė
A5: Eil. Nr. | B5: Filmo pavadinimas | C5: Filmo pavadinimas originalo kalba | D5: Kilmės šalis | E5: Pajamos | F5: Žiūrovų skaičius | G5: Kopijų skaičius | H5: Premjeros data | I5: Platintojas
A6: =IF(B6<>"",ROWS($B$6:B6),"") -> 1 | B6: Galaktikos sergėtojai. III dalis | C6: Guardians of the Galaxy Vol. 3 | D6: US | E6: 233931.5 | F6: 32282 | G6: 28 | H6: 45051 | I6: Theatrical Film Distribution / WDSMPI
A7: =IF(B7<>"",ROWS($B$6:B7),"") -> 2 | B7: Greiti ir įsiutę 10 | C7: Fast & Furious 10 | D7: US | E7: 231572.72 | F7: 31210 | G7: 29 | H7: 45065 | I7: Dukine Film Distribution / Universal Pictures
A8: =IF(B8<>"",ROWS($B$6:B8),"") -> 3 | B8: Broliai Super Mario. Filmas | C8: Super Mario Bros. | D8: JP, US | E8: 98595.19 | F8: 18207 | G8: 26 | H8: 45023 | I8: Dukine Film Distribution / Universal Pictures
A9: =IF(B9<>"",ROWS($B$6:B9),"") -> 4 | B9: Kakė Makė: mano filmas | C9: Kakė Makė: mano filmas | D9: LT | E9: 86196.69 | F9: 17200 | G9: 15 | H9: 45037 | I9: Nj world
A10: =IF(B10<>"",ROWS($B$6:B10),"") -> 5 | B10: Tvirtas užnugaris | C10: The Covenant | D10: UK, ES | E10: 26301.15 | F10: 3961 | G10: 15 | H10: 45044 | I10: ACME Film
A11: =IF(B11<>"",ROWS($B$6:B11),"") -> 6 | B11: Piktieji numirėliai prisikelia | C11: Evil Dead Rise | D11: NZ, US, IE | E11: 23652.17 | F11: 3440 | G11: 13 | H11: 45037 | I11: ACME Film / WB
A12: =IF(B12<>"",ROWS($B$6:B12),"") -> 7 | B12: Svajoklis Budis 3 | C12: Rock Dog 3 | D12: US | E12: 23166.22 | F12: 4890 | G12: 19 | H12: 45058 | I12: ACME Film
A13: =IF(B13<>"",ROWS($B$6:B13),"") -> 8 | B13: Hipnotikai | C13: Hypnotic | D13: US | E13: 22692.23 | F13: 3519 | G13: 16 | H13: 45058 | I13: ACME Film
A14: =IF(B14<>"",ROWS($B$6:B14),"") -> 9 | B14: Pamilti dar kartą | C14: Love Again | D14: US | E14: 21568.17 | F14: 3178 | G14: 16 | H14: 45058 | I14: ACME Film / SONY
A15: =IF(B15<>"",ROWS($B$6:B15),"") -> 10 | B15: Undinėlė | C15: Little Mermaid | D15: US | E15: 20836.45 | F15: 3942 | G15: 16 | H15: 45072 | I15: Theatrical Film Distribution / WDSMPI
A16: =IF(B16<>"",ROWS($B$6:B16),"") -> 11 | B16: Petsi Iš Argo | C16: Argonuts | D16: FR | E16: 20591.8 | F16: 4286 | G16: 19 | H16: 45045 | I16: Adastra Cinema
A17: =IF(B17<>"",ROWS($B$6:B17),"") -> 12 | B17: Gražuolė ir Sebastianas. Naujoji karta | C17: Belle & Sebastien – Next Generation | D17: FR | E17: 19916.09 | F17: 4498 | G17: 16 | H17: 45051 | I17: Best Film
... A21: =IF(B21<>"",ROWS($B$6:B21),"") -> 16 | B21: BlackBerry | C21: BlackBerry | D21: CA | E21: 8668 | F21: 1448 | G21: 18 | H21: 45058 | I21: Garsų pasaulio įrašai
A22: =IF(B22<>"",ROWS($B$6:B22),"") -> 17 | B22: Žmogus-voras: Aplink multivisatą | C22: Spiderman Across the Spiderverse | D22: US | E22: 6397.52 | F22: 983 | G22: 10 | H22: Preview | I22: ACME Film / SONY
A23: =IF(B23<>"",ROWS($B$6:B23),"") -> 18 | B23: Kandaharas (Kandahar) | C23: Kandaharas (Kandahar) | D23: US | E23: 6170.64 | F23: 1028 | G23: 9 | H23: 45072 | I23: Baltic Content Media
A24: =IF(B24<>"",ROWS($B$6:B24),"") -> 19 | B24: AIR | C24: AIR | D24: US | E24: 5914.57 | F24: 945 | G24: 6 | H24: 45030 | I24: ACME Film / WB
A25: =IF(B25<>"",ROWS($B$6:B25),"") -> 20 | B25: Mafia Mamma | C25: Mafia Mamma | D25: IT, UK | E25: 5425 | F25: 863 | G25: 9 | H25: 45030 | I25: Garsų pasaulio įrašai
A26: =IF(B26<>"",ROWS($B$6:B26),"") -> 21 | B26: Visos Bo baimės | C26: Beau is afraid | D26: US | E26: 4927.85 | F26: 852 | G26: 19 | H26: 45044 | I26: Adastra Cinema
A27: =IF(B27<>"",ROWS($B$6:B27),"") -> 22 | B27: Dalilendas | C27: Daliland | D27: US, UK, FR | E27: 4515.95 | F27: 813 | G27: 15 | H27: 45065 | I27: Theatrical Film Distribution
A28: =IF(B28<>"",ROWS($B$6:B28),"") -> 23 | B28: Suzume | C28: Suzume | D28: JP | E28: 3919.47 | F28: 635 | G28: 6 | H28: 45030 | I28: Acme Film / SONY
A29: =IF(B29<>"",ROWS($B$6:B29),"") -> 24 | B29: Gyvenimas be Jango | C29: After Yang | D29: US | E29: 3842.6 | F29: 868 | G29: 8 | H29: 45058 | I29: A-One Films
A30: =IF(B30<>"",ROWS($B$6:B30),"") -> 25 | B30: Kitų žmonių vaikai | C30: Other People’s Children | D30: FR | E30: 3539.5 | F30: 630 | G30: 18 | H30: 45051 | I30: Europos kinas
A31: =IF(B31<>"",ROWS($B$6:B31),"") -> 26 | B31: Požemiai ir drakonai. Garbė tarp vagių | C31: Dungeons & Dragons: Honor Among Thieves | D31: US, CA | E31: 3421.06 | F31: 534 | G31: 3 | H31: 45016 | I31: Dukine Film Distribution / Paramount Pictures
A32: =IF(B32<>"",ROWS($B$6:B32),"") -> 27 | B32: Paradas | C32: Paradas | D32: LT | E32: 3168.8 | F32: 480 | G32: 3 | H32: 44988 | I32: Po mokyklos
A33: =IF(B33<>"",ROWS($B$6:B33),"") -> 28 | B33: Tar | C33: Tár | D33: US | E33: 2848.4 | F33: 537 | G33: 3 | H33: 45047 | I33: Dukine Film Distribution / Universal Pictures
A34: =IF(B34<>"",ROWS($B$6:B34),"") -> 29 | B34: Influencerė | C34: Influencer | D34: US | E34: 2663.57 | F34: 488 | G34: 4 | H34: 45065 | I34: Baltic Content Media
A35: =IF(B35<>"",ROWS($B$6:B35),"") -> 30 | B35: Mažasis Alanas | C35: Lille Allan – den menneskelige antenna | D35: DK | E35: 2540.82 | F35: 629 | G35: 6 | H35: 45072 | I35: Estinfilm
A36: =IF(B36<>"",ROWS($B$6:B36),"") -> 31 | B36: Žydrasis kaftanas | C36: Le bleu du caftan | D36: ES | E36: 2446.56 | F36: 462 | G36: – | H36: 45051 | I36: A-One Films
A37: =IF(B37<>"",ROWS($B$6:B37),"") -> 32 | B37: Aštuoni kalnai | C37: The Eight Mountains | D37: IT, BE, FR | E37: 2363.3 | F37: 398 | G37: 5 | H37: 45012 | I37: Europos kinas
A38: =IF(B38<>"",ROWS($B$6:B38),"") -> 33 | B38: Poetas | C38: Poetas | D38: LT | E38: 2293.6 | F38: 466 | G38: 3 | H38: 44974 | I38: ACME Film
A39: =IF(B39<>"",ROWS($B$6:B39),"") -> 34 | B39: Banginis | C39: The Whale | D39: US | E39: 2162.1 | F39: 423 | G39: 5 | H39: 44981 | I39: Theatrical Film Distribution
A40: =IF(B40<>"",ROWS($B$6:B40),"") -> 35 | B40: Begalybė | C40: L’immensita | D40: IT, FR | E40: 2078.19 | F40: 390 | G40: 5 | H40: 45012 | I40: Europos kinas
A41: =IF(B41<>"",ROWS($B$6:B41),"") -> 36 | B41: Sugrįžimas į Seulą | C41: Retour à Séoul | D41: FR | E41: 1994.2 | F41: 533 | G41: 1 | H41: 45023 | I41: A-One Films
A42: =IF(B42<>"",ROWS($B$6:B42),"") -> 37 | B42: Homo Vilutis | C42: Homo Vilutis | D42: LT | E42: 1560.2 | F42: 281 | G42: 10 | H42: 45043 | I42: A Propos studija
A43: =IF(B43<>"",ROWS($B$6:B43),"") -> 38 | B43: Kilnojamos durys | C43: Portable door | D43: AU | E43: 1475.36 | F43: 240 | G43: 7 | H43: 45044 | I43: Baltic Content Media
A44: =IF(B44<>"",ROWS($B$6:B44),"") -> 39 | B44: Murena | C44: Murina | D44: HR | E44: 1225 | F44: 350 | G44: 1 | H44: 44696 | I44: A-One Films
A45: =IF(B45<>"",ROWS($B$6:B45),"") -> 40 | B45: Net ir pelės keliauja į dangų | C45: I mysi patrí do nebe | D45: CZ, FR, PL, SK | E45: 1208 | F45: 294 | G45: 1 | H45: 44716 | I45: Skalvijos kino centras
A46: =IF(B46<>"",ROWS($B$6:B46),"") -> 41 | B46: Apverstas bokštas | C46: Tagurpidi torn | D46: LV, EE | E46: 1194 | F46: 247 | G46: 1 | H46: 44807 | I46: Skalvijos kino centras
A47: =IF(B47<>"",ROWS($B$6:B47),"") -> 42 | B47: Drugelio Širdis | C47: Drugelio Širdis | D47: LT | E47: 1189 | F47: 307 | G47: 1 | H47: 44659 | I47: ACME Film
A48: =IF(B48<>"",ROWS($B$6:B48),"") -> 43 | B48: Paskutinis šokis | C48: Last Dance | D48: BE, CH | E48: 1101.4 | F48: 180 | G48: 4 | H48: 45012 | I48: Europos kinas
... A94: =IF(B94<>"",ROWS($B$6:B94),"") -> 89 | B94: Piktųjų karta | C94: Piktųjų karta | D94: LT | E94: 14.8 | F94: 2 | G94: 1 | H94: 44848 | I94: Kino kultas
E95: =SUBTOTAL(109,Table3_Gegužė[Pajamos]) -> 970009.39 | F95: =SUBTOTAL(109,Table3_Gegužė[Žiūrovų skaičius]) -> 155677

Sheet Birželis
A1: ='2023'!A1 -> 2023
A2: ='2023'!A2 -> Lietuvos kino teatruose rodytų filmų TOP
A3: Birželis
A5: Eil. Nr. | B5: Filmo pavadinimas | C5: Filmo pavadinimas originalo kalba | D5: Kilmės šalis | E5: Pajamos | F5: Žiūrovų skaičius | G5: Kopijų skaičius | H5: Premjeros data | I5: Platintojas
A6: =IF(B6<>"",ROWS($B$6:B6),"") -> 1 | B6: Žmogus-voras: Aplink Multivistą | C6: Spider-Man: Across The Spider-Verse | D6: US | E6: 260230.14 | F6: 43719 | G6: 18 | H6: 45079 | I6: ACME Film / SONY
A7: =IF(B7<>"",ROWS($B$6:B7),"") -> 2 | B7: Stichijos | C7: Elemental | D7: US | E7: 194074.99 | F7: 39230 | G7: 29 | H7: 45093 | I7: Theatrical Film Distribution / WDSMPI
A8: =IF(B8<>"",ROWS($B$6:B8),"") -> 3 | B8: Transformeriai. Žvėrių atgimimas | C8: Transformers: Rise of the Beasts | D8: US | E8: 133536.75 | F8: 20410 | G8: 24 | H8: 45086 | I8: Dukine Film Distribution / Paramount Pictures
A9: =IF(B9<>"",ROWS($B$6:B9),"") -> 4 | B9: Greiti ir įsiutę 10 | C9: Fast & Furious 10 | D9: US | E9: 108316.75 | F9: 16152 | G9: 23 | H9: 45065 | I9: Dukine Film Distribution / Universal Pictures
A10: =IF(B10<>"",ROWS($B$6:B10),"") -> 5 | B10: Baubas | C10: The Boogeyman | D10: US, CA | E10: 65693.39 | F10: 10518 | G10: 15 | H10: 45079 | I10: Theatrical Film Distribution / WDSMPI
A11: =IF(B11<>"",ROWS($B$6:B11),"") -> 6 | B11: Undinėlė | C11: Little Mermaid | D11: US | E11: 62172.49 | F11: 11868 | G11: 16 | H11: 45072 | I11: Theatrical Film Distribution / WDSMPI
A12: =IF(B12<>"",ROWS($B$6:B12),"") -> 7 | B12: Nieko asmeniško | C12: No Hard Feelings | D12: US | E12: 58854.22 | F12: 7923 | G12: 15 | H12: 45100 | I12: ACME Film / SONY
A13: =IF(B13<>"",ROWS($B$6:B13),"") -> 8 | B13: Broliai Super Mario. Filmas | C13: Super Mario Bros. | D13: JP, US | E13: 56013.8 | F13: 11566 | G13: 16 | H13: 45023 | I13: Dukine Film Distribution / Universal Pictures
A14: =IF(B14<>"",ROWS($B$6:B14),"") -> 9 | B14: Blyksnis | C14: Flash | D14: US | E14: 53851.2 | F14: 8500 | G14: 15 | H14: 45093 | I14: ACME Film / WB
A15: =IF(B15<>"",ROWS($B$6:B15),"") -> 10 | B15: Galaktikos sergėtojai. III dalis | C15: Guardians of the Galaxy Vol. 3 | D15: US | E15: 45421.46 | F15: 7263 | G15: 14 | H15: 45051 | I15: Theatrical Film Distribution / WDSMPI
A16: =IF(B16<>"",ROWS($B$6:B16),"") -> 11 | B16: Asteroidų miestas | C16: Asteroid City | D16: US | E16: 42274.91 | F16: 6906 | G16: 18 | H16: 45086 | I16: Dukine Film Distribution / Universal Pictures
A17: =IF(B17<>"",ROWS($B$6:B17),"") -> 12 | B17: Kakė Makė: mano filmas | C17: Kakė Makė: mano filmas | D17: LT | E17: 14331.49 | F17: 3072 | G17: 12 | H17: 45037 | I17: Nj world
... A66: =IF(B66<>"",ROWS($B$6:B66),"") -> 61 | B66: Paskutinis šokis | C66: Last Dance | D66: BE, CH | E66: 639.9 | F66: 97 | G66: 3 | H66: 45012 | I66: Europos kinas
A67: =IF(B67<>"",ROWS($B$6:B67),"") -> 62 | B67: Mavka Forest Song | C67: Mavka Forest Song | D67: UA, US | E67: 575 | F67: 115 | G67: 1 | H67: Preview | I67: ACME Film
A68: =IF(B68<>"",ROWS($B$6:B68),"") -> 63 | B68: Begalybė | C68: L’immensita | D68: IT, FR | E68: 559.7 | F68: 93 | G68: 3 | H68: 45012 | I68: Europos kinas
A69: =IF(B69<>"",ROWS($B$6:B69),"") -> 64 | B69: Apverstas bokštas | C69: Tagurpidi torn | D69: LV, EE | E69: 472 | F69: 122 | G69: 1 | H69: 44807 | I69: Skalvijos kino centras
A70: =IF(B70<>"",ROWS($B$6:B70),"") -> 65 | B70: Bloga nuo savęs | C70: Syk Pike | D70: NO, SE | E70: 468.5 | F70: 70 | G70: 1 | H70: 44939 | I70: Estinfilm
A71: =IF(B71<>"",ROWS($B$6:B71),"") -> 66 | B71: Arčiau debesų | C71: Cloudboy | D71: BG, SE, NL, NO | E71: 443 | F71: 105 | G71: 1 | H71: 42988 | I71: Skalvijos kino centras
A72: =IF(B72<>"",ROWS($B$6:B72),"") -> 67 | B72: Po saulės | C72: After sun | D72: US, UK | E72: 416.65 | F72: 66 | G72: 4 | H72: 45012 | I72: Europos kinas
A73: =IF(B73<>"",ROWS($B$6:B73),"") -> 68 | B73: Kur dingo Ana Frank? | C73: Where Is Anne Frank | D73: PL, BE, LU, FR, NL | E73: 412 | F73: 102 | G73: 1 | H73: 44694 | I73: Estinfilm
A74: =IF(B74<>"",ROWS($B$6:B74),"") -> 69 | B74: Banginis | C74: The Whale | D74: US | E74: 338.1 | F74: 58 | G74: 2 | H74: 44981 | I74: Theatrical Film Distribution
A75: =IF(B75<>"",ROWS($B$6:B75),"") -> 70 | B75: Kitų žmonių vaikai | C75: Other People’s Children | D75: FR | E75: 335.5 | F75: 62 | G75: 3 | H75: 45051 | I75: Europos kinas
A76: =IF(B76<>"",ROWS($B$6:B76),"") -> 71 | B76: Mafia Mamma | C76: Mafia Mamma | D76: IT, UK | E76: 312 | F76: 55 | G76: 2 | H76: 45030 | I76: Garsų pasaulio įrašai
A77: =IF(B77<>"",ROWS($B$6:B77),"") -> 72 | B77: Dar vienas alibi | C77: Alibi.com 2 | D77: FR | E77: 299.5 | F77: 45 | G77: 2 | H77: 45106 | I77: Estinfilm
A78: =IF(B78<>"",ROWS($B$6:B78),"") -> 73 | B78: Hipnotikai | C78: Hypnotic | D78: US | E78: 290.24 | F78: 48 | G78: 3 | H78: 45058 | I78: ACME Film
A79: =IF(B79<>"",ROWS($B$6:B79),"") -> 74 | B79: Nekaltas | C79: The Innocent | D79: FR | E79: 279.25 | F79: 59 | G79: 5 | H79: 45065 | I79: Europos kinas
... A101: =IF(B101<>"",ROWS($B$6:B101),"") -> 96 | B101: Adamant | C101: On the Adamant | D101: FR | E101: 4.8 | F101: 1 | G101: 1 | H101: 45093 | I101: Europos kinas
E102: =SUBTOTAL(109,Table3_Birželis[Pajamos]) -> 1240752.9 | F102: =SUBTOTAL(109,Table3_Birželis[Žiūrovų skaičius]) -> 219300

Sheet Liepa
A1: ='2023'!A1 -> 2023
A2: ='2023'!A2 -> Lietuvos kino teatruose rodytų filmų TOP
A3: Liepa
A5: Eil. Nr. | B5: Filmo pavadinimas | C5: Filmo pavadinimas originalo kalba | D5: Kilmės šalis | E5: Pajamos | F5: Žiūrovų skaičius | G5: Kopijų skaičius | H5: Premjeros data | I5: Platintojas
A6: =IF(B6<>"",ROWS($B$6:B6),"") -> 1 | B6: Barbė | C6: Barbie | D6: US, UK | E6: 635128.13 | F6: 93201 | G6: 18 | H6: 45128 | I6: ACME Film / WB
A7: =IF(B7<>"",ROWS($B$6:B7),"") -> 2 | B7: Openheimeris | C7: Oppenheimer | D7: US, UK | E7: 467919.76 | F7: 66655 | G7: 17 | H7: 45128 | I7: Dukine Film Distribution / Universal Pictures
A8: =IF(B8<>"",ROWS($B$6:B8),"") -> 3 | B8: Tūnąs tamsoje: Raudonos durys (Insidious: The Red Door) | C8: Tūnąs tamsoje: Raudonos durys (Insidious: The Red Door) | D8: CA | E8: 189244.99 | F8: 26644 | G8: 13 | H8: 45114 | I8: ACME Film / SONY
A9: =IF(B9<>"",ROWS($B$6:B9),"") -> 4 | B9: Stichijos | C9: Elemental | D9: US | E9: 186331.11 | F9: 35673 | G9: 24 | H9: 45093 | I9: Theatrical Film Distribution / WDSMPI
A10: =IF(B10<>"",ROWS($B$6:B10),"") -> 5 | B10: Neįmanoma misija: Mirtinas atpildas. Pirma dalis | C10: Mission: Impossible - Dead Reckoning Part One | D10: US | E10: 148424.92 | F10: 21333 | G10: 17 | H10: 45121 | I10: Dukine Film Distribution / Paramount Pictures
A11: =IF(B11<>"",ROWS($B$6:B11),"") -> 6 | B11: Mavka Forest Song | C11: Mavka Forest Song | D11: UA, US | E11: 143339.92 | F11: 28366 | G11: 16 | H11: 45121 | I11: ACME Film
A12: =IF(B12<>"",ROWS($B$6:B12),"") -> 7 | B12: Indiana Džounsas ir lemties artefaktas | C12: Indiana Jones and the Dial of Destiny | D12: US | E12: 100023.84 | F12: 14856 | G12: 16 | H12: 45107 | I12: Theatrical Film Distribution / WDSMPI
A13: =IF(B13<>"",ROWS($B$6:B13),"") -> 8 | B13: Jūrų pabaisa. Rubė Gilman | C13: Ruby Gillman, Teenage Kraken | D13: US | E13: 82803.28 | F13: 17633 | G13: 19 | H13: 45107 | I13: Dukine Film Distribution / Universal Pictures
A14: =IF(B14<>"",ROWS($B$6:B14),"") -> 9 | B14: Nieko asmeniško | C14: No Hard Feelings | D14: US | E14: 61959.78 | F14: 9541 | G14: 12 | H14: 45100 | I14: ACME Film / SONY
A15: =IF(B15<>"",ROWS($B$6:B15),"") -> 10 | B15: Žmogus-voras: Aplink Multivistą | C15: Spider-Man: Across The Spider-Verse | D15: US | E15: 57859.06 | F15: 10071 | G15: 13 | H15: 45079 | I15: ACME Film / SONY
A16: =IF(B16<>"",ROWS($B$6:B16),"") -> 11 | B16: Transformeriai. Žvėrių atgimimas | C16: Transformers: Rise of the Beasts | D16: US | E16: 38483.12 | F16: 6122 | G16: 14 | H16: 45086 | I16: Dukine Film Distribution / Paramount Pictures
A17: =IF(B17<>"",ROWS($B$6:B17),"") -> 12 | B17: Ričis didysis | C17: Richard the Stork and the Mystery of the Great Jewel | D17: DE, BE, NO | E17: 33727 | F17: 7169 | G17: 15 | H17: 45128 | I17: Garsų pasaulio įrašai
... A73: =IF(B73<>"",ROWS($B$6:B73),"") -> 68 | B73: Suzume | C73: Suzume | D73: JP | E73: 22.2 | F73: 3 | G73: 1 | H73: 45030 | I73: Acme Film / SONY
E74: =SUBTOTAL(109,Table3_Liepa[Pajamos]) -> 2301483.1 | F74: =SUBTOTAL(109,Table3_Liepa[Žiūrovų skaičius]) -> 365972

Sheet Rugpjūtis
A1: ='2023'!A1 -> 2023
A2: ='2023'!A2 -> Lietuvos kino teatruose rodytų filmų TOP
A3: Rugpjūtis
A5: Eil. Nr. | B5: Filmo pavadinimas | C5: Filmo pavadinimas originalo kalba | D5: Kilmės šalis | E5: Pajamos | F5: Žiūrovų skaičius | G5: Kopijų skaičius | H5: Premjeros data | I5: Platintojas
A6: =IF(B6<>"",ROWS($B$6:B6),"") -> 1 | B6: Openheimeris | C6: Oppenheimer | D6: US, UK | E6: 498921.9 | F6: 68732 | G6: 18 | H6: 45128 | I6: Dukine Film Distribution / Universal Pictures
A7: =IF(B7<>"",ROWS($B$6:B7),"") -> 2 | B7: Barbė | C7: Barbie | D7: US, UK | E7: 460632.73 | F7: 73300 | G7: 19 | H7: 45128 | I7: ACME Film / WB
A8: =IF(B8<>"",ROWS($B$6:B8),"") -> 3 | B8: Megalodonas 2: bedugnė | C8: Meg 2: The Trench | D8: US, CN | E8: 166159.18 | F8: 26823 | G8: 16 | H8: 45142 | I8: ACME Film / WB
A9: =IF(B9<>"",ROWS($B$6:B9),"") -> 4 | B9: Gran Turismo | C9: Gran Turismo | D9: US | E9: 163321.71 | F9: 25964 | G9: 15 | H9: 45149 | I9: ACME Film / SONY
A10: =IF(B10<>"",ROWS($B$6:B10),"") -> 5 | B10: Stichijos | C10: Elemental | D10: US | E10: 84867.74 | F10: 17349 | G10: 12 | H10: 45093 | I10: Theatrical Film Distribution / WDSMPI
A11: =IF(B11<>"",ROWS($B$6:B11),"") -> 6 | B11: Vėžliukai nindzės: mutantų siautėjimas | C11: Teenage Mutant Ninja Turtles: Mutant Mayhem | D11: US | E11: 69391.46 | F11: 13771 | G11: 19 | H11: 45142 | I11: Dukine Film Distribution / Paramount Pictures
A12: =IF(B12<>"",ROWS($B$6:B12),"") -> 7 | B12: Mavka Forest Song | C12: Mavka Forest Song | D12: UA, US | E12: 56764.12 | F12: 12219 | G12: 17 | H12: 45121 | I12: ACME Film
A13: =IF(B13<>"",ROWS($B$6:B13),"") -> 8 | B13: Neįmanoma misija: Mirtinas atpildas. Pirma dalis | C13: Mission: Impossible - Dead Reckoning Part One | D13: US | E13: 45654.61 | F13: 7020 | G13: 12 | H13: 45121 | I13: Dukine Film Distribution / Paramount Pictures
A14: =IF(B14<>"",ROWS($B$6:B14),"") -> 9 | B14: Greiti ir pūkuoti | C14: Rally Road Racers | D14: UK | E14: 37787.87 | F14: 8278 | G14: 18 | H14: 45163 | I14: Adastra Cinema
A15: =IF(B15<>"",ROWS($B$6:B15),"") -> 10 | B15: Kalbėk su manimi | C15: Talk to Me | D15: AU | E15: 36583 | F15: 6146 | G15: 14 | H15: 45163 | I15: Garsų pasaulio įrašai
A16: =IF(B16<>"",ROWS($B$6:B16),"") -> 11 | B16: Mėlynas vabalas | C16: Blue Beetle | D16: US | E16: 35959.06 | F16: 6058 | G16: 15 | H16: 45156 | I16: ACME Film / WB
A17: =IF(B17<>"",ROWS($B$6:B17),"") -> 12 | B17: Paskutinė Demetros kelionė | C17: Last Voyage of Demeter | D17: US | E17: 23992.17 | F17: 3850 | G17: 13 | H17: 45156 | I17: ACME Film
... A30: =IF(B30<>"",ROWS($B$6:B30),"") -> 25 | B30: Du bilietai į Graikiją | C30: Les Cyclades | D30: FR | E30: 3853.2 | F30: 578 | G30: 5 | H30: 45156 | I30: Estinfilm
A31: =IF(B31<>"",ROWS($B$6:B31),"") -> 26 | B31: Ekvalaizeris 3: Paskutinė kova | C31: Equalizer 3 | D31: US | E31: 3192.47 | F31: 423 | G31: 9 | H31: Preview | I31: ACME Film / SONY
A32: =IF(B32<>"",ROWS($B$6:B32),"") -> 27 | B32: Kovotojas | C32: Strijder | D32: NL | E32: 2408.5 | F32: 638 | G32: 1 | H32: 44894 | I32: KC Garsas
A33: =IF(B33<>"",ROWS($B$6:B33),"") -> 28 | B33: Paradas | C33: Paradas | D33: LT | E33: 2317.4 | F33: 342 | G33: 2 | H33: 44988 | I33: Po mokyklos
A34: =IF(B34<>"",ROWS($B$6:B34),"") -> 29 | B34: Pakalikai 2 | C34: Minions: The Rise of Gru | D34: US | E34: 2212.4 | F34: 891 | G34: 4 | H34: 44743 | I34: Dukine Film Distribution / Universal Pictures
A35: =IF(B35<>"",ROWS($B$6:B35),"") -> 30 | B35: Apkabink mane | C35: Hug Me | D35: PL | E35: 1834.1 | F35: 409 | G35: 3 | H35: 45135 | I35: Unlimited Media OÜ
A36: =IF(B36<>"",ROWS($B$6:B36),"") -> 31 | B36: Asteroidų miestas | C36: Asteroid City | D36: US | E36: 1421.1 | F36: 259 | G36: 3 | H36: 45086 | I36: Dukine Film Distribution / Universal Pictures
A37: =IF(B37<>"",ROWS($B$6:B37),"") -> 32 | B37: Disko berniukas | C37: Disco Boy | D37: FR | E37: 1359.2 | F37: 252 | G37: 9 | H37: 45156 | I37: Europos kinas
A38: =IF(B38<>"",ROWS($B$6:B38),"") -> 33 | B38: Miauricijus Puikusis | C38: Amazing Maurice | D38: UK, DE, US | E38: 1318.5 | F38: 499 | G38: 3 | H38: 44925 | I38: Adastra Cinema
A39: =IF(B39<>"",ROWS($B$6:B39),"") -> 34 | B39: Laiškas Ukrainai | C39: Laiškas Ukrainai | D39: LT | E39: 1233.07 | F39: 221 | G39: 14 | H39: 45163 | I39: Taip toliau
A40: =IF(B40<>"",ROWS($B$6:B40),"") -> 35 | B40: Indiana Džounsas ir lemties artefaktas | C40: Indiana Jones and the Dial of Destiny | D40: US | E40: 1186.35 | F40: 205 | G40: 3 | H40: 45107 | I40: Theatrical Film Distribution / WDSMPI
A41: =IF(B41<>"",ROWS($B$6:B41),"") -> 36 | B41: Batuotas katinas Pūkis: paskutinis noras | C41: Puss in Boots: The Last Wish | D41: US, JP | E41: 1086.5 | F41: 439 | G41: 4 | H41: 44916 | I41: Dukine Film Distribution / Universal Pictures
A42: =IF(B42<>"",ROWS($B$6:B42),"") -> 37 | B42: Ežiukas Sonic 2 | C42: Sonic The Hedgehog 2 | D42: US, CA, JP | E42: 1062.4 | F42: 434 | G42: 4 | H42: 44652 | I42: Dukine Film Distribution / Paramount Pictures
A43: =IF(B43<>"",ROWS($B$6:B43),"") -> 38 | B43: Keistas pasaulis | C43: Strange World | D43: US | E43: 1047.5 | F43: 417 | G43: 4 | H43: 44890 | I43: Theatrical Film Distribution / WDSMPI
... A73: =IF(B73<>"",ROWS($B$6:B73),"") -> 68 | B73: Kuo čia dėta meilė? | C73: Whats Love Got To Do With It | D73: UK | E73: 15.26 | F73: 2 | G73: 1 | H73: 44974 | I73: ACME Film
E74: =SUBTOTAL(109,Table3_Rugpjūtis[Pajamos]) -> 1893036 | F74: =SUBTOTAL(109,Table3_Rugpjūtis[Žiūrovų skaičius]) -> 310592

Sheet Rugsėjis
A1: ='2023'!A1 -> 2023
A2: ='2023'!A2 -> Lietuvos kino teatruose rodytų filmų TOP
A3: Rugsėjis
A5: Eil. Nr. | B5: Filmo pavadinimas | C5: Filmo pavadinimas originalo kalba | D5: Kilmės šalis | E5: Pajamos | F5: Žiūrovų skaičius | G5: Kopijų skaičius | H5: Premjeros data | I5: Platintojas
A6: =IF(B6<>"",ROWS($B$6:B6),"") -> 1 | B6: Vienuolė 2 | C6: The Nun II | D6: US | E6: 201780.25 | F6: 27277 | G6: 15 | H6: 45177 | I6: ACME Film / WB
A7: =IF(B7<>"",ROWS($B$6:B7),"") -> 2 | B7: Stebuklingoji boružėlė ir juodasis katinas | C7: Ladybug & Cat Noir: The Awakening | D7: FR | E7: 89527.66 | F7: 17381 | G7: 18 | H7: 45184 | I7: ACME Film
A8: =IF(B8<>"",ROWS($B$6:B8),"") -> 3 | B8: Openheimeris | C8: Oppenheimer | D8: US, UK | E8: 88216 | F8: 12903 | G8: 15 | H8: 45128 | I8: Dukine Film Distribution / Universal Pictures
A9: =IF(B9<>"",ROWS($B$6:B9),"") -> 4 | B9: Tu man nieko neprimeni | C9: Tu man nieko neprimeni | D9: LT, ES, SE | E9: 81987.05 | F9: 12515 | G9: 28 | H9: 45191 | I9: Europos kinas
A10: =IF(B10<>"",ROWS($B$6:B10),"") -> 5 | B10: After. Amžinai (After Everything) | C10: After. Amžinai (After Everything) | D10: US | E10: 81761 | F10: 11995 | G10: 14 | H10: 45184 | I10: Garsų pasaulio įrašai
A11: =IF(B11<>"",ROWS($B$6:B11),"") -> 6 | B11: Greiti ir pūkuoti | C11: Rally Road Racers | D11: UK | E11: 73230.21 | F11: 14160 | G11: 18 | H11: 45163 | I11: Adastra Cinema
A12: =IF(B12<>"",ROWS($B$6:B12),"") -> 7 | B12: Ekvalaizeris 3: Paskutinė kova | C12: Equalizer 3 | D12: US | E12: 67506.08 | F12: 9662 | G12: 15 | H12: 45170 | I12: ACME Film / SONY
A13: =IF(B13<>"",ROWS($B$6:B13),"") -> 8 | B13: Aš gyvas | C13: Aš gyvas | D13: LT | E13: 64339.35 | F13: 8401 | G13: 14 | H13: 45198 | I13: Stambus planas
A14: =IF(B14<>"",ROWS($B$6:B14),"") -> 9 | B14: Gran Turismo | C14: Gran Turismo | D14: US | E14: 61530.27 | F14: 9805 | G14: 11 | H14: 45149 | I14: ACME Film / SONY
A15: =IF(B15<>"",ROWS($B$6:B15),"") -> 10 | B15: Barbė | C15: Barbie | D15: US, UK | E15: 58102.39 | F15: 9024 | G15: 14 | H15: 45128 | I15: ACME Film / WB
A16: =IF(B16<>"",ROWS($B$6:B16),"") -> 11 | B16: Venecijos šmėklos | C16: A Haunting in Venice | D16: US | E16: 54393.41 | F16: 8248 | G16: 20 | H16: 45184 | I16: Theatrical Film Distribution / WDSMPI
A17: =IF(B17<>"",ROWS($B$6:B17),"") -> 12 | B17: Lesė.Naujas nuotykis | C17: Lassie – Ein neues Abenteuer | D17: DE | E17: 40048.5 | F17: 8290 | G17: 18 | H17: 45170 | I17: Garsų pasaulio įrašai
... A73: =IF(B73<>"",ROWS($B$6:B73),"") -> 68 | B73: Karo ponis | C73: War Pony | D73: US, UK | E73: 5 | F73: 1 | G73: 1 | H73: 45154 | I73: Europos kinas
E74: =SUBTOTAL(109,Table3_Rugsėjis[Pajamos]) -> 1287881.5 | F74: =SUBTOTAL(109,Table3_Rugsėjis[Žiūrovų skaičius]) -> 204061

Sheet Spalis
A1: ='2023'!A1 -> 2023
A2: ='2023'!A2 -> Lietuvos kino teatruose rodytų filmų TOP
A3: Spalis
A5: Eil. Nr. | B5: Filmo pavadinimas | C5: Filmo pavadinimas originalo kalba | D5: Kilmės šalis | E5: Pajamos | F5: Žiūrovų skaičius | G5: Kopijų skaičius | H5: Premjeros data | I5: Platintojas
A6: =IF(B6<>"",ROWS($B$6:B6),"") -> 1 | B6: Troliai 3 | C6: Trolls Band Together | D6: US | E6: 352187.57 | F6: 63949 | G6: 33 | H6: 45212 | I6: Dukine Film Distribution / Universal Pictures
A7: =IF(B7<>"",ROWS($B$6:B7),"") -> 2 | B7: Penkios naktys pas Fredį | C7: Five Nights at Freddy's | D7: US | E7: 245429.92 | F7: 37204 | G7: 16 | H7: 45226 | I7: Dukine Film Distribution / Universal Pictures
A8: =IF(B8<>"",ROWS($B$6:B8),"") -> 3 | B8: Aš gyvas | C8: Aš gyvas | D8: LT | E8: 164954.04 | F8: 23952 | G8: 14 | H8: 45198 | I8: Stambus planas
A9: =IF(B9<>"",ROWS($B$6:B9),"") -> 4 | B9: Gėlių mėnulio žudikai | C9: Killers of the Flower Moon | D9: US | E9: 126026 | F9: 17180 | G9: 20 | H9: 45219 | I9: Dukine Film Distribution / Paramount Pictures
A10: =IF(B10<>"",ROWS($B$6:B10),"") -> 5 | B10: Egzorcistas: tikintysis | C10: Exorcist: The Believer | D10: US | E10: 114721.91 | F10: 17153 | G10: 14 | H10: 45205 | I10: Dukine Film Distribution / Universal Pictures
A11: =IF(B11<>"",ROWS($B$6:B11),"") -> 6 | B11: Kūrėjas | C11: The Creator | D11: US | E11: 112420.42 | F11: 16860 | G11: 17 | H11: 45205 | I11: Theatrical Film Distribution / WDSMPI
A12: =IF(B12<>"",ROWS($B$6:B12),"") -> 7 | B12: Tu man nieko neprimeni | C12: Tu man nieko neprimeni | D12: LT, ES, SE | E12: 104207.88 | F12: 16288 | G12: 23 | H12: 45191 | I12: Europos kinas
A13: =IF(B13<>"",ROWS($B$6:B13),"") -> 8 | B13: Šunyčiai patruliai 2. Galingas filmas | C13: PAW Patrol: The Mighty Movie | D13: US, CA | E13: 102429.85 | F13: 20150 | G13: 22 | H13: 45226 | I13: Dukine Film Distribution / Paramount Pictures
A14: =IF(B14<>"",ROWS($B$6:B14),"") -> 9 | B14: Pjūklas X | C14: Saw X | D14: US, CA, MX | E14: 95838.37 | F14: 14279 | G14: 14 | H14: 45198 | I14: ACME Film
A15: =IF(B15<>"",ROWS($B$6:B15),"") -> 10 | B15: Stebuklingoji boružėlė ir juodasis katinas | C15: Ladybug & Cat Noir: The Awakening | D15: FR | E15: 62855.25 | F15: 12046 | G15: 14 | H15: 45184 | I15: ACME Film
A16: =IF(B16<>"",ROWS($B$6:B16),"") -> 11 | B16: Paslaptinga požemių karalystė | C16: The Secret Kingdom | D16: AU | E16: 51724.37 | F16: 9886 | G16: 17 | H16: 45198 | I16: ACME Film
A17: =IF(B17<>"",ROWS($B$6:B17),"") -> 12 | B17: Pranašystė Lietuvai | C17: Pranašystė Lietuvai | D17: LT | E17: 35745.07 | F17: 5723 | G17: 14 | H17: 45219 | I17: Maobori production
... A40: =IF(B40<>"",ROWS($B$6:B40),"") -> 35 | B40: After. Amžinai (After Everything) | C40: After. Amžinai (After Everything) | D40: US | E40: 3177 | F40: 512 | G40: 3 | H40: 45184 | I40: Garsų pasaulio įrašai
A41: =IF(B41<>"",ROWS($B$6:B41),"") -> 36 | B41: Mielas Deividai | C41: Dear David | D41: US | E41: 3116.21 | F41: 460 | G41: 11 | H41: Preview | I41: ACME Film
A42: =IF(B42<>"",ROWS($B$6:B42),"") -> 37 | B42: Laisvės garsas | C42: Sound of Freedom | D42: US, MX | E42: 2047 | F42: 410 | G42: 5 | H42: 45156 | I42: Theatrical Film Distribution
A43: =IF(B43<>"",ROWS($B$6:B43),"") -> 38 | B43: Gražuolė ir Sebastianas. Naujoji karta | C43: Belle & Sebastien – Next Generation | D43: FR | E43: 1968.79 | F43: 533 | G43: 3 | H43: 45051 | I43: Best Film
A44: =IF(B44<>"",ROWS($B$6:B44),"") -> 39 | B44: Drakonas ir strazdanotoji gražuolė | C44: Ryû to sobakasu no hime | D44: JP | E44: 1788 | F44: 355 | G44: 1 | H44: 44655 | I44: Europos kinas
A45: =IF(B45<>"",ROWS($B$6:B45),"") -> 40 | B45: Ekvalaizeris 3: Paskutinė kova | C45: Equalizer 3 | D45: US | E45: 1714.93 | F45: 314 | G45: 3 | H45: 45170 | I45: ACME Film / SONY
A46: =IF(B46<>"",ROWS($B$6:B46),"") -> 41 | B46: Lesė. Naujas nuotykis | C46: Lassie – Ein neues Abenteuer | D46: DE | E46: 1630.5 | F46: 304 | G46: 2 | H46: 45170 | I46: Garsų pasaulio įrašai
A47: =IF(B47<>"",ROWS($B$6:B47),"") -> 42 | B47: Vakar | C47: Yesterday | D47: LT | E47: 1607 | F47: 426 | G47: 3 | H47: 45177 | I47: Garsų pasaulio įrašai
A48: =IF(B48<>"",ROWS($B$6:B48),"") -> 43 | B48: Katakas. Kelionė į ledynų kraštą | C48: Katak: The Brave Beluga | D48: CA | E48: 1379.47 | F48: 367 | G48: 7 | H48: 45191 | I48: Estinfilm
A49: =IF(B49<>"",ROWS($B$6:B49),"") -> 44 | B49: Lenos jūra | C49: Zeevonk | D49: BE, NL | E49: 1079 | F49: 285 | G49: 1 | H49: 45214 | I49: Skalvijos kino centras
A50: =IF(B50<>"",ROWS($B$6:B50),"") -> 45 | B50: Du bilietai į Graikiją | C50: Les Cyclades | D50: FR | E50: 851.4 | F50: 127 | G50: 2 | H50: 45156 | I50: Estinfilm
A51: =IF(B51<>"",ROWS($B$6:B51),"") -> 46 | B51: Karavadžo šešėlis | C51: Caravaggio's Shadow | D51: IT | E51: 807.1 | F51: 177 | G51: 3 | H51: 45135 | I51: Best Film
A52: =IF(B52<>"",ROWS($B$6:B52),"") -> 47 | B52: Mavka Forest Song | C52: Mavka Forest Song | D52: UA, US | E52: 710.35 | F52: 133 | G52: 2 | H52: 45121 | I52: ACME Film
A53: =IF(B53<>"",ROWS($B$6:B53),"") -> 48 | B53: Suteik man sparnus | C53: Donne moi des Ailes | D53: FR | E53: 505 | F53: 179 | G53: 2 | H53: 44007 | I53: Europos kinas
... A79: =IF(B79<>"",ROWS($B$6:B79),"") -> 74 | B79: Aklas gluosnis, mieganti moteris | C79: Blind Willow, Sleeping Woman | D79: FR, CA, NL, LU | E79: 14 | F79: 4 | G79: 1 | H79: 45012 | I79: Europos kinas
E80: =SUBTOTAL(109,Table3_Spalis[Pajamos]) -> 1908190.1 | F80: =SUBTOTAL(109,Table3_Spalis[Žiūrovų skaičius]) -> 311420

Sheet Lapkritis
A1: ='2023'!A1 -> 2023
A2: ='2023'!A2 -> Lietuvos kino teatruose rodytų filmų TOP
A3: Lapkritis
A5: Eil. Nr. | B5: Filmo pavadinimas | C5: Filmo pavadinimas originalo kalba | D5: Kilmės šalis | E5: Pajamos | F5: Žiūrovų skaičius | G5: Kopijų skaičius | H5: Premjeros data | I5: Platintojas
A6: =IF(B6<>"",ROWS($B$6:B6),"") -> 1 | B6: Bado žaidynės: Sakmė apie strazdą ir gyvatę | C6: Hunger Games: The Ballad of Songbirds and Snakes | D6: US | E6: 210602.48 | F6: 28400 | G6: 17 | H6: 45247 | I6: ACME Film
A7: =IF(B7<>"",ROWS($B$6:B7),"") -> 2 | B7: Šunyčiai patruliai 2. Galingas filmas | C7: PAW Patrol: The Mighty Movie | D7: US, CA | E7: 195898.57 | F7: 37513 | G7: 21 | H7: 45226 | I7: Dukine Film Distribution / Paramount Pictures
A8: =IF(B8<>"",ROWS($B$6:B8),"") -> 3 | B8: Šeima | C8: Šeima | D8: LT | E8: 195007 | F8: 29140 | G8: 10 | H8: 45233 | I8: All screens
A9: =IF(B9<>"",ROWS($B$6:B9),"") -> 4 | B9: Penkios naktys pas Fredį | C9: Five Nights at Freddy's | D9: US | E9: 169007.3 | F9: 25160 | G9: 16 | H9: 45226 | I9: Dukine Film Distribution / Universal Pictures
A10: =IF(B10<>"",ROWS($B$6:B10),"") -> 5 | B10: Troliai 3 | C10: Trolls Band Together | D10: US | E10: 138539.13 | F10: 24952 | G10: 26 | H10: 45212 | I10: Dukine Film Distribution / Universal Pictures
A11: =IF(B11<>"",ROWS($B$6:B11),"") -> 6 | B11: Gėlių mėnulio žudikai | C11: Killers of the Flower Moon | D11: US | E11: 107107.14 | F11: 15114 | G11: 17 | H11: 45219 | I11: Dukine Film Distribution / Paramount Pictures
A12: =IF(B12<>"",ROWS($B$6:B12),"") -> 7 | B12: Kapitonė Marvel 2 | C12: The Marvels | D12: US | E12: 91981.49 | F12: 12289 | G12: 23 | H12: 45240 | I12: Theatrical Film Distribution / WDSMPI
A13: =IF(B13<>"",ROWS($B$6:B13),"") -> 8 | B13: Noras | C13: Wish | D13: US | E13: 64795.74 | F13: 12658 | G13: 24 | H13: 45254 | I13: Theatrical Film Distribution / WDSMPI
A14: =IF(B14<>"",ROWS($B$6:B14),"") -> 9 | B14: Pelkių karaliaus dukra | C14: Marsh King's Daughter | D14: US | E14: 51702.26 | F14: 7437 | G14: 15 | H14: 45240 | I14: ACME Film
A15: =IF(B15<>"",ROWS($B$6:B15),"") -> 10 | B15: Laikinai Jūsų | C15: Laikinai Jūsų | D15: LT | E15: 43323 | F15: 6515 | G15: 10 | H15: 45254 | I15: Singing fish
A16: =IF(B16<>"",ROWS($B$6:B16),"") -> 11 | B16: Džiunglių būrys 2 | C16: Jungle Bunch 2 (Les as de la Jungle 2) | D16: FR | E16: 40028.76 | F16: 7760 | G16: 20 | H16: 45240 | I16: ACME Film
A17: =IF(B17<>"",ROWS($B$6:B17),"") -> 12 | B17: Gurmaniška aistra | C17: Pot au Feu de Dodin Bouffant | D17: FR | E17: 29337.06 | F17: 4580 | G17: 16 | H17: 45254 | I17: ACME Film
A18: =IF(B18<>"",ROWS($B$6:B18),"") -> 13 | B18: Broliai lokiai: Dingęs lobis (Boonie Bears: Guardian Code) | C18: Broliai lokiai: Dingęs lobis (Boonie Bears: Guardian Code) | D18: CN | E18: 26317.69 | F18: 5051 | G18: 16 | H18: 45233 | I18: Unlimited Media OÜ
A19: =IF(B19<>"",ROWS($B$6:B19),"") -> 14 | B19: Napoleonas | C19: Napoleon | D19: US, UK | E19: 22269.63 | F19: 2815 | G19: 13 | H19: Preview | I19: ACME Film / SONY
A20: =IF(B20<>"",ROWS($B$6:B20),"") -> 15 | B20: Praėję gyvenimai | C20: Past lives | D20: US, KR | E20: 21405.76 | F20: 3438 | G20: 20 | H20: 45254 | I20: Europos kinas
A21: =IF(B21<>"",ROWS($B$6:B21),"") -> 16 | B21: Kūrėjas | C21: The Creator | D21: US | E21: 18973.27 | F21: 2534 | G21: 7 | H21: 45205 | I21: Theatrical Film Distribution / WDSMPI
A22: =IF(B22<>"",ROWS($B$6:B22),"") -> 17 | B22: Pabaisiukė | C22: Scarygirl | D22: AU | E22: 17596.55 | F22: 3369 | G22: 14 | H22: 45247 | I22: Best Film
A23: =IF(B23<>"",ROWS($B$6:B23),"") -> 18 | B23: Laisvai samdomas | C23: Freelance | D23: US | E23: 17539.69 | F23: 2594 | G23: 15 | H23: 45247 | I23: Adastra Cinema
A24: =IF(B24<>"",ROWS($B$6:B24),"") -> 19 | B24: Tu man nieko neprimeni | C24: Tu man nieko neprimeni | D24: LT, ES, SE | E24: 16364.21 | F24: 2498 | G24: 10 | H24: 45191 | I24: Europos kinas
A25: =IF(B25<>"",ROWS($B$6:B25),"") -> 20 | B25: Mielas Deividai | C25: Dear David | D25: US | E25: 16171.09 | F25: 2306 | G25: 13 | H25: 45233 | I25: ACME Film
A26: =IF(B26<>"",ROWS($B$6:B26),"") -> 21 | B26: Pavojinga jūra | C26: Dangerous Water | D26: US | E26: 15916.21 | F26: 2262 | G26: 11 | H26: 45233 | I26: Theatrical Film Distribution
A27: =IF(B27<>"",ROWS($B$6:B27),"") -> 22 | B27: Egzorcistas: tikintysis | C27: Exorcist: The Believer | D27: US | E27: 15141.85 | F27: 1969 | G27: 10 | H27: 45205 | I27: Dukine Film Distribution / Universal Pictures
A28: =IF(B28<>"",ROWS($B$6:B28),"") -> 23 | B28: Per arti | C28: Per arti | D28: LT | E28: 14052.27 | F28: 2363 | G28: 18 | H28: 45226 | I28: Europos kinas
A29: =IF(B29<>"",ROWS($B$6:B29),"") -> 24 | B29: Pranašystė Lietuvai | C29: Pranašystė Lietuvai | D29: LT | E29: 10359.96 | F29: 1740 | G29: 12 | H29: 45219 | I29: Maobori production
A30: =IF(B30<>"",ROWS($B$6:B30),"") -> 25 | B30: Kapitonas. Pauliaus Jankūno istorija | C30: Kapitonas. Pauliaus Jankūno istorija | D30: LT | E30: 9824.94 | F30: 1657 | G30: 7 | H30: 45248 | I30: Sporto zona Media Group
A31: =IF(B31<>"",ROWS($B$6:B31),"") -> 26 | B31: Nukritę lapai | C31: Kuolleet lehdet | D31: FI | E31: 9571 | F31: 1632 | G31: 10 | H31: 45254 | I31: A-One Films
... A47: =IF(B47<>"",ROWS($B$6:B47),"") -> 42 | B47: Santuoka keturiems | C47: Nelja pientä aikuista | D47: FI | E47: 2368.4 | F47: 386 | G47: 6 | H47: 45254 | I47: Estinfilm
A48: =IF(B48<>"",ROWS($B$6:B48),"") -> 43 | B48: Čiulbanti siela | C48: Čiulbanti siela | D48: LT | E48: 1353.6 | F48: 165 | G48: 1 | H48: Preview | I48: Taip toliau
A49: =IF(B49<>"",ROWS($B$6:B49),"") -> 44 | B49: Gauja | C49: Smecka | D49: CZ, SK, LV | E49: 1351 | F49: 274 | G49: 1 | H49: 44302 | I49: Skalvijos kino centras
A50: =IF(B50<>"",ROWS($B$6:B50),"") -> 45 | B50: Kvaili pinigai | C50: Dumb Money | D50: US | E50: 1334.84 | F50: 199 | G50: 4 | H50: 45212 | I50: ACME Film
A51: =IF(B51<>"",ROWS($B$6:B51),"") -> 46 | B51: Lenos jūra | C51: Zeevonk | D51: BE, NL | E51: 1318 | F51: 315 | G51: 1 | H51: 45214 | I51: Skalvijos kino centras
A52: =IF(B52<>"",ROWS($B$6:B52),"") -> 47 | B52: Stebuklingoji boružėlė ir juodasis katinas | C52: Ladybug & Cat Noir: The Awakening | D52: FR | E52: 1233.42 | F52: 249 | G52: 4 | H52: 45184 | I52: ACME Film
A53: =IF(B53<>"",ROWS($B$6:B53),"") -> 48 | B53: Peteris fon Kantas | C53: Peter von Kant | D53: FR | E53: 1242.5 | F53: 355 | G53: 1 | H53: 44890 | I53: A-One Films
A54: =IF(B54<>"",ROWS($B$6:B54),"") -> 49 | B54: Superkomikė | C54: Comedy Queen | D54: SE | E54: 1144 | F54: 294 | G54: 1 | H54: 45225 | I54: Kino aljansas
A55: =IF(B55<>"",ROWS($B$6:B55),"") -> 50 | B55: Mano mama gorila | C55: Apstjärnan | D55: SE, DK, FI | E55: 1068 | F55: 356 | G55: 1 | H55: 44493 | I55: Skalvijos kino centras
A56: =IF(B56<>"",ROWS($B$6:B56),"") -> 51 | B56: Aš niekada neverkiu | C56: Jak Najdalej Stad | D56: PL, IE | E56: 1014 | F56: 252 | G56: 1 | H56: 44431 | I56: Skalvijos kino centras
A57: =IF(B57<>"",ROWS($B$6:B57),"") -> 52 | B57: Poetas | C57: Poetas | D57: LT | E57: 977 | F57: 187 | G57: 2 | H57: 44974 | I57: ACME Film
A58: =IF(B58<>"",ROWS($B$6:B58),"") -> 53 | B58: Drugelio Širdis | C58: Drugelio Širdis | D58: LT | E58: 911 | F58: 215 | G58: 3 | H58: 44659 | I58: ACME Film
A59: =IF(B59<>"",ROWS($B$6:B59),"") -> 54 | B59: Aš esu Rožytė | C59: Aš esu Rožytė | D59: LT | E59: 621 | F59: 111 | G59: 1 | H59: 45213 | I59: Ketvirta versija
A60: =IF(B60<>"",ROWS($B$6:B60),"") -> 55 | B60: Gran Turismo | C60: Gran Turismo | D60: US | E60: 491.65 | F60: 146 | G60: 1 | H60: 45149 | I60: ACME Film / SONY
... A79: =IF(B79<>"",ROWS($B$6:B79),"") -> 74 | B79: Visos Bo baimės | C79: Beau is afraid | D79: US | E79: 8 | F79: 2 | G79: 1 | H79: 45044 | I79: Adastra Cinema
E80: =SUBTOTAL(109,Table3_Lapkritis[Pajamos]) -> 1671321.3 | F80: =SUBTOTAL(109,Table3_Lapkritis[Žiūrovų skaičius]) -> 265366

Sheet Gruodis
A1: ='2023'!A1 -> 2023
A2: ='2023'!A2 -> Lietuvos kino teatruose rodytų filmų TOP
A3: Gruodis
A5: Eil. Nr. | B5: Filmo pavadinimas | C5: Filmo pavadinimas originalo kalba | D5: Kilmės šalis | E5: Pajamos | F5: Žiūrovų skaičius | G5: Kopijų skaičius | H5: Premjeros data | I5: Platintojas
A6: =IF(B6<>"",ROWS($B$6:B6),"") -> 1 | B6: Napoleonas | C6: Napoleon | D6: US, UK | E6: 418753.58 | F6: 57305 | G6: 21 | H6: 45261 | I6: ACME Film / SONY
A7: =IF(B7<>"",ROWS($B$6:B7),"") -> 2 | B7: Milijonieriaus palikimas | C7: Milijonieriaus palikimas | D7: LT | E7: 380954 | F7: 50342 | G7: 24 | H7: 45289 | I7: Vabalo filmai
A8: =IF(B8<>"",ROWS($B$6:B8),"") -> 3 | B8: Vonka | C8: Wonka | D8: US, UK | E8: 332098.06 | F8: 57223 | G8: 19 | H8: 45275 | I8: ACME Film / WB
A9: =IF(B9<>"",ROWS($B$6:B9),"") -> 4 | B9: Didžioji ančių kelionė | C9: Migration | D9: US, FR | E9: 229679.16 | F9: 40360 | G9: 32 | H9: 45282 | I9: Dukine Film Distribution / Universal Pictures
A10: =IF(B10<>"",ROWS($B$6:B10),"") -> 5 | B10: Noras | C10: Wish | D10: US | E10: 153996.24 | F10: 29074 | G10: 24 | H10: 45254 | I10: Theatrical Film Distribution / WDSMPI
A11: =IF(B11<>"",ROWS($B$6:B11),"") -> 6 | B11: Akvamenas 2: Prarasta karalystė | C11: Aquaman and The Lost Kingdom | D11: US | E11: 128488.92 | F11: 17968 | G11: 16 | H11: 45282 | I11: ACME Film / WB
A12: =IF(B12<>"",ROWS($B$6:B12),"") -> 7 | B12: Bado žaidynės: Sakmė apie strazdą ir gyvatę | C12: Hunger Games: The Ballad of Songbirds and Snakes | D12: US | E12: 113168.82 | F12: 16935 | G12: 12 | H12: 45247 | I12: ACME Film
A13: =IF(B13<>"",ROWS($B$6:B13),"") -> 8 | B13: Kentervilio pilies vaiduoklis | C13: The Canterville Ghost | D13: UK | E13: 33936 | F13: 6844 | G13: 18 | H13: 45268 | I13: Garsų pasaulio įrašai
A14: =IF(B14<>"",ROWS($B$6:B14),"") -> 9 | B14: Padėkos diena | C14: Thanksgiving | D14: US | E14: 33855.83 | F14: 4780 | G14: 14 | H14: 45268 | I14: ACME Film / SONY
A15: =IF(B15<>"",ROWS($B$6:B15),"") -> 10 | B15: Kalėdos Batsiuvių gatvėje | C15: Christmas on Cobbler Street | D15: NO | E15: 28893.99 | F15: 6255 | G15: 16 | H15: 45261 | I15: Unlimited Media OÜ
A16: =IF(B16<>"",ROWS($B$6:B16),"") -> 11 | B16: Čiulbanti siela | C16: Čiulbanti siela | D16: LT | E16: 24787.19 | F16: 3334 | G16: 5 | H16: 45261 | I16: Taip toliau
A17: =IF(B17<>"",ROWS($B$6:B17),"") -> 12 | B17: Sapnų scenarijus | C17: Dream Scenario | D17: US | E17: 24771.95 | F17: 3956 | G17: 18 | H17: 45275 | I17: Europos kinas
... A46: =IF(B46<>"",ROWS($B$6:B46),"") -> 41 | B46: Bučiuoju, Juozas | C46: Bučiuoju, Juozas | D46: LT | E46: 1490 | F46: 298 | G46: 1 | H46: 45198 | I46: Cinema Ads
A47: =IF(B47<>"",ROWS($B$6:B47),"") -> 42 | B47: Kosminiai draugai | C47: Headspace | D47: ZA | E47: 1400 | F47: 250 | G47: 1 | H47: Preview | I47: ACME Film
A48: =IF(B48<>"",ROWS($B$6:B48),"") -> 43 | B48: Laisvai samdomas | C48: Freelance | D48: US | E48: 1134.35 | F48: 179 | G48: 4 | H48: 45247 | I48: Adastra Cinema
A49: =IF(B49<>"",ROWS($B$6:B49),"") -> 44 | B49: 9-as žingsnis | C49: 9-as žingsnis | D49: LT | E49: 1015 | F49: 203 | G49: 1 | H49: 45205 | I49: ACME Film
A50: =IF(B50<>"",ROWS($B$6:B50),"") -> 45 | B50: Gyvenimas po mirties | C50: Gyvenimas po mirties | D50: LT | E50: 950 | F50: 150 | G50: 6 | H50: 45044 | I50: Film Jam
A51: =IF(B51<>"",ROWS($B$6:B51),"") -> 46 | B51: Gauja | C51: Smecka | D51: CZ, SK, LV | E51: 880 | F51: 220 | G51: 1 | H51: 44302 | I51: Skalvijos kino centras
A52: =IF(B52<>"",ROWS($B$6:B52),"") -> 47 | B52: Superkomikė | C52: Comedy Queen | D52: SE | E52: 864 | F52: 156 | G52: 1 | H52: 45225 | I52: Kino aljansas
A53: =IF(B53<>"",ROWS($B$6:B53),"") -> 48 | B53: Apverstas bokštas | C53: Tagurpidi torn | D53: LV, EE | E53: 840 | F53: 208 | G53: 1 | H53: 44807 | I53: Skalvijos kino centras
A54: =IF(B54<>"",ROWS($B$6:B54),"") -> 49 | B54: Priscilla | C54: Priscilla | D54: US, IT | E54: 830.4 | F54: 112 | G54: 1 | H54: Preview | I54: Europos kinas
A55: =IF(B55<>"",ROWS($B$6:B55),"") -> 50 | B55: Bintė | C55: Binti | D55: BE | E55: 801 | F55: 251 | G55: 1 | H55: 44080 | I55: Skalvijos kino centras
A56: =IF(B56<>"",ROWS($B$6:B56),"") -> 51 | B56: Laisvės garsas | C56: Sound of Freedom | D56: US, MX | E56: 800 | F56: 160 | G56: 2 | H56: 45156 | I56: Theatrical Film Distribution
A57: =IF(B57<>"",ROWS($B$6:B57),"") -> 52 | B57: Tiesiog super! | C57: Helt super | D57: NO | E57: 794.2 | F57: 180 | G57: 4 | H57: 45289 | I57: Estinfilm
A58: =IF(B58<>"",ROWS($B$6:B58),"") -> 53 | B58: Suteik man sparnus | C58: Donne moi des Ailes | D58: FR | E58: 671.1 | F58: 152 | G58: 1 | H58: 44007 | I58: Europos kinas
A59: =IF(B59<>"",ROWS($B$6:B59),"") -> 54 | B59: Kapitonė Marvel 2 | C59: The Marvels | D59: US | E59: 647.19 | F59: 115 | G59: 4 | H59: 45240 | I59: Theatrical Film Distribution / WDSMPI
A60: =IF(B60<>"",ROWS($B$6:B60),"") -> 55 | B60: Egzorcistas: tikintysis | C60: Exorcist: The Believer | D60: US | E60: 603.1 | F60: 80 | G60: 1 | H60: 45205 | I60: Dukine Film Distribution / Universal Pictures
A61: =IF(B61<>"",ROWS($B$6:B61),"") -> 56 | B61: Per arti | C61: Per arti | D61: LT | E61: 582 | F61: 94 | G61: 4 | H61: 45226 | I61: Europos kinas
A62: =IF(B62<>"",ROWS($B$6:B62),"") -> 57 | B62: Tamsta Varlius | C62: Meester Kikker | D62: NL | E62: 525.25 | F62: 134 | G62: 1 | H62: 42654 | I62: Skalvijos kino centras
A63: =IF(B63<>"",ROWS($B$6:B63),"") -> 58 | B63: Openheimeris | C63: Oppenheimer | D63: US, UK | E63: 442.9 | F63: 74 | G63: 3 | H63: 45128 | I63: Dukine Film Distribution / Universal Pictures
A64: =IF(B64<>"",ROWS($B$6:B64),"") -> 59 | B64: Samsara | C64: Samsara | D64: ES | E64: 354.4 | F64: 62 | G64: 2 | H64: 45205 | I64: Taip toliau
A65: =IF(B65<>"",ROWS($B$6:B65),"") -> 60 | B65: Tigro kelionė Himalajuose | C65: Tigers Nest | D65: IT | E65: 342.08 | F65: 99 | G65: 2 | H65: 44855 | I65: ACME Film
A66: =IF(B66<>"",ROWS($B$6:B66),"") -> 61 | B66: Santuoka keturiems | C66: Nelja pientä aikuista | D66: FI | E66: 327.4 | F66: 72 | G66: 5 | H66: 45254 | I66: Estinfilm
... A89: =IF(B89<>"",ROWS($B$6:B89),"") -> 84 | B89: Makliai (Die Mucklas...und wie sie zu Pettersson und Findus kamen) | C89: Makliai (Die Mucklas...und wie sie zu Pettersson und Findus kamen) | D89: DE | E89: 15 | F89: 3 | G89: 1 | H89: 45191 | I89: Garsų pasaulio įrašai
E90: =SUBTOTAL(109,Table3_Gruodis[Pajamos]) -> 2145788.6 | F90: =SUBTOTAL(109,Table3_Gruodis[Žiūrovų skaičius]) -> 335732
