Workbook

Sheet Suvestinė
B1: 2023
B2: Rodiklis | C2: Reikšmė
B3: Premjerų skaičius | C3: 272
B4: Lietuviškų filmų premjerų skaičius | C4: 33
B5: Bendras filmų skaičius | C5: 402
B6: Bendros pajamos | C6: 21473832
B7: Bendras žiūrovų skaičius | C7: 3449356
B9: Filmų dalis rinkoje, %
B10: Kategorija | C10: Pajamos | D10: Žiūrovų skaičius | E10: Pajamos % | F10: Žiūrovų skaičius % | G10: Filmų skaičius
B11: Lietuva | C11: 3282258.2 | D11: 513442 | E11: 15.285 | F11: 14.885 | G11: 47
B12: Europa | C12: 2349874 | D12: 462981 | E12: 10.943 | F12: 13.422 | G12: 185
B13: JAV | C13: 14660001 | D13: 2270255 | E13: 68.269 | F13: 65.817 | G13: 139
B14: Kita | C14: 1181698.4 | D14: 202678 | E14: 5.503 | F14: 5.876 | G14: 31
B15: Total | C15: =SUBTOTAL(109,Table1[Pajamos]) -> 21473832 | D15: =SUBTOTAL(109,Table1[Žiūrovų skaičius]) -> 3449356 | E15: =SUBTOTAL(109,Table1[Pajamos %]) -> 100 | F15: =SUBTOTAL(109,Table1[Žiūrovų skaičius %]) -> 100 | G15: =SUBTOTAL(109,Table1[Filmų skaičius]) -> 402
B46: Pasiskirstymas pagal platintojus
A47: Eil. nr | B47: Platintojas | C47: Pajamos | D47: Žiūrovų skaičius | E47: Filmų skaičius | F47: Pajamos % | G47: Žiūrovų skaičius %
A48: =IF(B48<>"",ROWS($B$48:B48),"") -> 1 | B48: Dukine Film Distribution / Universal Pictures International | C48: 4360589 | D48: 715768 | E48: 19 | F48: =_xlfn.PERCENTOF(Table18[[#This Row],[Pajamos]],Table18[[#Totals],[Pajamos]]) -> 0.20306525 | G48: =_xlfn.PERCENTOF(Table18[[#This Row],[Žiūrovų skaičius]],Table18[[#Totals],[Žiūrovų skaičius]]) -> 0.20750772
A49: =IF(B49<>"",ROWS($B$48:B49),"") -> 2 | B49: Theatrical Film Distribution / WDSMPI | C49: 3350459.9 | D49: 506427 | E49: 18 | F49: =_xlfn.PERCENTOF(Table18[[#This Row],[Pajamos]],Table18[[#Totals],[Pajamos]]) -> 0.15602524 | G49: =_xlfn.PERCENTOF(Table18[[#This Row],[Žiūrovų skaičius]],Table18[[#Totals],[Žiūrovų skaičius]]) -> 0.14681784
A50: =IF(B50<>"",ROWS($B$48:B50),"") -> 3 | B50: ACME Film / WB | C50: 2866658.6 | D50: 453094 | E50: 18 | F50: =_xlfn.PERCENTOF(Table18[[#This Row],[Pajamos]],Table18[[#Totals],[Pajamos]]) -> 0.13349544 | G50: =_xlfn.PERCENTOF(Table18[[#This Row],[Žiūrovų skaičius]],Table18[[#Totals],[Žiūrovų skaičius]]) -> 0.13135611
A51: =IF(B51<>"",ROWS($B$48:B51),"") -> 4 | B51: ACME Film | C51: 2363469.7 | D51: 385108 | E51: 44 | F51: =_xlfn.PERCENTOF(Table18[[#This Row],[Pajamos]],Table18[[#Totals],[Pajamos]]) -> 0.11006278 | G51: =_xlfn.PERCENTOF(Table18[[#This Row],[Žiūrovų skaičius]],Table18[[#Totals],[Žiūrovų skaičius]]) -> 0.11164635
A52: =IF(B52<>"",ROWS($B$48:B52),"") -> 5 | B52: ACME Film / SONY | C52: 1910678.2 | D52: 288287 | E52: 18 | F52: =_xlfn.PERCENTOF(Table18[[#This Row],[Pajamos]],Table18[[#Totals],[Pajamos]]) -> 0.088977047 | G52: =_xlfn.PERCENTOF(Table18[[#This Row],[Žiūrovų skaičius]],Table18[[#Totals],[Žiūrovų skaičius]]) -> 0.08357705
A53: =IF(B53<>"",ROWS($B$48:B53),"") -> 6 | B53: Dukine Film Distribution / Paramount Pictures | C53: 1284431.2 | D53: 206407 | E53: 11 | F53: =_xlfn.PERCENTOF(Table18[[#This Row],[Pajamos]],Table18[[#Totals],[Pajamos]]) -> 0.059813786 | G53: =_xlfn.PERCENTOF(Table18[[#This Row],[Žiūrovų skaičius]],Table18[[#Totals],[Žiūrovų skaičius]]) -> 0.059839286
A54: =IF(B54<>"",ROWS($B$48:B54),"") -> 7 | B54: Stambus planas | C54: 1010087.5 | D54: 150491 | E54: 2 | F54: =_xlfn.PERCENTOF(Table18[[#This Row],[Pajamos]],Table18[[#Totals],[Pajamos]]) -> 0.047038063 | G54: =_xlfn.PERCENTOF(Table18[[#This Row],[Žiūrovų skaičius]],Table18[[#Totals],[Žiūrovų skaičius]]) -> 0.043628724
A55: =IF(B55<>"",ROWS($B$48:B55),"") -> 8 | B55: Garsų pasaulio įrašai | C55: 595021 | D55: 108192 | E55: 25 | F55: =_xlfn.PERCENTOF(Table18[[#This Row],[Pajamos]],Table18[[#Totals],[Pajamos]]) -> 0.02770912 | G55: =_xlfn.PERCENTOF(Table18[[#This Row],[Žiūrovų skaičius]],Table18[[#Totals],[Žiūrovų skaičius]]) -> 0.031365855
A56: =IF(B56<>"",ROWS($B$48:B56),"") -> 9 | B56: Adastra Cinema | C56: 584766.07 | D56: 111981 | E56: 15 | F56: =_xlfn.PERCENTOF(Table18[[#This Row],[Pajamos]],Table18[[#Totals],[Pajamos]]) -> 0.027231566 | G56: =_xlfn.PERCENTOF(Table18[[#This Row],[Žiūrovų skaičius]],Table18[[#Totals],[Žiūrovų skaičius]]) -> 0.032464321
A57: =IF(B57<>"",ROWS($B$48:B57),"") -> 10 | B57: Europos kinas | C57: 575878.72 | D57: 92125 | E57: 50 | F57: =_xlfn.PERCENTOF(Table18[[#This Row],[Pajamos]],Table18[[#Totals],[Pajamos]]) -> 0.026817697 | G57: =_xlfn.PERCENTOF(Table18[[#This Row],[Žiūrovų skaičius]],Table18[[#Totals],[Žiūrovų skaičius]]) -> 0.026707884
A58: =IF(B58<>"",ROWS($B$48:B58),"") -> 11 | B58: Vabalo filmai | C58: 380954 | D58: 50342 | E58: 1 | F58: =_xlfn.PERCENTOF(Table18[[#This Row],[Pajamos]],Table18[[#Totals],[Pajamos]]) -> 0.017740383 | G58: =_xlfn.PERCENTOF(Table18[[#This Row],[Žiūrovų skaičius]],Table18[[#Totals],[Žiūrovų skaičius]]) -> 0.014594608
A59: =IF(B59<>"",ROWS($B$48:B59),"") -> 12 | B59: Theatrical Film Distribution | C59: 312683.61 | D59: 50269 | E59: 19 | F59: =_xlfn.PERCENTOF(Table18[[#This Row],[Pajamos]],Table18[[#Totals],[Pajamos]]) -> 0.014561146 | G59: =_xlfn.PERCENTOF(Table18[[#This Row],[Žiūrovų skaičius]],Table18[[#Totals],[Žiūrovų skaičius]]) -> 0.014573445
... A94: =IF(B94<>"",ROWS($B$48:B94),"") -> 47 | B94: Studio Nominum | C94: 129 | D94: 29 | E94: 1 | F94: =_xlfn.PERCENTOF(Table18[[#This Row],[Pajamos]],Table18[[#Totals],[Pajamos]]) -> 6.0073116e-06 | G94: =_xlfn.PERCENTOF(Table18[[#This Row],[Žiūrovų skaičius]],Table18[[#Totals],[Žiūrovų skaičius]]) -> 8.4073665e-06
A95: Total | C95: =SUBTOTAL(109,Table18[Pajamos]) -> 21473832 | D95: =SUBTOTAL(109,Table18[Žiūrovų skaičius]) -> 3449356 | E95: =SUBTOTAL(109,Table18[Filmų skaičius]) -> 402 | F95: =SUBTOTAL(109,Table18[Pajamos %]) -> 1 | G95: =SUBTOTAL(109,Table18[Žiūrovų skaičius %]) -> 1
A98: LT TOP
A99: Eil. Nr. | B99: Filmo pavadinimas | C99: Pajamos | D99: Žiūrovų skaičius | E99: Premjeros data | F99: Platintojas
A100: 1 | B100: ReEmigrantai | C100: 770657.85 | D100: 116667 | E100: 44925 | F100: Stambus planas
A101: 2 | B101: Milijonieriaus palikimas | C101: 380954 | D101: 50342 | E101: 45289 | F101: Vabalo filmai
A102: 3 | B102: Poetas | C102: 284208.19 | D102: 48145 | E102: 44974 | F102: ACME Film
A103: 4 | B103: Vyrų svajonės | C103: 252219.08 | D103: 38279 | E103: 44960 | F103: Dublis LT
A104: 5 | B104: Kakė Makė: mano filmas | C104: 249578.61 | D104: 49794 | E104: 45037 | F104: Nj world
A105: 6 | B105: Paradas | C105: 243406.33 | D105: 38122 | E105: 44988 | F105: Po mokyklos
A106: 7 | B106: Aš gyvas | C106: 239429.62 | D106: 33824 | E106: 45198 | F106: Stambus planas
A107: 8 | B107: Tu man nieko neprimeni | C107: 205284.34 | D107: 31716 | E107: 45191 | F107: Europos kinas
...

Sheet Platintojų pasiskirstymas
A1: Platintojas | B1: Filmo pavadinimas | C1: Pajamos | D1: Žiūrovų skaičius | E1: Pajamos % | F1: Žiūrovų skaičius % | G1: Premjeros data
A2: Dukine Film Distribution / Universal Pictures International | B2: Openheimeris (Oppenheimer) | C2: 1097581.1 | D2: 154454 | E2: =_xlfn.PERCENTOF(C2,_2023[[#Totals],[Pajamos]]) -> 0.051112494 | F2: =_xlfn.PERCENTOF(D2,_2023[[#Totals],[Žiūrovų skaičius]]) -> 0.044777634 | G2: 45128
B3: Batuotas katinas Pūkis: paskutinis noras (Puss in Boots: The Last Wish) | C3: 736040.11 | D3: 135716 | E3: =_xlfn.PERCENTOF(C3,_2023[[#Totals],[Pajamos]]) -> 0.034276142 | F3: =_xlfn.PERCENTOF(D3,_2023[[#Totals],[Žiūrovų skaičius]]) -> 0.039345315 | G3: 44916
B4: Broliai Super Mario. Filmas (Super Mario Bros.) | C4: 589367.38 | D4: 108584 | E4: =_xlfn.PERCENTOF(C4,_2023[[#Totals],[Pajamos]]) -> 0.027445841 | F4: =_xlfn.PERCENTOF(D4,_2023[[#Totals],[Žiūrovų skaičius]]) -> 0.031479499 | G4: 45023
B5: Troliai 3 (Trolls Band Together) | C5: 496382.79 | D5: 90012 | E5: =_xlfn.PERCENTOF(C5,_2023[[#Totals],[Pajamos]]) -> 0.023115706 | F5: =_xlfn.PERCENTOF(D5,_2023[[#Totals],[Žiūrovų skaičius]]) -> 0.026095306 | G5: 45212
B6: Penkios naktys pas Fredį (Five Nights at Freddy's) | C6: 418075.41 | D6: 62974 | E6: =_xlfn.PERCENTOF(C6,_2023[[#Totals],[Pajamos]]) -> 0.019469064 | F6: =_xlfn.PERCENTOF(D6,_2023[[#Totals],[Žiūrovų skaičius]]) -> 0.018256741 | G6: 45226
B7: Greiti ir įsiutę 10 (Fast & Furious 10) | C7: 345634.42 | D7: 48283 | E7: =_xlfn.PERCENTOF(C7,_2023[[#Totals],[Pajamos]]) -> 0.01609561 | F7: =_xlfn.PERCENTOF(D7,_2023[[#Totals],[Žiūrovų skaičius]]) -> 0.013997685 | G7: 45065
B8: Didžioji ančių kelionė (Migration) | C8: 229679.16 | D8: 40360 | E8: =_xlfn.PERCENTOF(C8,_2023[[#Totals],[Pajamos]]) -> 0.01069577 | F8: =_xlfn.PERCENTOF(D8,_2023[[#Totals],[Žiūrovų skaičius]]) -> 0.011700735 | G8: 45282
B9: Egzorcistas: tikintysis (Exorcist: The Believer) | C9: 130466.86 | D9: 19202 | E9: =_xlfn.PERCENTOF(C9,_2023[[#Totals],[Pajamos]]) -> 0.0060756207 | F9: =_xlfn.PERCENTOF(D9,_2023[[#Totals],[Žiūrovų skaičius]]) -> 0.0055668362 | G9: 45205
B10: Jūrų pabaisa. Rubė Gilman (Ruby Gillman, Teenage Kraken) | C10: 95159.04 | D10: 20407 | E10: =_xlfn.PERCENTOF(C10,_2023[[#Totals],[Pajamos]]) -> 0.0044313954 | F10: =_xlfn.PERCENTOF(D10,_2023[[#Totals],[Žiūrovų skaičius]]) -> 0.0059161768 | G10: 45107
B11: M3gan (M3gan) | C11: 70291.85 | D11: 11174 | E11: =_xlfn.PERCENTOF(C11,_2023[[#Totals],[Pajamos]]) -> 0.0032733724 | F11: =_xlfn.PERCENTOF(D11,_2023[[#Totals],[Žiūrovų skaičius]]) -> 0.0032394453 | G11: 44939
B12: Asteroidų miestas (Asteroid City) | C12: 59174.18 | D12: 9605 | E12: =_xlfn.PERCENTOF(C12,_2023[[#Totals],[Pajamos]]) -> 0.0027556414 | F12: =_xlfn.PERCENTOF(D12,_2023[[#Totals],[Žiūrovų skaičius]]) -> 0.0027845778 | G12: 45086
B13: Kokaino lokys (Cocaine Bear) | C13: 38417.17 | D13: 5285 | E13: =_xlfn.PERCENTOF(C13,_2023[[#Totals],[Pajamos]]) -> 0.0017890226 | F13: =_xlfn.PERCENTOF(D13,_2023[[#Totals],[Žiūrovų skaičius]]) -> 0.0015321701 | G13: 44981
B14: Beldimas į trobelę (Knock at The Cabin) | C14: 18521.71 | D14: 2785 | E14: =_xlfn.PERCENTOF(C14,_2023[[#Totals],[Pajamos]]) -> 0.00086252467 | F14: =_xlfn.PERCENTOF(D14,_2023[[#Totals],[Žiūrovų skaičius]]) -> 0.00080739709 | G14: 44960
... B20: Bilietas į rojų (Ticket To Paradise) | C20: 397.5 | D20: 60 | E20: =_xlfn.PERCENTOF(C20,_2023[[#Totals],[Pajamos]]) -> 1.8510902e-05 | F20: =_xlfn.PERCENTOF(D20,_2023[[#Totals],[Žiūrovų skaičius]]) -> 1.7394551e-05 | G20: 44820
A21: Dukine Film Distribution / Universal Pictures International Total | B21: =COUNTA(B2:B20) -> 19 | C21: 4360589 | D21: 715768 | E21: =_xlfn.PERCENTOF(C21,_2023[[#Totals],[Pajamos]]) -> 0.20306525 | F21: =_xlfn.PERCENTOF(D21,_2023[[#Totals],[Žiūrovų skaičius]]) -> 0.20750772
A22: Theatrical Film Distribution / WDSMPI | B22: Įsikūnijimas. Vandens kelias (Avatar: The Way of Water) | C22: 1483460.1 | D22: 192417 | E22: =_xlfn.PERCENTOF(C22,_2023[[#Totals],[Pajamos]]) -> 0.069082225 | F22: =_xlfn.PERCENTOF(D22,_2023[[#Totals],[Žiūrovų skaičius]]) -> 0.055783456 | G22: 44911
B23: Stichijos (Elemental) | C23: 522025.99 | D23: 102722 | E23: =_xlfn.PERCENTOF(C23,_2023[[#Totals],[Pajamos]]) -> 0.024309866 | F23: =_xlfn.PERCENTOF(D23,_2023[[#Totals],[Žiūrovų skaičius]]) -> 0.029780052 | G23: 45093
B24: Galaktikos sergėtojai. III dalis (Guardians of the Galaxy Vol. 3) | C24: 289863.83 | D24: 41258 | E24: =_xlfn.PERCENTOF(C24,_2023[[#Totals],[Pajamos]]) -> 0.013498468 | F24: =_xlfn.PERCENTOF(D24,_2023[[#Totals],[Žiūrovų skaičius]]) -> 0.011961073 | G24: 45051
B25: Noras (Wish) | C25: 218791.98 | D25: 41732 | E25: =_xlfn.PERCENTOF(C25,_2023[[#Totals],[Pajamos]]) -> 0.010188772 | F25: =_xlfn.PERCENTOF(D25,_2023[[#Totals],[Žiūrovų skaičius]]) -> 0.01209849 | G25: 45254
B26: Skruzdėliukas ir Vapsva. Kvantomanija (Ant-Man and the Wasp: Quantumania) | C26: 138551.31 | D26: 18918 | E26: =_xlfn.PERCENTOF(C26,_2023[[#Totals],[Pajamos]]) -> 0.0064520999 | F26: =_xlfn.PERCENTOF(D26,_2023[[#Totals],[Žiūrovų skaičius]]) -> 0.005484502 | G26: 44974
B27: Kūrėjas (The Creator) | C27: 131393.69 | D27: 19394 | E27: =_xlfn.PERCENTOF(C27,_2023[[#Totals],[Pajamos]]) -> 0.0061187817 | F27: =_xlfn.PERCENTOF(D27,_2023[[#Totals],[Žiūrovų skaičius]]) -> 0.0056224988 | G27: 45205
B28: Indiana Džounsas ir lemties artefaktas (Indiana Jones and the Dial of Destiny) | C28: 114182.14 | D28: 16885 | E28: =_xlfn.PERCENTOF(C28,_2023[[#Totals],[Pajamos]]) -> 0.0053172689 | F28: =_xlfn.PERCENTOF(D28,_2023[[#Totals],[Žiūrovų skaičius]]) -> 0.0048951167 | G28: 45107
B29: Undinėlė ( Little Mermaid) | C29: 93122.97 | D29: 17744 | E29: =_xlfn.PERCENTOF(C29,_2023[[#Totals],[Pajamos]]) -> 0.004336579 | F29: =_xlfn.PERCENTOF(D29,_2023[[#Totals],[Žiūrovų skaičius]]) -> 0.0051441486 | G29: 45072
B30: Kapitonė Marvel 2 (The Marvels) | C30: 92628.68 | D30: 12404 | E30: =_xlfn.PERCENTOF(C30,_2023[[#Totals],[Pajamos]]) -> 0.0043135608 | F30: =_xlfn.PERCENTOF(D30,_2023[[#Totals],[Žiūrovų skaičius]]) -> 0.0035960336 | G30: 45240
B31: Baubas (The Boogeyman) | C31: 78705.79 | D31: 12669 | E31: =_xlfn.PERCENTOF(C31,_2023[[#Totals],[Pajamos]]) -> 0.0036651954 | F31: =_xlfn.PERCENTOF(D31,_2023[[#Totals],[Žiūrovų skaičius]]) -> 0.0036728595 | G31: 45079
B32: Venecijos šmėklos ( A Haunting in Venice) | C32: 75765.48 | D32: 11511 | E32: =_xlfn.PERCENTOF(C32,_2023[[#Totals],[Pajamos]]) -> 0.0035282701 | F32: =_xlfn.PERCENTOF(D32,_2023[[#Totals],[Žiūrovų skaičius]]) -> 0.0033371447 | G32: 45184
B33: Salos vaiduokliai (The Banshees of Inisherin) | C33: 35674.9 | D33: 5736 | E33: =_xlfn.PERCENTOF(C33,_2023[[#Totals],[Pajamos]]) -> 0.0016613197 | F33: =_xlfn.PERCENTOF(D33,_2023[[#Totals],[Žiūrovų skaičius]]) -> 0.0016629191 | G33: 44960
B34: Dvaras, kuriame vaidenasi (Haunted Mansion) | C34: 27072.32 | D34: 4469 | E34: =_xlfn.PERCENTOF(C34,_2023[[#Totals],[Pajamos]]) -> 0.0012607121 | F34: =_xlfn.PERCENTOF(D34,_2023[[#Totals],[Žiūrovų skaičius]]) -> 0.0012956042 | G34: 45135
... B39: Raudonoji panda (Turning Red) | C39: 461 | D39: 202 | E39: =_xlfn.PERCENTOF(C39,_2023[[#Totals],[Pajamos]]) -> 2.1467989e-05 | F39: =_xlfn.PERCENTOF(D39,_2023[[#Totals],[Žiūrovų skaičius]]) -> 5.8561656e-05 | G39: 44631
A40: Theatrical Film Distribution / WDSMPI Total | B40: =COUNTA(B22:B39) -> 18 | C40: 3350459.9 | D40: 506427 | E40: =_xlfn.PERCENTOF(C40,_2023[[#Totals],[Pajamos]]) -> 0.15602524 | F40: =_xlfn.PERCENTOF(D40,_2023[[#Totals],[Žiūrovų skaičius]]) -> 0.14681784
A41: ACME Film / WB | B41: Barbė (Barbie) | C41: 1161203 | D41: 176697 | E41: =_xlfn.PERCENTOF(C41,_2023[[#Totals],[Pajamos]]) -> 0.054075257 | F41: =_xlfn.PERCENTOF(D41,_2023[[#Totals],[Žiūrovų skaičius]]) -> 0.051226084 | G41: 45128
B42: Vonka (Wonka) | C42: 332098.06 | D42: 57223 | E42: =_xlfn.PERCENTOF(C42,_2023[[#Totals],[Pajamos]]) -> 0.015465244 | F42: =_xlfn.PERCENTOF(D42,_2023[[#Totals],[Žiūrovų skaičius]]) -> 0.016589474 | G42: 45275
B43: Mumijos (Mummies) | C43: 326395.36 | D43: 64796 | E43: =_xlfn.PERCENTOF(C43,_2023[[#Totals],[Pajamos]]) -> 0.015199679 | F43: =_xlfn.PERCENTOF(D43,_2023[[#Totals],[Žiūrovų skaičius]]) -> 0.018784956 | G43: 44960
B44: Vienuolė 2 (The Nun II) | C44: 227673.31 | D44: 31366 | E44: =_xlfn.PERCENTOF(C44,_2023[[#Totals],[Pajamos]]) -> 0.010602361 | F44: =_xlfn.PERCENTOF(D44,_2023[[#Totals],[Žiūrovų skaičius]]) -> 0.0090932916 | G44: 45177
B45: Megalodonas 2: bedugnė (Meg 2: The Trench) | C45: 177418.62 | D45: 28583 | E45: =_xlfn.PERCENTOF(C45,_2023[[#Totals],[Pajamos]]) -> 0.0082620847 | F45: =_xlfn.PERCENTOF(D45,_2023[[#Totals],[Žiūrovų skaičius]]) -> 0.0082864743 | G45: 45142
B46: Magiškasis Maikas: Paskutinis šokis (Magic Mike's Last Dance) | C46: 146640.38 | D46: 19191 | E46: =_xlfn.PERCENTOF(C46,_2023[[#Totals],[Pajamos]]) -> 0.0068287942 | F46: =_xlfn.PERCENTOF(D46,_2023[[#Totals],[Žiūrovų skaičius]]) -> 0.0055636472 | G46: 44967
B47: Akvamenas 2: Prarasta karalystė (Aquaman and The Lost Kingdom) | C47: 128488.92 | D47: 17968 | E47: =_xlfn.PERCENTOF(C47,_2023[[#Totals],[Pajamos]]) -> 0.0059835114 | F47: =_xlfn.PERCENTOF(D47,_2023[[#Totals],[Žiūrovų skaičius]]) -> 0.0052090883 | G47: 45282
B48: Krydas III: Legenda tęsiasi (Creed 3) | C48: 84847.89 | D48: 12395 | E48: =_xlfn.PERCENTOF(C48,_2023[[#Totals],[Pajamos]]) -> 0.0039512226 | F48: =_xlfn.PERCENTOF(D48,_2023[[#Totals],[Žiūrovų skaičius]]) -> 0.0035934244 | G48: 44988
B49: Piktieji numirėliai prisikelia (Evil Dead Rise) | C49: 74288.55 | D49: 10671 | E49: =_xlfn.PERCENTOF(C49,_2023[[#Totals],[Pajamos]]) -> 0.003459492 | F49: =_xlfn.PERCENTOF(D49,_2023[[#Totals],[Žiūrovų skaičius]]) -> 0.003093621 | G49: 45037
...

Sheet 2023
A1: 2023
A2: Lietuvos kino teatruose rodytų filmų TOP
A5: Eil. Nr. | B5: Filmo pavadinimas | C5: Filmo pavadinimas originalo kalba | D5: Kilmės šalis | E5: Pajamos | F5: Žiūrovų skaičius | G5: Kopijų skaičius | H5: Premjeros data | I5: Platintojas
A6: =IF(B6<>"",ROWS($B$6:B6),"") -> 1 | B6: Įsikūnijimas. Vandens kelias | C6: Avatar: The Way of Water | D6: US | E6: 1483460.1 | F6: 192417 | G6: 31 | H6: 44911 | I6: Theatrical Film Distribution / WDSMPI
A7: =IF(B7<>"",ROWS($B$6:B7),"") -> 2 | B7: Barbė | C7: Barbie | D7: US, UK | E7: 1161203 | F7: 176697 | G7: 19 | H7: 45128 | I7: ACME Film / WB
A8: =IF(B8<>"",ROWS($B$6:B8),"") -> 3 | B8: Openheimeris | C8: Oppenheimer | D8: US, UK | E8: 1097581.1 | F8: 154454 | G8: 18 | H8: 45128 | I8: Dukine Film Distribution / Universal Pictures
A9: =IF(B9<>"",ROWS($B$6:B9),"") -> 4 | B9: ReEmigrantai | C9: ReEmigrantai | D9: LT | E9: 770657.85 | F9: 116667 | G9: 15 | H9: 44925 | I9: Stambus planas
A10: =IF(B10<>"",ROWS($B$6:B10),"") -> 5 | B10: Batuotas katinas Pūkis: paskutinis noras | C10: Puss in Boots: The Last Wish | D10: US, JP | E10: 736040.11 | F10: 135716 | G10: 28 | H10: 44916 | I10: Dukine Film Distribution / Universal Pictures
A11: =IF(B11<>"",ROWS($B$6:B11),"") -> 6 | B11: Broliai Super Mario. Filmas | C11: Super Mario Bros. | D11: JP, US | E11: 589367.38 | F11: 108584 | G11: 34 | H11: 45023 | I11: Dukine Film Distribution / Universal Pictures
A12: =IF(B12<>"",ROWS($B$6:B12),"") -> 7 | B12: Stichijos | C12: Elemental | D12: US | E12: 522025.99 | F12: 102722 | G12: 29 | H12: 45093 | I12: Theatrical Film Distribution / WDSMPI
A13: =IF(B13<>"",ROWS($B$6:B13),"") -> 8 | B13: Troliai 3 | C13: Trolls Band Together | D13: US | E13: 496382.79 | F13: 90012 | G13: 33 | H13: 45212 | I13: Dukine Film Distribution / Universal Pictures
A14: =IF(B14<>"",ROWS($B$6:B14),"") -> 9 | B14: Napoleonas | C14: Napoleon | D14: US, UK | E14: 441023.21 | F14: 60120 | G14: 21 | H14: 45261 | I14: ACME Film / SONY
A15: =IF(B15<>"",ROWS($B$6:B15),"") -> 10 | B15: Penkios naktys pas Fredį | C15: Five Nights at Freddy's | D15: US | E15: 418075.41 | F15: 62974 | G15: 16 | H15: 45226 | I15: Dukine Film Distribution / Universal Pictures
A16: =IF(B16<>"",ROWS($B$6:B16),"") -> 11 | B16: Milijonieriaus palikimas | C16: Milijonieriaus palikimas | D16: LT | E16: 380954 | F16: 50342 | G16: 24 | H16: 45289 | I16: Vabalo filmai
A17: =IF(B17<>"",ROWS($B$6:B17),"") -> 12 | B17: Greiti ir įsiutę 10 | C17: Fast & Furious 10 | D17: US | E17: 345634.42 | F17: 48283 | G17: 29 | H17: 45065 | I17: Dukine Film Distribution / Universal Pictures
... A110: =IF(B110<>"",ROWS($B$6:B110),"") -> 105 | B110: Aš ir Jis. Tikra katastrofa | C110: Beautiful disaster | D110: US | E110: 33742.62 | F110: 5143 | G110: 17 | H110: 45023 | I110: Adastra Cinema
A111: =IF(B111<>"",ROWS($B$6:B111),"") -> 106 | B111: 65: Išnykimo riba | C111: 65 | D111: US | E111: 33405.53 | F111: 5110 | G111: 13 | H111: 45016 | I111: ACME Film / SONY
A112: =IF(B112<>"",ROWS($B$6:B112),"") -> 107 | B112: Tiesiog sėkmė | C112: Coup de chance | D112: US | E112: 32326.9 | F112: 5048 | G112: 14 | H112: 45198 | I112: Adastra Cinema
A113: =IF(B113<>"",ROWS($B$6:B113),"") -> 108 | B113: Svajoklis Budis 3 | C113: Rock Dog 3 | D113: US | E113: 30808.97 | F113: 6617 | G113: 19 | H113: 45058 | I113: ACME Film
A114: =IF(B114<>"",ROWS($B$6:B114),"") -> 109 | B114: Bilietas | C114: Bilietas | D114: LT | E114: 30662.95 | F114: 4663 | G114: 12 | H114: 45219 | I114: Pilietinė medija
A115: =IF(B115<>"",ROWS($B$6:B115),"") -> 110 | B115: Ar vesi mane? | C115: Maybe I Do | D115: US | E115: 30282.72 | F115: 4435 | G115: 16 | H115: 44995 | I115: ACME Film
A116: =IF(B116<>"",ROWS($B$6:B116),"") -> 111 | B116: Kvaili pinigai | C116: Dumb Money | D116: US | E116: 29674.14 | F116: 4369 | G116: 17 | H116: 45212 | I116: ACME Film
A117: =IF(B117<>"",ROWS($B$6:B117),"") -> 112 | B117: Kalėdos Batsiuvių gatvėje | C117: Christmas on Cobbler Street | D117: NO | E117: 28893.99 | F117: 6255 | G117: 16 | H117: 45261 | I117: Unlimited Media OÜ
A118: =IF(B118<>"",ROWS($B$6:B118),"") -> 113 | B118: Fabelmanai | C118: The Fabelmans | D118: US | E118: 28863.14 | F118: 4908 | G118: 18 | H118: 44953 | I118: ACME Film
A119: =IF(B119<>"",ROWS($B$6:B119),"") -> 114 | B119: Begalybė | C119: L’immensita | D119: IT, FR | E119: 28282.74 | F119: 4541 | G119: 19 | H119: 45012 | I119: Europos kinas
A120: =IF(B120<>"",ROWS($B$6:B120),"") -> 115 | B120: Gražuolė ir Sebastianas. Naujoji karta | C120: Belle & Sebastien – Next Generation | D120: FR | E120: 27377 | F120: 6644 | G120: 18 | H120: 45051 | I120: Best Film
A121: =IF(B121<>"",ROWS($B$6:B121),"") -> 116 | B121: Dvaras, kuriame vaidenasi | C121: Haunted Mansion | D121: US | E121: 27072.32 | F121: 4469 | G121: 13 | H121: 45135 | I121: Theatrical Film Distribution / WDSMPI
A122: =IF(B122<>"",ROWS($B$6:B122),"") -> 117 | B122: Trys vagišiai ir liūtas | C122: When the Robbers Came to Cardamom Town | D122: NO | E122: 26765 | F122: 5701 | G122: 18 | H122: 44988 | I122: Garsų pasaulio įrašai
A123: =IF(B123<>"",ROWS($B$6:B123),"") -> 118 | B123: Broliai lokiai: Dingęs lobis (Boonie Bears: Guardian Code) | C123: Broliai lokiai: Dingęs lobis (Boonie Bears: Guardian Code) | D123: CN | E123: 26317.69 | F123: 5051 | G123: 16 | H123: 45233 | I123: Unlimited Media OÜ
... A250: =IF(B250<>"",ROWS($B$6:B250),"") -> 245 | B250: Dovbušas | C250: Dovbush | D250: UA | E250: 2506 | F250: 405 | G250: 8 | H250: 45184 | I250: Film Jam
A251: =IF(B251<>"",ROWS($B$6:B251),"") -> 246 | B251: Žydrasis kaftanas | C251: Le bleu du caftan | D251: ES | E251: 2446.56 | F251: 462 | G251: – | H251: 45051 | I251: A-One Films
A252: =IF(B252<>"",ROWS($B$6:B252),"") -> 247 | B252: Apačiai: Paryžiaus gauja | C252: Apache: Gang of Paris | D252: FR | E252: 2407.62 | F252: 392 | G252: 12 | H252: 45016 | I252: Theatrical Film Distribution
A253: =IF(B253<>"",ROWS($B$6:B253),"") -> 248 | B253: Falkonai | C253: Víti í Vestmannaeyjum | D253: IS | E253: 2367 | F253: 554 | G253: 1 | H253: 43574 | I253: KC Garsas
A254: =IF(B254<>"",ROWS($B$6:B254),"") -> 249 | B254: Jokūbas, Mimi ir kalbantys šunys | C254: Jekabs, Mimmi un runajosie suni | D254: LV, PL | E254: 2327 | F254: 657 | G254: 1 | H254: 44114 | I254: Skalvijos kino centras
A255: =IF(B255<>"",ROWS($B$6:B255),"") -> 250 | B255: Mano mama gorila | C255: Apstjärnan | D255: SE, DK, FI | E255: 2312 | F255: 658 | G255: 1 | H255: 44493 | I255: Skalvijos kino centras
A256: =IF(B256<>"",ROWS($B$6:B256),"") -> 251 | B256: Laiškas Ukrainai | C256: Laiškas Ukrainai | D256: LT | E256: 2305.38 | F256: 409 | G256: 14 | H256: 45163 | I256: Taip toliau
A257: =IF(B257<>"",ROWS($B$6:B257),"") -> 252 | B257: Disko berniukas | C257: Disco Boy | D257: FR | E257: 2302.1 | F257: 437 | G257: 9 | H257: 45156 | I257: Europos kinas
A258: =IF(B258<>"",ROWS($B$6:B258),"") -> 253 | B258: Superkomikė | C258: Comedy Queen | D258: SE | E258: 2281 | F258: 541 | G258: 2 | H258: 45225 | I258: Kino aljansas
A259: =IF(B259<>"",ROWS($B$6:B259),"") -> 254 | B259: De humani corporis fabrica | C259: De humani corporis fabrica | D259: FR | E259: 2190 | F259: 298 | G259: 4 | H259: 44974 | I259: Kino aljansas
A260: =IF(B260<>"",ROWS($B$6:B260),"") -> 255 | B260: Dičkis šuo Klifordas | C260: Clifford The Big Red Dog | D260: US | E260: 2180.6 | F260: 530 | G260: 3 | H260: 44568 | I260: Dukine Film Distribution / Paramount Pictures
...

Sheet Sausis
A1: ='2023'!A1 -> 2023
A2: ='2023'!A2 -> Lietuvos kino teatruose rodytų filmų TOP
A3: Sausis
A5: Eil. Nr. | B5: Filmo pavadinimas | C5: Filmo pavadinimas originalo kalba | D5: Kilmės šalis | E5: Pajamos | F5: Žiūrovų skaičius | G5: Kopijų skaičius | H5: Premjeros data | I5: Platintojas
A6: =IF(B6<>"",ROWS($B$6:B6),"") -> 1 | B6: Įsikūnijimas. Vandens kelias | C6: Avatar: The Way of Water | D6: US | E6: 1181797.2 | F6: 154396 | G6: 31 | H6: 44911 | I6: Theatrical Film Distribution / WDSMPI
A7: =IF(B7<>"",ROWS($B$6:B7),"") -> 2 | B7: ReEmigrantai | C7: ReEmigrantai | D7: LT | E7: 684509.09 | F7: 104083 | G7: 15 | H7: 44925 | I7: Stambus planas
A8: =IF(B8<>"",ROWS($B$6:B8),"") -> 3 | B8: Batuotas katinas Pūkis: paskutinis noras | C8: Puss in Boots: The Last Wish | D8: US, JP | E8: 505436.33 | F8: 92782 | G8: 28 | H8: 44916 | I8: Dukine Film Distribution / Universal Pictures
A9: =IF(B9<>"",ROWS($B$6:B9),"") -> 4 | B9: Miauricijus Puikusis | C9: Amazing Maurice | D9: UK, DE, US | E9: 110464.09 | F9: 22316 | G9: 25 | H9: 44925 | I9: Adastra Cinema
A10: =IF(B10<>"",ROWS($B$6:B10),"") -> 5 | B10: Aš noriu šokti. Whitney Houston filmas | C10: I wanna dance with somebody | D10: US | E10: 78751.19 | F10: 12364 | G10: 16 | H10: 44916 | I10: ACME Film / SONY
A11: =IF(B11<>"",ROWS($B$6:B11),"") -> 6 | B11: Gyveno kartą Oto | C11: Man Called Otto | D11: US | E11: 74880.96 | F11: 11708 | G11: 16 | H11: 44932 | I11: ACME Film / SONY
A12: =IF(B12<>"",ROWS($B$6:B12),"") -> 7 | B12: Sprogstančios vestuvės | C12: Shotgun Wedding | D12: US | E12: 72460.17 | F12: 11414 | G12: 14 | H12: 44939 | I12: ACME Film
A13: =IF(B13<>"",ROWS($B$6:B13),"") -> 8 | B13: M3gan | C13: M3gan | D13: US | E13: 69925.45 | F13: 11120 | G13: 13 | H13: 44939 | I13: Dukine Film Distribution / Universal Pictures
A14: =IF(B14<>"",ROWS($B$6:B14),"") -> 9 | B14: Babilonas | C14: Babylon | D14: US | E14: 66510.94 | F14: 9967 | G14: 19 | H14: 44946 | I14: Dukine Film Distribution / Paramount Pictures
A15: =IF(B15<>"",ROWS($B$6:B15),"") -> 10 | B15: Kiškių mokykla. Misija „Kiaušiniai“ | C15: Rabbit Academy. Mission Eggpossible | D15: DE | E15: 49636 | F15: 10272 | G15: 17 | H15: 44939 | I15: Garsų pasaulio įrašai
A16: =IF(B16<>"",ROWS($B$6:B16),"") -> 11 | B16: Tu mano deimantas | C16: Tu mano deimantas | D16: LT | E16: 49428.95 | F16: 7651 | G16: 23 | H16: 44946 | I16: Maobori production
A17: =IF(B17<>"",ROWS($B$6:B17),"") -> 12 | B17: Maskaradas | C17: Mascarade | D17: FR | E17: 35891.31 | F17: 5801 | G17: 17 | H17: 44932 | I17: Adastra Cinema
... A62: =IF(B62<>"",ROWS($B$6:B62),"") -> 57 | B62: Garsioji meškinų invazija į Siciliją | C62: La Fameuse Invasion des ours en Sicile | D62: FR, IT | E62: 38 | F62: 12 | G62: 1 | H62: 44008 | I62: Europos kinas
E63: =SUBTOTAL(109,Sausis[Pajamos]) -> 3157794.3 | F63: =SUBTOTAL(109,Sausis[Žiūrovų skaičius]) -> 484460

Sheet Vasaris
A1: ='2023'!A1 -> 2023
A2: ='2023'!A2 -> Lietuvos kino teatruose rodytų filmų TOP
A3: Vasaris
A5: Eil. Nr. | B5: Filmo pavadinimas | C5: Filmo pavadinimas originalo kalba | D5: Kilmės šalis | E5: Pajamos | F5: Žiūrovų skaičius | G5: Kopijų skaičius | H5: Premjeros data | I5: Platintojas
A6: =IF(B6<>"",ROWS($B$6:B6),"") -> 1 | B6: Įsikūnijimas. Vandens kelias | C6: Avatar: The Way of Water | D6: US | E6: 252817.88 | F6: 31349 | G6: 26 | H6: 44911 | I6: Theatrical Film Distribution / WDSMPI
A7: =IF(B7<>"",ROWS($B$6:B7),"") -> 2 | B7: Vyrų svajonės | C7: Vyrų svajonės | D7: LT | E7: 231708.2 | F7: 34157 | G7: 14 | H7: 44960 | I7: Dublis LT
A8: =IF(B8<>"",ROWS($B$6:B8),"") -> 3 | B8: Mumijos | C8: Mummies | D8: ES | E8: 230862.84 | F8: 46090 | G8: 19 | H8: 44960 | I8: ACME Film / WB
A9: =IF(B9<>"",ROWS($B$6:B9),"") -> 4 | B9: Batuotas katinas Pūkis: paskutinis noras | C9: Puss in Boots: The Last Wish | D9: US, JP | E9: 158501.51 | F9: 29205 | G9: 26 | H9: 44916 | I9: Dukine Film Distribution / Universal Pictures
A10: =IF(B10<>"",ROWS($B$6:B10),"") -> 5 | B10: Poetas | C10: Poetas | D10: LT | E10: 148501.49 | F10: 23937 | G10: 22 | H10: 44974 | I10: ACME Film
A11: =IF(B11<>"",ROWS($B$6:B11),"") -> 6 | B11: Magiškasis Maikas: Paskutinis šokis | C11: Magic Mike's Last Dance | D11: US | E11: 138423.26 | F11: 18015 | G11: 14 | H11: 44967 | I11: ACME Film / WB
A12: =IF(B12<>"",ROWS($B$6:B12),"") -> 7 | B12: Skruzdėliukas ir Vapsva. Kvantomanija | C12: Ant-Man and the Wasp: Quantumania | D12: US | E12: 114865.27 | F12: 15252 | G12: 25 | H12: 44974 | I12: Theatrical Film Distribution / WDSMPI
A13: =IF(B13<>"",ROWS($B$6:B13),"") -> 8 | B13: Rose Namajunas: Aš esu čempionė | C13: Thug Rose | D13: US | E13: 105242.12 | F13: 15715 | G13: 22 | H13: 44967 | I13: Europos kinas
A14: =IF(B14<>"",ROWS($B$6:B14),"") -> 9 | B14: ReEmigrantai | C14: ReEmigrantai | D14: LT | E14: 74271.71 | F14: 10876 | G14: 13 | H14: 44925 | I14: Stambus planas
A15: =IF(B15<>"",ROWS($B$6:B15),"") -> 10 | B15: Operacija Fortūna: Apgaulės menas | C15: Operation Fortune: Ruse de Guer | D15: US, CH, UK, TR | E15: 60997.66 | F15: 9085 | G15: 17 | H15: 44953 | I15: ACME Film
A16: =IF(B16<>"",ROWS($B$6:B16),"") -> 11 | B16: Avarinis nusileidimas | C16: Plane | D16: US, UK | E16: 43064.88 | F16: 6343 | G16: 10 | H16: 44967 | I16: ACME Film
A17: =IF(B17<>"",ROWS($B$6:B17),"") -> 12 | B17: Babilonas | C17: Babylon | D17: US | E17: 28631.6 | F17: 4254 | G17: 11 | H17: 44946 | I17: Dukine Film Distribution / Paramount
... A85: =IF(B85<>"",ROWS($B$6:B85),"") -> 80 | B85: Garsioji meškinų invazija į Siciliją | C85: La Fameuse Invasion des ours en Sicile | D85: FR, IT | E85: 6 | F85: 2 | G85: 1 | H85: 44008 | I85: Europos kinas
E86: =SUBTOTAL(109,Table3_Vasaris[Pajamos]) -> 1946085.3 | F86: =SUBTOTAL(109,Table3_Vasaris[Žiūrovų skaičius]) -> 305912

Sheet Kovas
A1: ='2023'!A1 -> 2023
A2: ='2023'!A2 -> Lietuvos kino teatruose rodytų filmų TOP
A3: Kovas
A5: Eil. Nr. | B5: Filmo pavadinimas | C5: Filmo pavadinimas originalo kalba | D5: Kilmės šalis | E5: Pajamos | F5: Žiūrovų skaičius | G5: Kopijų skaičius | H5: Premjeros data | I5: Platintojas
A6: =IF(B6<>"",ROWS($B$6:B6),"") -> 1 | B6: Paradas | C6: Paradas | D6: LT | E6: 210825.62 | F6: 33203 | G6: 19 | H6: 44988 | I6: Po mokyklos
A7: =IF(B7<>"",ROWS($B$6:B7),"") -> 2 | B7: Džonas Vikas 4 | C7: John Wick Chapter Four | D7: US | E7: 160068.54 | F7: 22758 | G7: 17 | H7: 45009 | I7: ACME Film
A8: =IF(B8<>"",ROWS($B$6:B8),"") -> 3 | B8: Poetas | C8: Poetas | D8: LT | E8: 120488.21 | F8: 21175 | G8: 20 | H8: 44974 | I8: ACME Film
A9: =IF(B9<>"",ROWS($B$6:B9),"") -> 4 | B9: Klyksmas 6 | C9: Scream 6 | D9: US | E9: 107702.86 | F9: 15158 | G9: 18 | H9: 44995 | I9: Dukine Film Distribution / Paramount Pictures
A10: =IF(B10<>"",ROWS($B$6:B10),"") -> 5 | B10: Banginis | C10: The Whale | D10: US | E10: 95028.44 | F10: 14958 | G10: 21 | H10: 44981 | I10: Theatrical Film Distribution
A11: =IF(B11<>"",ROWS($B$6:B11),"") -> 6 | B11: Krydas III: Legenda tęsiasi | C11: Creed 3 | D11: US | E11: 82689.1 | F11: 12098 | G11: 14 | H11: 44988 | I11: ACME Film / WB
A12: =IF(B12<>"",ROWS($B$6:B12),"") -> 7 | B12: Mumijos | C12: Mummies | D12: ES | E12: 71250 | F12: 13826 | G12: 12 | H12: 44960 | I12: ACME Film / WB
A13: =IF(B13<>"",ROWS($B$6:B13),"") -> 8 | B13: Batuotas katinas Pūkis: paskutinis noras | C13: Puss in Boots: The Last Wish | D13: US, JP | E13: 52007.69 | F13: 9463 | G13: 12 | H13: 44916 | I13: Dukine Film Distribution / Universal Pictures
A14: =IF(B14<>"",ROWS($B$6:B14),"") -> 9 | B14: Asteriksas ir Obeliksas: Drakonų imperija | C14: Asterix and Obelix: The Middle Kingdom | D14: FR | E14: 46820.72 | F14: 8384 | G14: 16 | H14: 45002 | I14: ACME Film
A15: =IF(B15<>"",ROWS($B$6:B15),"") -> 10 | B15: Įsikūnijimas. Vandens kelias | C15: Avatar: The Way of Water | D15: US | E15: 45073.94 | F15: 6107 | G15: 11 | H15: 44911 | I15: Theatrical Film Distribution / WDSMPI
A16: =IF(B16<>"",ROWS($B$6:B16),"") -> 11 | B16: Detektyvas Sanis | C16: Inspector Sun and the curse of the black widow | D16: ES | E16: 44597.71 | F16: 9281 | G16: 18 | H16: 44981 | I16: Adastra Cinema
A17: =IF(B17<>"",ROWS($B$6:B17),"") -> 12 | B17: Shazam! Dievų įniršis | C17: Shazam! Fury of the Gods | D17: US | E17: 42165.47 | F17: 6743 | G17: 15 | H17: 45002 | I17: ACME Film / WB
... A36: =IF(B36<>"",ROWS($B$6:B36),"") -> 31 | B36: Miauricijus Puikusis | C36: Amazing Maurice | D36: UK, DE, US | E36: 5406.18 | F36: 1116 | G36: 4 | H36: 44925 | I36: Adastra Cinema
A37: =IF(B37<>"",ROWS($B$6:B37),"") -> 32 | B37: 65: Išnykimo riba | C37: 65 | D37: US | E37: 5392.83 | F37: 841 | G37: 13 | H37: 45016 | I37: ACME Film / SONY
A38: =IF(B38<>"",ROWS($B$6:B38),"") -> 33 | B38: Apverstas bokštas | C38: Tagurpidi torn | D38: LV, EE | E38: 4532 | F38: 1124 | G38: – | H38: 44807 | I38: Skalvijos kino centras
A39: =IF(B39<>"",ROWS($B$6:B39),"") -> 34 | B39: Po saulės | C39: After sun | D39: US, UK | E39: 4493.33 | F39: 840 | G39: – | H39: 45012 | I39: Europos kinas
A40: =IF(B40<>"",ROWS($B$6:B40),"") -> 35 | B40: Babilonas | C40: Babylon | D40: US | E40: 4386.5 | F40: 789 | G40: 4 | H40: 44946 | I40: Dukine Film Distribution / Paramount
A41: =IF(B41<>"",ROWS($B$6:B41),"") -> 36 | B41: Metas išeiti | C41: Decision to Leave | D41: KR | E41: 4332.9 | F41: 891 | G41: 1 | H41: 45012 | I41: Europos kinas
A42: =IF(B42<>"",ROWS($B$6:B42),"") -> 37 | B42: Riminis | C42: Rimini | D42: AT | E42: 3648.6 | F42: 829 | G42: 5 | H42: 44988 | I42: A-One Films
A43: =IF(B43<>"",ROWS($B$6:B43),"") -> 38 | B43: Paskutinis šokis | C43: Last Dance | D43: BE, CH | E43: 3560.03 | F43: 790 | G43: – | H43: 45012 | I43: Europos kinas
A44: =IF(B44<>"",ROWS($B$6:B44),"") -> 39 | B44: Broliai lokiai: atgal į žemę | C44: Boonie Bears: Back to Earth | D44: DE | E44: 3317.47 | F44: 692 | G44: 13 | H44: 45016 | I44: Unlimited Media OÜ
A45: =IF(B45<>"",ROWS($B$6:B45),"") -> 40 | B45: Drugelio Širdis | C45: Drugelio Širdis | D45: LT | E45: 1904 | F45: 545 | G45: 1 | H45: 44659 | I45: ACME Film
A46: =IF(B46<>"",ROWS($B$6:B46),"") -> 41 | B46: Deivo bankas | C46: Bank of Dave | D46: UK | E46: 1827.07 | F46: 297 | G46: 9 | H46: 44995 | I46: Adastra Cinema
A47: =IF(B47<>"",ROWS($B$6:B47),"") -> 42 | B47: Kiara | C47: A Chiara | D47: FR, IT | E47: 1799.2 | F47: 369 | G47: 3 | H47: 44981 | I47: Best Film
A48: =IF(B48<>"",ROWS($B$6:B48),"") -> 43 | B48: Maskaradas | C48: Mascarade | D48: FR | E48: 1634.7 | F48: 283 | G48: 1 | H48: 44932 | I48: Adastra Cinema
A49: =IF(B49<>"",ROWS($B$6:B49),"") -> 44 | B49: Aš noriu šokti. Whitney Houston filmas | C49: I wanna dance with somebody | D49: US | E49: 1589 | F49: 321 | G49: 2 | H49: 44916 | I49: ACME Film / SONY
A50: =IF(B50<>"",ROWS($B$6:B50),"") -> 45 | B50: Bloga nuo savęs | C50: Syk Pike | D50: NO, SE | E50: 1543.3 | F50: 255 | G50: 3 | H50: 44939 | I50: Estinfilm
A51: =IF(B51<>"",ROWS($B$6:B51),"") -> 46 | B51: Sparta | C51: Sparta | D51: AT | E51: 1375.2 | F51: 272 | G51: 2 | H51: 44988 | I51: A-One Films
A52: =IF(B52<>"",ROWS($B$6:B52),"") -> 47 | B52: Ekskursantė | C52: The Excursionist | D52: LT | E52: 1183.9901 | F52: 418 | G52: 2 | H52: 41544 | I52: Cinemark
A53: =IF(B53<>"",ROWS($B$6:B53),"") -> 48 | B53: Labiau nei bet kada | C53: Plus que jamais | D53: FR | E53: 1063.3 | F53: 188 | G53: 4 | H53: 44967 | I53: Best Film
A54: =IF(B54<>"",ROWS($B$6:B54),"") -> 49 | B54: Kuo čia dėta meilė? | C54: Whats Love Got To Do With It | D54: UK | E54: 968.55 | F54: 206 | G54: 2 | H54: 44974 | I54: ACME Film
A55: =IF(B55<>"",ROWS($B$6:B55),"") -> 50 | B55: Net ir pelės keliauja į dangų | C55: I mysi patrí do nebe | D55: CZ, FR, PL, SK | E55: 945 | F55: 212 | G55: 1 | H55: 44716 | I55: Skalvijos kino centras
A56: =IF(B56<>"",ROWS($B$6:B56),"") -> 51 | B56: Meile mano | C56: Love Life | D56: JP, FR | E56: 932.76 | F56: 188 | G56: – | H56: 45012 | I56: Europos kinas
A57: =IF(B57<>"",ROWS($B$6:B57),"") -> 52 | B57: Žaltvykslė | C57: Fogo-Fátuo | D57: PT | E57: 903 | F57: 173 | G57: 2 | H57: 44981 | I57: A-One Films
A58: =IF(B58<>"",ROWS($B$6:B58),"") -> 53 | B58: Gražus sūnus | C58: Beautiful Boy | D58: US | E58: 796 | F58: 148 | G58: 1 | H58: 43560 | I58: Europos kinas
A59: =IF(B59<>"",ROWS($B$6:B59),"") -> 54 | B59: Apačiai: Paryžiaus gauja | C59: Apache: Gang of Paris | D59: FR | E59: 784.18 | F59: 121 | G59: 12 | H59: 45016 | I59: Theatrical Film Distribution
...

Sheet Balandis
A1: ='2023'!A1 -> 2023
A2: ='2023'!A2 -> Lietuvos kino teatruose rodytų filmų TOP
A3: Balandis
A5: Eil. Nr. | B5: Filmo pavadinimas | C5: Filmo pavadinimas originalo kalba | D5: Kilmės šalis | E5: Pajamos | F5: Žiūrovų skaičius | G5: Kopijų skaičius | H5: Premjeros data | I5: Platintojas
A6: =IF(B6<>"",ROWS($B$6:B6),"") -> 1 | B6: Broliai Super Mario. Filmas | C6: Super Mario Bros. | D6: JP, US | E6: 421870.51 | F6: 76092 | G6: 34 | H6: 45023 | I6: Dukine Film Distribution / Universal Pictures
A7: =IF(B7<>"",ROWS($B$6:B7),"") -> 2 | B7: Džonas Vikas 4 | C7: John Wick Chapter Four | D7: US | E7: 153361.61 | F7: 20204 | G7: 13 | H7: 45009 | I7: ACME Film
A8: =IF(B8<>"",ROWS($B$6:B8),"") -> 3 | B8: Kakė Makė: mano filmas | C8: Kakė Makė: mano filmas | D8: LT | E8: 145560.45 | F8: 28761 | G8: 16 | H8: 45037 | I8: Nj world
A9: =IF(B9<>"",ROWS($B$6:B9),"") -> 4 | B9: Popiežiaus egzorcistas | C9: Pope's Exorcist | D9: US | E9: 122296.46 | F9: 17659 | G9: 14 | H9: 45023 | I9: ACME Film / SONY
A10: =IF(B10<>"",ROWS($B$6:B10),"") -> 5 | B10: Požemiai ir drakonai. Garbė tarp vagių | C10: Dungeons & Dragons: Honor Among Thieves | D10: US, CA | E10: 58119.05 | F10: 8785 | G10: 15 | H10: 45016 | I10: Dukine Film Distribution / Paramount Pictures
A11: =IF(B11<>"",ROWS($B$6:B11),"") -> 6 | B11: Piktieji numirėliai prisikelia | C11: Evil Dead Rise | D11: NZ, US, IE | E11: 49960.69 | F11: 7114 | G11: 14 | H11: 45037 | I11: ACME Film/ WB
A12: =IF(B12<>"",ROWS($B$6:B12),"") -> 7 | B12: Mafia Mamma | C12: Mafia Mamma | D12: IT, UK | E12: 47437 | F12: 7132 | G12: 17 | H12: 45030 | I12: Garsų pasaulio įrašai
A13: =IF(B13<>"",ROWS($B$6:B13),"") -> 8 | B13: AIR | C13: AIR | D13: US | E13: 47269.96 | F13: 7571 | G13: 16 | H13: 45030 | I13: ACME Film / WB
A14: =IF(B14<>"",ROWS($B$6:B14),"") -> 9 | B14: Broliai lokiai: atgal į žemę | C14: Boonie Bears: Back to Earth | D14: DE | E14: 37325.81 | F14: 7597 | G14: 15 | H14: 45016 | I14: Unlimited Media OÜ
A15: =IF(B15<>"",ROWS($B$6:B15),"") -> 10 | B15: Aš ir Jis. Tikra katastrofa | C15: Beautiful disaster | D15: US | E15: 33305.56 | F15: 5079 | G15: 17 | H15: 45023 | I15: Adastra Cinema
A16: =IF(B16<>"",ROWS($B$6:B16),"") -> 11 | B16: Suzume | C16: Suzume | D16: JP | E16: 31602.52 | F16: 4940 | G16: 12 | H16: 45030 | I16: ACME Film / SONY
A17: =IF(B17<>"",ROWS($B$6:B17),"") -> 12 | B17: 65: Išnykimo riba | C17: 65 | D17: US | E17: 28012.7 | F17: 4269 | G17: 13 | H17: 45016 | I17: ACME Film / SONY
A18: =IF(B18<>"",ROWS($B$6:B18),"") -> 13 | B18: Mumijos | C18: Mummies | D18: ES | E18: 22702.6 | F18: 4460 | G18: 10 | H18: 44960 | I18: ACME Film / WB
A19: =IF(B19<>"",ROWS($B$6:B19),"") -> 14 | B19: Tvirtas užnugaris | C19: The Covenant | D19: UK, ES | E19: 21627.07 | F19: 2724 | G19: 15 | H19: 45044 | I19: ACME Film
A20: =IF(B20<>"",ROWS($B$6:B20),"") -> 15 | B20: Paradas | C20: Paradas | D20: LT | E20: 19422.61 | F20: 2896 | G20: 8 | H20: 44988 | I20: Po mokyklos
A21: =IF(B21<>"",ROWS($B$6:B21),"") -> 16 | B21: Banginis | C21: The Whale | D21: US | E21: 17859.67 | F21: 2657 | G21: 11 | H21: 44981 | I21: Theatrical Film Distribution
A22: =IF(B22<>"",ROWS($B$6:B22),"") -> 17 | B22: Asteriksas ir Obeliksas: Drakonų imperija | C22: Asterix and Obelix: The Middle Kingdom | D22: FR | E22: 17717.92 | F22: 3367 | G22: 11 | H22: 45002 | I22: ACME Film
A23: =IF(B23<>"",ROWS($B$6:B23),"") -> 18 | B23: Batuotas katinas Pūkis: paskutinis noras | C23: Puss in Boots: The Last Wish | D23: US, JP | E23: 17404.58 | F23: 3323 | G23: 8 | H23: 44916 | I23: Dukine Film Distribution / Universal Pictures
A24: =IF(B24<>"",ROWS($B$6:B24),"") -> 19 | B24: Aštuoni kalnai | C24: The Eight Mountains | D24: IT, BE, FR | E24: 15084.18 | F24: 3856 | G24: 16 | H24: 45012 | I24: Europos kinas
A25: =IF(B25<>"",ROWS($B$6:B25),"") -> 20 | B25: Erikas Akmenširdis | C25: Erik Kivisüda | D25: EE, LV, LT, LU, FI, UA | E25: 14104 | F25: 3105 | G25: 18 | H25: 45037 | I25: Garsų pasaulio įrašai
A26: =IF(B26<>"",ROWS($B$6:B26),"") -> 21 | B26: Petsi Iš Argo | C26: Argonuts | D26: FR | E26: 14078.06 | F26: 2638 | G26: 19 | H26: 45045 | I26: Adastra Cinema
A27: =IF(B27<>"",ROWS($B$6:B27),"") -> 22 | B27: Tar | C27: Tár | D27: US | E27: 12600.27 | F27: 1903 | G27: 1 | H27: Preview | I27: Dukine Film Distribution / Universal Pictures
A28: =IF(B28<>"",ROWS($B$6:B28),"") -> 23 | B28: Renfildas | C28: Renfield | D28: US | E28: 12318.18 | F28: 1867 | G28: 15 | H28: 45030 | I28: Dukine Film Distribution / Universal Pictures
A29: =IF(B29<>"",ROWS($B$6:B29),"") -> 24 | B29: Klyksmas 6 | C29: Scream 6 | D29: US | E29: 12178.78 | F29: 1718 | G29: 7 | H29: 44995 | I29: Dukine Film Distribution / Paramount Pictures
A30: =IF(B30<>"",ROWS($B$6:B30),"") -> 25 | B30: Begalybė | C30: L’immensita | D30: IT, FR | E30: 9770.85 | F30: 2560.5 | G30: 19 | H30: 45012 | I30: Europos kinas
A31: =IF(B31<>"",ROWS($B$6:B31),"") -> 26 | B31: Trys muškietininkai: D'artanjanas | C31: Three Musketeers: D'Artagnan) | D31: FR | E31: 7845.35 | F31: 1284 | G31: 16 | H31: 45030 | I31: Theatrical Film Distribution
A32: =IF(B32<>"",ROWS($B$6:B32),"") -> 27 | B32: Filip | C32: Filip | D32: PL | E32: 7708.89 | F32: 1265 | G32: 10 | H32: 45030 | I32: Travolta
A33: =IF(B33<>"",ROWS($B$6:B33),"") -> 28 | B33: Poetas | C33: Poetas | D33: LT | E33: 6778.93 | F33: 1161 | G33: 11 | H33: 44974 | I33: ACME Film
A34: =IF(B34<>"",ROWS($B$6:B34),"") -> 29 | B34: Mizantropas | C34: To Catch a Killer | D34: US | E34: 6635.22 | F34: 1091 | G34: 13 | H34: 45037 | I34: Adastra Cinema
A35: =IF(B35<>"",ROWS($B$6:B35),"") -> 30 | B35: Metas išeiti | C35: Decision to Leave | D35: KR | E35: 6448.71 | F35: 1004 | G35: 12 | H35: 45012 | I35: Europos kinas
A36: =IF(B36<>"",ROWS($B$6:B36),"") -> 31 | B36: Sugrįžimas į Seulą | C36: Retour à Séoul | D36: FR | E36: 6126.94 | F36: 1125 | G36: 11 | H36: 45023 | I36: A-One Films
A37: =IF(B37<>"",ROWS($B$6:B37),"") -> 32 | B37: Paskutinis šokis | C37: Last Dance | D37: BE, CH | E37: 5598.49 | F37: 897 | G37: 10 | H37: 45012 | I37: Europos kinas
A38: =IF(B38<>"",ROWS($B$6:B38),"") -> 33 | B38: Visos Bo baimės | C38: Beau is afraid | D38: US | E38: 5265.12 | F38: 824 | G38: 21 | H38: 45044 | I38: Adastra Cinema
A39: =IF(B39<>"",ROWS($B$6:B39),"") -> 34 | B39: Po saulės | C39: After sun | D39: US, UK | E39: 5262.82 | F39: 821 | G39: 11 | H39: 45012 | I39: Europos kinas
... A47: =IF(B47<>"",ROWS($B$6:B47),"") -> 42 | B47: Mikė Pūkuotukas: Kraujas ir medus | C47: Winnie the Pooh: Blood and Honey | D47: DE | E47: 2663.53 | F47: 393 | G47: 4 | H47: 45023 | I47: Unlimited Media OÜ
A48: =IF(B48<>"",ROWS($B$6:B48),"") -> 43 | B48: Kilnojamos durys | C48: Portable door | D48: AU | E48: 2470.14 | F48: 384 | G48: - | H48: 45044 | I48: Baltic Content Media
...

Sheet Gegužė
A1: ='2023'!A1 -> 2023
A2: ='2023'!A2 -> Lietuvos kino teatruose rodytų filmų TOP
A3: Gegužė
A5: Eil. Nr. | B5: Filmo pavadinimas | C5: Filmo pavadinimas originalo kalba | D5: Kilmės šalis | E5: Pajamos | F5: Žiūrovų skaičius | G5: Kopijų skaičius | H5: Premjeros data | I5: Platintojas
A6: =IF(B6<>"",ROWS($B$6:B6),"") -> 1 | B6: Galaktikos sergėtojai. III dalis | C6: Guardians of the Galaxy Vol. 3 | D6: US | E6: 233931.5 | F6: 32282 | G6: 28 | H6: 45051 | I6: Theatrical Film Distribution / WDSMPI
A7: =IF(B7<>"",ROWS($B$6:B7),"") -> 2 | B7: Greiti ir įsiutę 10 | C7: Fast & Furious 10 | D7: US | E7: 231572.72 | F7: 31210 | G7: 29 | H7: 45065 | I7: Dukine Film Distribution / Universal Pictures
A8: =IF(B8<>"",ROWS($B$6:B8),"") -> 3 | B8: Broliai Super Mario. Filmas | C8: Super Mario Bros. | D8: JP, US | E8: 98595.19 | F8: 18207 | G8: 26 | H8: 45023 | I8: Dukine Film Distribution / Universal Pictures
A9: =IF(B9<>"",ROWS($B$6:B9),"") -> 4 | B9: Kakė Makė: mano filmas | C9: Kakė Makė: mano filmas | D9: LT | E9: 86196.69 | F9: 17200 | G9: 15 | H9: 45037 | I9: Nj world
A10: =IF(B10<>"",ROWS($B$6:B10),"") -> 5 | B10: Tvirtas užnugaris | C10: The Covenant | D10: UK, ES | E10: 26301.15 | F10: 3961 | G10: 15 | H10: 45044 | I10: ACME Film
A11: =IF(B11<>"",ROWS($B$6:B11),"") -> 6 | B11: Piktieji numirėliai prisikelia | C11: Evil Dead Rise | D11: NZ, US, IE | E11: 23652.17 | F11: 3440 | G11: 13 | H11: 45037 | I11: ACME Film / WB
A12: =IF(B12<>"",ROWS($B$6:B12),"") -> 7 | B12: Svajoklis Budis 3 | C12: Rock Dog 3 | D12: US | E12: 23166.22 | F12: 4890 | G12: 19 | H12: 45058 | I12: ACME Film
A13: =IF(B13<>"",ROWS($B$6:B13),"") -> 8 | B13: Hipnotikai | C13: Hypnotic | D13: US | E13: 22692.23 | F13: 3519 | G13: 16 | H13: 45058 | I13: ACME Film
A14: =IF(B14<>"",ROWS($B$6:B14),"") -> 9 | B14: Pamilti dar kartą | C14: Love Again | D14: US | E14: 21568.17 | F14: 3178 | G14: 16 | H14: 45058 | I14: ACME Film / SONY
A15: =IF(B15<>"",ROWS($B$6:B15),"") -> 10 | B15: Undinėlė | C15: Little Mermaid | D15: US | E15: 20836.45 | F15: 3942 | G15: 16 | H15: 45072 | I15: Theatrical Film Distribution / WDSMPI
A16: =IF(B16<>"",ROWS($B$6:B16),"") -> 11 | B16: Petsi Iš Argo | C16: Argonuts | D16: FR | E16: 20591.8 | F16: 4286 | G16: 19 | H16: 45045 | I16: Adastra Cinema
A17: =IF(B17<>"",ROWS($B$6:B17),"") -> 12 | B17: Gražuolė ir Sebastianas. Naujoji karta | C17: Belle & Sebastien – Next Generation | D17: FR | E17: 19916.09 | F17: 4498 | G17: 16 | H17: 45051 | I17: Best Film
... A21: =IF(B21<>"",ROWS($B$6:B21),"") -> 16 | B21: BlackBerry | C21: BlackBerry | D21: CA | E21: 8668 | F21: 1448 | G21: 18 | H21: 45058 | I21: Garsų pasaulio įrašai
A22: =IF(B22<>"",ROWS($B$6:B22),"") -> 17 | B22: Žmogus-voras: Aplink multivisatą | C22: Spiderman Across the Spiderverse | D22: US | E22: 6397.52 | F22: 983 | G22: 10 | H22: Preview | I22: ACME Film / SONY
A23: =IF(B23<>"",ROWS($B$6:B23),"") -> 18 | B23: Kandaharas (Kandahar) | C23: Kandaharas (Kandahar) | D23: US | E23: 6170.64 | F23: 1028 | G23: 9 | H23: 45072 | I23: Baltic Content Media
A24: =IF(B24<>"",ROWS($B$6:B24),"") -> 19 | B24: AIR | C24: AIR | D24: US | E24: 5914.57 | F24: 945 | G24: 6 | H24: 45030 | I24: ACME Film / WB
A25: =IF(B25<>"",ROWS($B$6:B25),"") -> 20 | B25: Mafia Mamma | C25: Mafia Mamma | D25: IT, UK | E25: 5425 | F25: 863 | G25: 9 | H25: 45030 | I25: Garsų pasaulio įrašai
A26: =IF(B26<>"",ROWS($B$6:B26),"") -> 21 | B26: Visos Bo baimės | C26: Beau is afraid | D26: US | E26: 4927.85 | F26: 852 | G26: 19 | H26: 45044 | I26: Adastra Cinema
A27: =IF(B27<>"",ROWS($B$6:B27),"") -> 22 | B27: Dalilendas | C27: Daliland | D27: US, UK, FR | E27: 4515.95 | F27: 813 | G27: 15 | H27: 45065 | I27: Theatrical Film Distribution
A28: =IF(B28<>"",ROWS($B$6:B28),"") -> 23 | B28: Suzume | C28: Suzume | D28: JP | E28: 3919.47 | F28: 635 | G28: 6 | H28: 45030 | I28: Acme Film / SONY
A29: =IF(B29<>"",ROWS($B$6:B29),"") -> 24 | B29: Gyvenimas be Jango | C29: After Yang | D29: US | E29: 3842.6 | F29: 868 | G29: 8 | H29: 45058 | I29: A-One Films
A30: =IF(B30<>"",ROWS($B$6:B30),"") -> 25 | B30: Kitų žmonių vaikai | C30: Other People’s Children | D30: FR | E30: 3539.5 | F30: 630 | G30: 18 | H30: 45051 | I30: Europos kinas
A31: =IF(B31<>"",ROWS($B$6:B31),"") -> 26 | B31: Požemiai ir drakonai. Garbė tarp vagių | C31: Dungeons & Dragons: Honor Among Thieves | D31: US, CA | E31: 3421.06 | F31: 534 | G31: 3 | H31: 45016 | I31: Dukine Film Distribution / Paramount Pictures
A32: =IF(B32<>"",ROWS($B$6:B32),"") -> 27 | B32: Paradas | C32: Paradas | D32: LT | E32: 3168.8 | F32: 480 | G32: 3 | H32: 44988 | I32: Po mokyklos
A33: =IF(B33<>"",ROWS($B$6:B33),"") -> 28 | B33: Tar | C33: Tár | D33: US | E33: 2848.4 | F33: 537 | G33: 3 | H33: 45047 | I33: Dukine Film Distribution / Universal Pictures
A34: =IF(B34<>"",ROWS($B$6:B34),"") -> 29 | B34: Influencerė | C34: Influencer | D34: US | E34: 2663.57 | F34: 488 | G34: 4 | H34: 45065 | I34: Baltic Content Media
A35: =IF(B35<>"",ROWS($B$6:B35),"") -> 30 | B35: Mažasis Alanas | C35: Lille Allan – den menneskelige antenna | D35: DK | E35: 2540.82 | F35: 629 | G35: 6 | H35: 45072 | I35: Estinfilm
A36: =IF(B36<>"",ROWS($B$6:B36),"") -> 31 | B36: Žydrasis kaftanas | C36: Le bleu du caftan | D36: ES | E36: 2446.56 | F36: 462 | G36: – | H36: 45051 | I36: A-One Films
A37: =IF(B37<>"",ROWS($B$6:B37),"") -> 32 | B37: Aštuoni kalnai | C37: The Eight Mountains | D37: IT, BE, FR | E37: 2363.3 | F37: 398 | G37: 5 | H37: 45012 | I37: Europos kinas
A38: =IF(B38<>"",ROWS($B$6:B38),"") -> 33 | B38: Poetas | C38: Poetas | D38: LT | E38: 2293.6 | F38: 466 | G38: 3 | H38: 44974 | I38: ACME Film
A39: =IF(B39<>"",ROWS($B$6:B39),"") -> 34 | B39: Banginis | C39: The Whale | D39: US | E39: 2162.1 | F39: 423 | G39: 5 | H39: 44981 | I39: Theatrical Film Distribution
A40: =IF(B40<>"",ROWS($B$6:B40),"") -> 35 | B40: Begalybė | C40: L’immensita | D40: IT, FR | E40: 2078.19 | F40: 390 | G40: 5 | H40: 45012 | I40: Europos kinas
A41: =IF(B41<>"",ROWS($B$6:B41),"") -> 36 | B41: Sugrįžimas į Seulą | C41: Retour à Séoul | D41: FR | E41: 1994.2 | F41: 533 | G41: 1 | H41: 45023 | I41: A-One Films
A42: =IF(B42<>"",ROWS($B$6:B42),"") -> 37 | B42: Homo Vilutis | C42: Homo Vilutis | D42: LT | E42: 1560.2 | F42: 281 | G42: 10 | H42: 45043 | I42: A Propos studija
A43: =IF(B43<>"",ROWS($B$6:B43),"") -> 38 | B43: Kilnojamos durys | C43: Portable door | D43: AU | E43: 1475.36 | F43: 240 | G43: 7 | H43: 45044 | I43: Baltic Content Media
A44: =IF(B44<>"",ROWS($B$6:B44),"") -> 39 | B44: Murena | C44: Murina | D44: HR | E44: 1225 | F44: 350 | G44: 1 | H44: 44696 | I44: A-One Films
...

Sheet Birželis
A1: ='2023'!A1 -> 2023
A2: ='2023'!A2 -> Lietuvos kino teatruose rodytų filmų TOP
A3: Birželis
A5: Eil. Nr. | B5: Filmo pavadinimas | C5: Filmo pavadinimas originalo kalba | D5: Kilmės šalis | E5: Pajamos | F5: Žiūrovų skaičius | G5: Kopijų skaičius | H5: Premjeros data | I5: Platintojas
A6: =IF(B6<>"",ROWS($B$6:B6),"") -> 1 | B6: Žmogus-voras: Aplink Multivistą | C6: Spider-Man: Across The Spider-Verse | D6: US | E6: 260230.14 | F6: 43719 | G6: 18 | H6: 45079 | I6: ACME Film / SONY
A7: =IF(B7<>"",ROWS($B$6:B7),"") -> 2 | B7: Stichijos | C7: Elemental | D7: US | E7: 194074.99 | F7: 39230 | G7: 29 | H7: 45093 | I7: Theatrical Film Distribution / WDSMPI
A8: =IF(B8<>"",ROWS($B$6:B8),"") -> 3 | B8: Transformeriai. Žvėrių atgimimas | C8: Transformers: Rise of the Beasts | D8: US | E8: 133536.75 | F8: 20410 | G8: 24 | H8: 45086 | I8: Dukine Film Distribution / Paramount Pictures
A9: =IF(B9<>"",ROWS($B$6:B9),"") -> 4 | B9: Greiti ir įsiutę 10 | C9: Fast & Furious 10 | D9: US | E9: 108316.75 | F9: 16152 | G9: 23 | H9: 45065 | I9: Dukine Film Distribution / Universal Pictures
A10: =IF(B10<>"",ROWS($B$6:B10),"") -> 5 | B10: Baubas | C10: The Boogeyman | D10: US, CA | E10: 65693.39 | F10: 10518 | G10: 15 | H10: 45079 | I10: Theatrical Film Distribution / WDSMPI
A11: =IF(B11<>"",ROWS($B$6:B11),"") -> 6 | B11: Undinėlė | C11: Little Mermaid | D11: US | E11: 62172.49 | F11: 11868 | G11: 16 | H11: 45072 | I11: Theatrical Film Distribution / WDSMPI
A12: =IF(B12<>"",ROWS($B$6:B12),"") -> 7 | B12: Nieko asmeniško | C12: No Hard Feelings | D12: US | E12: 58854.22 | F12: 7923 | G12: 15 | H12: 45100 | I12: ACME Film / SONY
A13: =IF(B13<>"",ROWS($B$6:B13),"") -> 8 | B13: Broliai Super Mario. Filmas | C13: Super Mario Bros. | D13: JP, US | E13: 56013.8 | F13: 11566 | G13: 16 | H13: 45023 | I13: Dukine Film Distribution / Universal Pictures
A14: =IF(B14<>"",ROWS($B$6:B14),"") -> 9 | B14: Blyksnis | C14: Flash | D14: US | E14: 53851.2 | F14: 8500 | G14: 15 | H14: 45093 | I14: ACME Film / WB
A15: =IF(B15<>"",ROWS($B$6:B15),"") -> 10 | B15: Galaktikos sergėtojai. III dalis | C15: Guardians of the Galaxy Vol. 3 | D15: US | E15: 45421.46 | F15: 7263 | G15: 14 | H15: 45051 | I15: Theatrical Film Distribution / WDSMPI
A16: =IF(B16<>"",ROWS($B$6:B16),"") -> 11 | B16: Asteroidų miestas | C16: Asteroid City | D16: US | E16: 42274.91 | F16: 6906 | G16: 18 | H16: 45086 | I16: Dukine Film Distribution / Universal Pictures
A17: =IF(B17<>"",ROWS($B$6:B17),"") -> 12 | B17: Kakė Makė: mano filmas | C17: Kakė Makė: mano filmas | D17: LT | E17: 14331.49 | F17: 3072 | G17: 12 | H17: 45037 | I17: Nj world
... A66: =IF(B66<>"",ROWS($B$6:B66),"") -> 61 | B66: Paskutinis šokis | C66: Last Dance | D66: BE, CH | E66: 639.9 | F66: 97 | G66: 3 | H66: 45012 | I66: Europos kinas
A67: =IF(B67<>"",ROWS($B$6:B67),"") -> 62 | B67: Mavka Forest Song | C67: Mavka Forest Song | D67: UA, US | E67: 575 | F67: 115 | G67: 1 | H67: Preview | I67: ACME Film
A68: =IF(B68<>"",ROWS($B$6:B68),"") -> 63 | B68: Begalybė | C68: L’immensita | D68: IT, FR | E68: 559.7 | F68: 93 | G68: 3 | H68: 45012 | I68: Europos kinas
A69: =IF(B69<>"",ROWS($B$6:B69),"") -> 64 | B69: Apverstas bokštas | C69: Tagurpidi torn | D69: LV, EE | E69: 472 | F69: 122 | G69: 1 | H69: 44807 | I69: Skalvijos kino centras
A70: =IF(B70<>"",ROWS($B$6:B70),"") -> 65 | B70: Bloga nuo savęs | C70: Syk Pike | D70: NO, SE | E70: 468.5 | F70: 70 | G70: 1 | H70: 44939 | I70: Estinfilm
A71: =IF(B71<>"",ROWS($B$6:B71),"") -> 66 | B71: Arčiau debesų | C71: Cloudboy | D71: BG, SE, NL, NO | E71: 443 | F71: 105 | G71: 1 | H71: 42988 | I71: Skalvijos kino centras
A72: =IF(B72<>"",ROWS($B$6:B72),"") -> 67 | B72: Po saulės | C72: After sun | D72: US, UK | E72: 416.65 | F72: 66 | G72: 4 | H72: 45012 | I72: Europos kinas
A73: =IF(B73<>"",ROWS($B$6:B73),"") -> 68 | B73: Kur dingo Ana Frank? | C73: Where Is Anne Frank | D73: PL, BE, LU, FR, NL | E73: 412 | F73: 102 | G73: 1 | H73: 44694 | I73: Estinfilm
A74: =IF(B74<>"",ROWS($B$6:B74),"") -> 69 | B74: Banginis | C74: The Whale | D74: US | E74: 338.1 | F74: 58 | G74: 2 | H74: 44981 | I74: Theatrical Film Distribution
A75: =IF(B75<>"",ROWS($B$6:B75),"") -> 70 | B75: Kitų žmonių vaikai | C75: Other People’s Children | D75: FR | E75: 335.5 | F75: 62 | G75: 3 | H75: 45051 | I75: Europos kinas
A76: =IF(B76<>"",ROWS($B$6:B76),"") -> 71 | B76: Mafia Mamma | C76: Mafia Mamma | D76: IT, UK | E76: 312 | F76: 55 | G76: 2 | H76: 45030 | I76: Garsų pasaulio įrašai
A77: =IF(B77<>"",ROWS($B$6:B77),"") -> 72 | B77: Dar vienas alibi | C77: Alibi.com 2 | D77: FR | E77: 299.5 | F77: 45 | G77: 2 | H77: 45106 | I77: Estinfilm
A78: =IF(B78<>"",ROWS($B$6:B78),"") -> 73 | B78: Hipnotikai | C78: Hypnotic | D78: US | E78: 290.24 | F78: 48 | G78: 3 | H78: 45058 | I78: ACME Film
A79: =IF(B79<>"",ROWS($B$6:B79),"") -> 74 | B79: Nekaltas | C79: The Innocent | D79: FR | E79: 279.25 | F79: 59 | G79: 5 | H79: 45065 | I79: Europos kinas
... A101: =IF(B101<>"",ROWS($B$6:B101),"") -> 96 | B101: Adamant | C101: On the Adamant | D101: FR | E101: 4.8 | F101: 1 | G101: 1 | H101: 45093 | I101: Europos kinas
E102: =SUBTOTAL(109,Table3_Birželis[Pajamos]) -> 1240752.9 | F102: =SUBTOTAL(109,Table3_Birželis[Žiūrovų skaičius]) -> 219300

Sheet Liepa
A1: ='2023'!A1 -> 2023
A2: ='2023'!A2 -> Lietuvos kino teatruose rodytų filmų TOP
A3: Liepa
A5: Eil. Nr. | B5: Filmo pavadinimas | C5: Filmo pavadinimas originalo kalba | D5: Kilmės šalis | E5: Pajamos | F5: Žiūrovų skaičius | G5: Kopijų skaičius | H5: Premjeros data | I5: Platintojas
A6: =IF(B6<>"",ROWS($B$6:B6),"") -> 1 | B6: Barbė | C6: Barbie | D6: US, UK | E6: 635128.13 | F6: 93201 | G6: 18 | H6: 45128 | I6: ACME Film / WB
A7: =IF(B7<>"",ROWS($B$6:B7),"") -> 2 | B7: Openheimeris | C7: Oppenheimer | D7: US, UK | E7: 467919.76 | F7: 66655 | G7: 17 | H7: 45128 | I7: Dukine Film Distribution / Universal Pictures
A8: =IF(B8<>"",ROWS($B$6:B8),"") -> 3 | B8: Tūnąs tamsoje: Raudonos durys (Insidious: The Red Door) | C8: Tūnąs tamsoje: Raudonos durys (Insidious: The Red Door) | D8: CA | E8: 189244.99 | F8: 26644 | G8: 13 | H8: 45114 | I8: ACME Film / SONY
A9: =IF(B9<>"",ROWS($B$6:B9),"") -> 4 | B9: Stichijos | C9: Elemental | D9: US | E9: 186331.11 | F9: 35673 | G9: 24 | H9: 45093 | I9: Theatrical Film Distribution / WDSMPI
A10: =IF(B10<>"",ROWS($B$6:B10),"") -> 5 | B10: Neįmanoma misija: Mirtinas atpildas. Pirma dalis | C10: Mission: Impossible - Dead Reckoning Part One | D10: US | E10: 148424.92 | F10: 21333 | G10: 17 | H10: 45121 | I10: Dukine Film Distribution / Paramount Pictures
A11: =IF(B11<>"",ROWS($B$6:B11),"") -> 6 | B11: Mavka Forest Song | C11: Mavka Forest Song | D11: UA, US | E11: 143339.92 | F11: 28366 | G11: 16 | H11: 45121 | I11: ACME Film
A12: =IF(B12<>"",ROWS($B$6:B12),"") -> 7 | B12: Indiana Džounsas ir lemties artefaktas | C12: Indiana Jones and the Dial of Destiny | D12: US | E12: 100023.84 | F12: 14856 | G12: 16 | H12: 45107 | I12: Theatrical Film Distribution / WDSMPI
A13: =IF(B13<>"",ROWS($B$6:B13),"") -> 8 | B13: Jūrų pabaisa. Rubė Gilman | C13: Ruby Gillman, Teenage Kraken | D13: US | E13: 82803.28 | F13: 17633 | G13: 19 | H13: 45107 | I13: Dukine Film Distribution / Universal Pictures
A14: =IF(B14<>"",ROWS($B$6:B14),"") -> 9 | B14: Nieko asmeniško | C14: No Hard Feelings | D14: US | E14: 61959.78 | F14: 9541 | G14: 12 | H14: 45100 | I14: ACME Film / SONY
A15: =IF(B15<>"",ROWS($B$6:B15),"") -> 10 | B15: Žmogus-voras: Aplink Multivistą | C15: Spider-Man: Across The Spider-Verse | D15: US | E15: 57859.06 | F15: 10071 | G15: 13 | H15: 45079 | I15: ACME Film / SONY
A16: =IF(B16<>"",ROWS($B$6:B16),"") -> 11 | B16: Transformeriai. Žvėrių atgimimas | C16: Transformers: Rise of the Beasts | D16: US | E16: 38483.12 | F16: 6122 | G16: 14 | H16: 45086 | I16: Dukine Film Distribution / Paramount Pictures
A17: =IF(B17<>"",ROWS($B$6:B17),"") -> 12 | B17: Ričis didysis | C17: Richard the Stork and the Mystery of the Great Jewel | D17: DE, BE, NO | E17: 33727 | F17: 7169 | G17: 15 | H17: 45128 | I17: Garsų pasaulio įrašai
... A73: =IF(B73<>"",ROWS($B$6:B73),"") -> 68 | B73: Suzume | C73: Suzume | D73: JP | E73: 22.2 | F73: 3 | G73: 1 | H73: 45030 | I73: Acme Film / SONY
E74: =SUBTOTAL(109,Table3_Liepa[Pajamos]) -> 2301483.1 | F74: =SUBTOTAL(109,Table3_Liepa[Žiūrovų skaičius]) -> 365972

Sheet Rugpjūtis
A1: ='2023'!A1 -> 2023
A2: ='2023'!A2 -> Lietuvos kino teatruose rodytų filmų TOP
A3: Rugpjūtis
A5: Eil. Nr. | B5: Filmo pavadinimas | C5: Filmo pavadinimas originalo kalba | D5: Kilmės šalis | E5: Pajamos | F5: Žiūrovų skaičius | G5: Kopijų skaičius | H5: Premjeros data | I5: Platintojas
A6: =IF(B6<>"",ROWS($B$6:B6),"") -> 1 | B6: Openheimeris | C6: Oppenheimer | D6: US, UK | E6: 498921.9 | F6: 68732 | G6: 18 | H6: 45128 | I6: Dukine Film Distribution / Universal Pictures
A7: =IF(B7<>"",ROWS($B$6:B7),"") -> 2 | B7: Barbė | C7: Barbie | D7: US, UK | E7: 460632.73 | F7: 73300 | G7: 19 | H7: 45128 | I7: ACME Film / WB
A8: =IF(B8<>"",ROWS($B$6:B8),"") -> 3 | B8: Megalodonas 2: bedugnė | C8: Meg 2: The Trench | D8: US, CN | E8: 166159.18 | F8: 26823 | G8: 16 | H8: 45142 | I8: ACME Film / WB
A9: =IF(B9<>"",ROWS($B$6:B9),"") -> 4 | B9: Gran Turismo | C9: Gran Turismo | D9: US | E9: 163321.71 | F9: 25964 | G9: 15 | H9: 45149 | I9: ACME Film / SONY
A10: =IF(B10<>"",ROWS($B$6:B10),"") -> 5 | B10: Stichijos | C10: Elemental | D10: US | E10: 84867.74 | F10: 17349 | G10: 12 | H10: 45093 | I10: Theatrical Film Distribution / WDSMPI
A11: =IF(B11<>"",ROWS($B$6:B11),"") -> 6 | B11: Vėžliukai nindzės: mutantų siautėjimas | C11: Teenage Mutant Ninja Turtles: Mutant Mayhem | D11: US | E11: 69391.46 | F11: 13771 | G11: 19 | H11: 45142 | I11: Dukine Film Distribution / Paramount Pictures
A12: =IF(B12<>"",ROWS($B$6:B12),"") -> 7 | B12: Mavka Forest Song | C12: Mavka Forest Song | D12: UA, US | E12: 56764.12 | F12: 12219 | G12: 17 | H12: 45121 | I12: ACME Film
A13: =IF(B13<>"",ROWS($B$6:B13),"") -> 8 | B13: Neįmanoma misija: Mirtinas atpildas. Pirma dalis | C13: Mission: Impossible - Dead Reckoning Part One | D13: US | E13: 45654.61 | F13: 7020 | G13: 12 | H13: 45121 | I13: Dukine Film Distribution / Paramount Pictures
A14: =IF(B14<>"",ROWS($B$6:B14),"") -> 9 | B14: Greiti ir pūkuoti | C14: Rally Road Racers | D14: UK | E14: 37787.87 | F14: 8278 | G14: 18 | H14: 45163 | I14: Adastra Cinema
A15: =IF(B15<>"",ROWS($B$6:B15),"") -> 10 | B15: Kalbėk su manimi | C15: Talk to Me | D15: AU | E15: 36583 | F15: 6146 | G15: 14 | H15: 45163 | I15: Garsų pasaulio įrašai
A16: =IF(B16<>"",ROWS($B$6:B16),"") -> 11 | B16: Mėlynas vabalas | C16: Blue Beetle | D16: US | E16: 35959.06 | F16: 6058 | G16: 15 | H16: 45156 | I16: ACME Film / WB
